BEGIN:VCALENDAR
VERSION:2.0
PRODID:-//Vännernas samfund (kväkarna) - ECPv6.15.20//NONSGML v1.0//EN
CALSCALE:GREGORIAN
METHOD:PUBLISH
X-WR-CALNAME:Vännernas samfund (kväkarna)
X-ORIGINAL-URL:https://www.kvakare.se
X-WR-CALDESC:Händelser för Vännernas samfund (kväkarna)
REFRESH-INTERVAL;VALUE=DURATION:PT1H
X-Robots-Tag:noindex
X-PUBLISHED-TTL:PT1H
BEGIN:VTIMEZONE
TZID:Europe/Helsinki
BEGIN:DAYLIGHT
TZOFFSETFROM:+0200
TZOFFSETTO:+0300
TZNAME:EEST
DTSTART:20250330T010000
END:DAYLIGHT
BEGIN:STANDARD
TZOFFSETFROM:+0300
TZOFFSETTO:+0200
TZNAME:EET
DTSTART:20251026T010000
END:STANDARD
BEGIN:DAYLIGHT
TZOFFSETFROM:+0200
TZOFFSETTO:+0300
TZNAME:EEST
DTSTART:20260329T010000
END:DAYLIGHT
BEGIN:STANDARD
TZOFFSETFROM:+0300
TZOFFSETTO:+0200
TZNAME:EET
DTSTART:20261025T010000
END:STANDARD
BEGIN:DAYLIGHT
TZOFFSETFROM:+0200
TZOFFSETTO:+0300
TZNAME:EEST
DTSTART:20270328T010000
END:DAYLIGHT
BEGIN:STANDARD
TZOFFSETFROM:+0300
TZOFFSETTO:+0200
TZNAME:EET
DTSTART:20271031T010000
END:STANDARD
END:VTIMEZONE
BEGIN:VEVENT
DTSTART;TZID=Europe/Helsinki:20260425T110000
DTEND;TZID=Europe/Helsinki:20260425T130000
DTSTAMP:20260425T014737
CREATED:20260204T185250Z
LAST-MODIFIED:20260204T185251Z
UID:10025896-1777114800-1777122000@www.kvakare.se
SUMMARY:Andakt (Småland)
DESCRIPTION:Alvesta.
URL:https://www.kvakare.se/event/andakt-smaland-4/
ATTACH;FMTTYPE=image/png:https://www.kvakare.se/wp-content/uploads/2024/02/image.png
ORGANIZER;CN="Kv%C3%A4karna i Sm%C3%A5land":MAILTO:smaland@kvakare.se
END:VEVENT
BEGIN:VEVENT
DTSTART;TZID=Europe/Helsinki:20260425T150000
DTEND;TZID=Europe/Helsinki:20260425T160000
DTSTAMP:20260425T014737
CREATED:20251210T124619Z
LAST-MODIFIED:20251210T124620Z
UID:10025365-1777129200-1777132800@www.kvakare.se
SUMMARY:Andakt (Uppsala)
DESCRIPTION:Linnégatan 1.
URL:https://www.kvakare.se/event/andakt-uppsala-7/
ATTACH;FMTTYPE=image/png:https://www.kvakare.se/wp-content/uploads/2024/02/image.png
ORGANIZER;CN="Kv%C3%A4karna i Uppsala":MAILTO:uppsala@kvakare.se
END:VEVENT
BEGIN:VEVENT
DTSTART;TZID=Europe/Helsinki:20260425T160000
DTEND;TZID=Europe/Helsinki:20260425T163000
DTSTAMP:20260425T014737
CREATED:20260110T171052Z
LAST-MODIFIED:20260308T094820Z
UID:10023934-1777132800-1777134600@www.kvakare.se
SUMMARY:Eftermiddagsandakt med George Fox (Online)
DESCRIPTION:Du är välkommen att i stillhet och gemenskap upptäcka mer om kväkarnas andliga arv. Mitt i helgens alla måsten stannar vi upp för att vara med i en halvtimmes andakt som varje lördag inleds med ett nytt citat av George Fox. \n\n\n\nAndakterna börjar klockan 16.00 och slutar klockan 16.30.Kom när du kan! Välkommen! \n\n\n\nFör att få citaten i förväg kontakta: goteborg@kvakare.se.
URL:https://www.kvakare.se/event/eftermiddagsandakt-med-george-fox-online/2026-04-25/
ATTACH;FMTTYPE=image/jpeg:https://www.kvakare.se/wp-content/uploads/2024/01/George-Fox.jpg
ORGANIZER;CN="Kv%C3%A4karna i G%C3%B6teborg":MAILTO:goteborg@kvakare.se
END:VEVENT
END:VCALENDAR