BEGIN:VCALENDAR
VERSION:2.0
PRODID:-//Vännernas samfund (kväkarna) - ECPv6.15.20//NONSGML v1.0//EN
CALSCALE:GREGORIAN
METHOD:PUBLISH
X-WR-CALNAME:Vännernas samfund (kväkarna)
X-ORIGINAL-URL:https://www.kvakare.se
X-WR-CALDESC:Händelser för Vännernas samfund (kväkarna)
REFRESH-INTERVAL;VALUE=DURATION:PT1H
X-Robots-Tag:noindex
X-PUBLISHED-TTL:PT1H
BEGIN:VTIMEZONE
TZID:Europe/Helsinki
BEGIN:DAYLIGHT
TZOFFSETFROM:+0200
TZOFFSETTO:+0300
TZNAME:EEST
DTSTART:20250330T010000
END:DAYLIGHT
BEGIN:STANDARD
TZOFFSETFROM:+0300
TZOFFSETTO:+0200
TZNAME:EET
DTSTART:20251026T010000
END:STANDARD
BEGIN:DAYLIGHT
TZOFFSETFROM:+0200
TZOFFSETTO:+0300
TZNAME:EEST
DTSTART:20260329T010000
END:DAYLIGHT
BEGIN:STANDARD
TZOFFSETFROM:+0300
TZOFFSETTO:+0200
TZNAME:EET
DTSTART:20261025T010000
END:STANDARD
BEGIN:DAYLIGHT
TZOFFSETFROM:+0200
TZOFFSETTO:+0300
TZNAME:EEST
DTSTART:20270328T010000
END:DAYLIGHT
BEGIN:STANDARD
TZOFFSETFROM:+0300
TZOFFSETTO:+0200
TZNAME:EET
DTSTART:20271031T010000
END:STANDARD
END:VTIMEZONE
BEGIN:VEVENT
DTSTART;TZID=Europe/Helsinki:20260428T190000
DTEND;TZID=Europe/Helsinki:20260428T200000
DTSTAMP:20260419T175759
CREATED:20260418T210255Z
LAST-MODIFIED:20260418T210257Z
UID:10026442-1777402800-1777406400@www.kvakare.se
SUMMARY:De många aspekterna av vårt vittnesbörd om enkelhet (Online)
DESCRIPTION:Ett enklare liv är någonting som många längtar efter i en värld som blir alltmer komplext och som ger oss mer valmöjligheter än vi mår bra av. Många upplever att de saknar tid för det som känns viktigt i livet och är oroliga för effekten av vår konsumtion\, för miljön\, mänskliga rättigheter och levnadsvillkoren för alla varelser på jorden. Här kan vårt vittnesbörd av enkelhet vara till stor hjälp i den personliga vägledningen.
URL:https://www.kvakare.se/event/de-manga-aspekterna-av-vart-vittnesbord-om-enkelhet-online/
ATTACH;FMTTYPE=image/jpeg:https://www.kvakare.se/wp-content/uploads/2025/08/image001.jpg
ORGANIZER;CN="De %C3%84ldste":MAILTO:elders@kvakare.se
END:VEVENT
END:VCALENDAR