BEGIN:VCALENDAR
VERSION:2.0
PRODID:-//Vännernas samfund (kväkarna) - ECPv6.15.20//NONSGML v1.0//EN
CALSCALE:GREGORIAN
METHOD:PUBLISH
X-ORIGINAL-URL:https://www.kvakare.se
X-WR-CALDESC:Händelser för Vännernas samfund (kväkarna)
REFRESH-INTERVAL;VALUE=DURATION:PT1H
X-Robots-Tag:noindex
X-PUBLISHED-TTL:PT1H
BEGIN:VTIMEZONE
TZID:Europe/Helsinki
BEGIN:DAYLIGHT
TZOFFSETFROM:+0200
TZOFFSETTO:+0300
TZNAME:EEST
DTSTART:20240331T010000
END:DAYLIGHT
BEGIN:STANDARD
TZOFFSETFROM:+0300
TZOFFSETTO:+0200
TZNAME:EET
DTSTART:20241027T010000
END:STANDARD
BEGIN:DAYLIGHT
TZOFFSETFROM:+0200
TZOFFSETTO:+0300
TZNAME:EEST
DTSTART:20250330T010000
END:DAYLIGHT
BEGIN:STANDARD
TZOFFSETFROM:+0300
TZOFFSETTO:+0200
TZNAME:EET
DTSTART:20251026T010000
END:STANDARD
BEGIN:DAYLIGHT
TZOFFSETFROM:+0200
TZOFFSETTO:+0300
TZNAME:EEST
DTSTART:20260329T010000
END:DAYLIGHT
BEGIN:STANDARD
TZOFFSETFROM:+0300
TZOFFSETTO:+0200
TZNAME:EET
DTSTART:20261025T010000
END:STANDARD
END:VTIMEZONE
BEGIN:VEVENT
DTSTART;TZID=Europe/Helsinki:20250316T140000
DTEND;TZID=Europe/Helsinki:20250316T150000
DTSTAMP:20260421T205908
CREATED:20240903T073859Z
LAST-MODIFIED:20241128T160545Z
UID:10003155-1742133600-1742137200@www.kvakare.se
SUMMARY:Andakt i Lund
DESCRIPTION:Vi möts på Liberiet\, en röd byggnad mellan Domkyrkan och Domkyrkoforum\, Kungsgatan 5\, Lund. \n\n\n\nDu behöver inte höra av dig innan men kom i tid\, porten låses 13.55 \n\n\n\nUpplysningar lund@kvakare.se
URL:https://www.kvakare.se/event/andakt-i-lund-2/2025-03-16/
END:VEVENT
BEGIN:VEVENT
DTSTART;TZID=Europe/Helsinki:20250316T140000
DTEND;TZID=Europe/Helsinki:20250316T150000
DTSTAMP:20260421T205908
CREATED:20250123T183828Z
LAST-MODIFIED:20250131T180648Z
UID:10003358-1742133600-1742137200@www.kvakare.se
SUMMARY:Andakt i Östergötland
DESCRIPTION:I Norrköping. Maila ostergotland@kvakare.se för mer information.
URL:https://www.kvakare.se/event/andakt-i-ostergotland-3/
ATTACH;FMTTYPE=image/png:https://www.kvakare.se/wp-content/uploads/2024/02/image.png
END:VEVENT
BEGIN:VEVENT
DTSTART;TZID=Europe/Helsinki:20250319T190000
DTEND;TZID=Europe/Helsinki:20250319T200000
DTSTAMP:20260421T205908
CREATED:20250224T185109Z
LAST-MODIFIED:20250301T102911Z
UID:10003394-1742410800-1742414400@www.kvakare.se
SUMMARY:Digital andakt
DESCRIPTION:Vi sitter tillsammans i tystnad och stillhet under cirka en timme för att rikta vår uppmärksamhet inåt. Den som känner sig manad från sitt inre att kort dela något under stillheten får gärna göra det. De som vill stannar kvar en liten stund efteråt för samtal och reflektioner kring tankar som kommit upp under andakten\, eller kring något ämne som någon känner är angeläget.Rummet på Zoom öppnar 15 min innan utannonserad tid. Zoomlänken är: https://us06web.zoom.us/j/5611372992 (Meeting ID: 561 137 2992). Om det är första gången du deltar kan gärna förbereda dig genom att läsa ’Ditt första andaktsmöte’ eller annan information här på hemsidan.
URL:https://www.kvakare.se/event/digital-andakt-5/
ATTACH;FMTTYPE=image/jpeg:https://www.kvakare.se/wp-content/uploads/2025/02/andakt-telefon.jpg
END:VEVENT
BEGIN:VEVENT
DTSTART;TZID=Europe/Helsinki:20250320T190000
DTEND;TZID=Europe/Helsinki:20250320T193000
DTSTAMP:20260421T205908
CREATED:20220522T094836Z
LAST-MODIFIED:20220522T094836Z
UID:10020157-1742497200-1742499000@www.kvakare.se
SUMMARY:Andakt i Stockholm
DESCRIPTION:Stockholms andaktsmöte bjuder in till en halvtimmes andakt. Alla är välkomna. Du behöver inte anmäla dig.
URL:https://www.kvakare.se/event/andakt-i-stockholm-5-2022-11-10-3/
LOCATION:Kväkargården\, Kristinehovsgatan 6\, Stockholm\, 11729\, Sverige
CATEGORIES:Andakt
ORGANIZER;CN="Kv%C3%A4karna i Stockholm":MAILTO:stockholm@kvakare.se
GEO:59.3181548;18.0409199
X-APPLE-STRUCTURED-LOCATION;VALUE=URI;X-ADDRESS=Kväkargården Kristinehovsgatan 6 Stockholm 11729 Sverige;X-APPLE-RADIUS=500;X-TITLE=Kristinehovsgatan 6:geo:18.0409199,59.3181548
END:VEVENT
BEGIN:VEVENT
DTSTART;TZID=Europe/Helsinki:20250320T190000
DTEND;TZID=Europe/Helsinki:20250320T193000
DTSTAMP:20260421T205908
CREATED:20220522T094836Z
LAST-MODIFIED:20220522T094836Z
UID:10015979-1742497200-1742499000@www.kvakare.se
SUMMARY:Andakt i Stockholm
DESCRIPTION:Stockholms andaktsmöte bjuder in till en halvtimmes andakt. Alla är välkomna. Du behöver inte anmäla dig.
URL:https://www.kvakare.se/event/andakt-i-stockholm-5-2023-01-19-2/
LOCATION:Kväkargården\, Kristinehovsgatan 6\, Stockholm\, 11729\, Sverige
CATEGORIES:Andakt
ORGANIZER;CN="Kv%C3%A4karna i Stockholm":MAILTO:stockholm@kvakare.se
GEO:59.3181548;18.0409199
X-APPLE-STRUCTURED-LOCATION;VALUE=URI;X-ADDRESS=Kväkargården Kristinehovsgatan 6 Stockholm 11729 Sverige;X-APPLE-RADIUS=500;X-TITLE=Kristinehovsgatan 6:geo:18.0409199,59.3181548
END:VEVENT
BEGIN:VEVENT
DTSTART;TZID=Europe/Helsinki:20250320T190000
DTEND;TZID=Europe/Helsinki:20250320T193000
DTSTAMP:20260421T205908
CREATED:20220522T094836Z
LAST-MODIFIED:20220522T094836Z
UID:10011722-1742497200-1742499000@www.kvakare.se
SUMMARY:Andakt i Stockholm
DESCRIPTION:Stockholms andaktsmöte bjuder in till en halvtimmes andakt. Alla är välkomna. Du behöver inte anmäla dig.
URL:https://www.kvakare.se/event/andakt-i-stockholm-5-2022-11-03-2/
LOCATION:Kväkargården\, Kristinehovsgatan 6\, Stockholm\, 11729\, Sverige
CATEGORIES:Andakt
ORGANIZER;CN="Kv%C3%A4karna i Stockholm":MAILTO:stockholm@kvakare.se
GEO:59.3181548;18.0409199
X-APPLE-STRUCTURED-LOCATION;VALUE=URI;X-ADDRESS=Kväkargården Kristinehovsgatan 6 Stockholm 11729 Sverige;X-APPLE-RADIUS=500;X-TITLE=Kristinehovsgatan 6:geo:18.0409199,59.3181548
END:VEVENT
BEGIN:VEVENT
DTSTART;TZID=Europe/Helsinki:20250320T190000
DTEND;TZID=Europe/Helsinki:20250320T193000
DTSTAMP:20260421T205908
CREATED:20220522T094836Z
LAST-MODIFIED:20220522T094836Z
UID:10010582-1742497200-1742499000@www.kvakare.se
SUMMARY:Andakt i Stockholm
DESCRIPTION:Stockholms andaktsmöte bjuder in till en halvtimmes andakt. Alla är välkomna. Du behöver inte anmäla dig.
URL:https://www.kvakare.se/event/andakt-i-stockholm-5-2023-03-09/
LOCATION:Kväkargården\, Kristinehovsgatan 6\, Stockholm\, 11729\, Sverige
CATEGORIES:Andakt
ORGANIZER;CN="Kv%C3%A4karna i Stockholm":MAILTO:stockholm@kvakare.se
GEO:59.3181548;18.0409199
X-APPLE-STRUCTURED-LOCATION;VALUE=URI;X-ADDRESS=Kväkargården Kristinehovsgatan 6 Stockholm 11729 Sverige;X-APPLE-RADIUS=500;X-TITLE=Kristinehovsgatan 6:geo:18.0409199,59.3181548
END:VEVENT
BEGIN:VEVENT
DTSTART;TZID=Europe/Helsinki:20250320T190000
DTEND;TZID=Europe/Helsinki:20250320T193000
DTSTAMP:20260421T205908
CREATED:20220522T094836Z
LAST-MODIFIED:20220522T094836Z
UID:10004852-1742497200-1742499000@www.kvakare.se
SUMMARY:Andakt i Stockholm
DESCRIPTION:Stockholms andaktsmöte bjuder in till en halvtimmes andakt. Alla är välkomna. Du behöver inte anmäla dig.
URL:https://www.kvakare.se/event/andakt-i-stockholm-5-2022-11-24/
LOCATION:Kväkargården\, Kristinehovsgatan 6\, Stockholm\, 11729\, Sverige
CATEGORIES:Andakt
ORGANIZER;CN="Kv%C3%A4karna i Stockholm":MAILTO:stockholm@kvakare.se
GEO:59.3181548;18.0409199
X-APPLE-STRUCTURED-LOCATION;VALUE=URI;X-ADDRESS=Kväkargården Kristinehovsgatan 6 Stockholm 11729 Sverige;X-APPLE-RADIUS=500;X-TITLE=Kristinehovsgatan 6:geo:18.0409199,59.3181548
END:VEVENT
BEGIN:VEVENT
DTSTART;TZID=Europe/Helsinki:20250320T190000
DTEND;TZID=Europe/Helsinki:20250320T193000
DTSTAMP:20260421T205908
CREATED:20220522T094836Z
LAST-MODIFIED:20220522T094836Z
UID:10018999-1742497200-1742499000@www.kvakare.se
SUMMARY:Andakt i Stockholm
DESCRIPTION:Stockholms andaktsmöte bjuder in till en halvtimmes andakt. Alla är välkomna. Du behöver inte anmäla dig.
URL:https://www.kvakare.se/event/andakt-i-stockholm-5-2023-03-16-2/
LOCATION:Kväkargården\, Kristinehovsgatan 6\, Stockholm\, 11729\, Sverige
CATEGORIES:Andakt
ORGANIZER;CN="Kv%C3%A4karna i Stockholm":MAILTO:stockholm@kvakare.se
GEO:59.3181548;18.0409199
X-APPLE-STRUCTURED-LOCATION;VALUE=URI;X-ADDRESS=Kväkargården Kristinehovsgatan 6 Stockholm 11729 Sverige;X-APPLE-RADIUS=500;X-TITLE=Kristinehovsgatan 6:geo:18.0409199,59.3181548
END:VEVENT
BEGIN:VEVENT
DTSTART;TZID=Europe/Helsinki:20250320T190000
DTEND;TZID=Europe/Helsinki:20250320T193000
DTSTAMP:20260421T205908
CREATED:20220522T094836Z
LAST-MODIFIED:20220522T094836Z
UID:10012114-1742497200-1742499000@www.kvakare.se
SUMMARY:Andakt i Stockholm
DESCRIPTION:Stockholms andaktsmöte bjuder in till en halvtimmes andakt. Alla är välkomna. Du behöver inte anmäla dig.
URL:https://www.kvakare.se/event/andakt-i-stockholm-5-2022-11-10-2/
LOCATION:Kväkargården\, Kristinehovsgatan 6\, Stockholm\, 11729\, Sverige
CATEGORIES:Andakt
ORGANIZER;CN="Kv%C3%A4karna i Stockholm":MAILTO:stockholm@kvakare.se
GEO:59.3181548;18.0409199
X-APPLE-STRUCTURED-LOCATION;VALUE=URI;X-ADDRESS=Kväkargården Kristinehovsgatan 6 Stockholm 11729 Sverige;X-APPLE-RADIUS=500;X-TITLE=Kristinehovsgatan 6:geo:18.0409199,59.3181548
END:VEVENT
BEGIN:VEVENT
DTSTART;TZID=Europe/Helsinki:20250320T190000
DTEND;TZID=Europe/Helsinki:20250320T193000
DTSTAMP:20260421T205908
CREATED:20220522T094836Z
LAST-MODIFIED:20220522T094836Z
UID:10013672-1742497200-1742499000@www.kvakare.se
SUMMARY:Andakt i Stockholm
DESCRIPTION:Stockholms andaktsmöte bjuder in till en halvtimmes andakt. Alla är välkomna. Du behöver inte anmäla dig.
URL:https://www.kvakare.se/event/andakt-i-stockholm-5-2022-12-08-2/
LOCATION:Kväkargården\, Kristinehovsgatan 6\, Stockholm\, 11729\, Sverige
CATEGORIES:Andakt
ORGANIZER;CN="Kv%C3%A4karna i Stockholm":MAILTO:stockholm@kvakare.se
GEO:59.3181548;18.0409199
X-APPLE-STRUCTURED-LOCATION;VALUE=URI;X-ADDRESS=Kväkargården Kristinehovsgatan 6 Stockholm 11729 Sverige;X-APPLE-RADIUS=500;X-TITLE=Kristinehovsgatan 6:geo:18.0409199,59.3181548
END:VEVENT
BEGIN:VEVENT
DTSTART;TZID=Europe/Helsinki:20250320T190000
DTEND;TZID=Europe/Helsinki:20250320T193000
DTSTAMP:20260421T205908
CREATED:20220522T094836Z
LAST-MODIFIED:20220522T094836Z
UID:10006402-1742497200-1742499000@www.kvakare.se
SUMMARY:Andakt i Stockholm
DESCRIPTION:Stockholms andaktsmöte bjuder in till en halvtimmes andakt. Alla är välkomna. Du behöver inte anmäla dig.
URL:https://www.kvakare.se/event/andakt-i-stockholm-5-2022-12-22/
LOCATION:Kväkargården\, Kristinehovsgatan 6\, Stockholm\, 11729\, Sverige
CATEGORIES:Andakt
ORGANIZER;CN="Kv%C3%A4karna i Stockholm":MAILTO:stockholm@kvakare.se
GEO:59.3181548;18.0409199
X-APPLE-STRUCTURED-LOCATION;VALUE=URI;X-ADDRESS=Kväkargården Kristinehovsgatan 6 Stockholm 11729 Sverige;X-APPLE-RADIUS=500;X-TITLE=Kristinehovsgatan 6:geo:18.0409199,59.3181548
END:VEVENT
BEGIN:VEVENT
DTSTART;TZID=Europe/Helsinki:20250320T190000
DTEND;TZID=Europe/Helsinki:20250320T193000
DTSTAMP:20260421T205908
CREATED:20220522T094836Z
LAST-MODIFIED:20220522T094836Z
UID:10009076-1742497200-1742499000@www.kvakare.se
SUMMARY:Andakt i Stockholm
DESCRIPTION:Stockholms andaktsmöte bjuder in till en halvtimmes andakt. Alla är välkomna. Du behöver inte anmäla dig.
URL:https://www.kvakare.se/event/andakt-i-stockholm-5-2023-02-09/
LOCATION:Kväkargården\, Kristinehovsgatan 6\, Stockholm\, 11729\, Sverige
CATEGORIES:Andakt
ORGANIZER;CN="Kv%C3%A4karna i Stockholm":MAILTO:stockholm@kvakare.se
GEO:59.3181548;18.0409199
X-APPLE-STRUCTURED-LOCATION;VALUE=URI;X-ADDRESS=Kväkargården Kristinehovsgatan 6 Stockholm 11729 Sverige;X-APPLE-RADIUS=500;X-TITLE=Kristinehovsgatan 6:geo:18.0409199,59.3181548
END:VEVENT
BEGIN:VEVENT
DTSTART;TZID=Europe/Helsinki:20250320T190000
DTEND;TZID=Europe/Helsinki:20250320T193000
DTSTAMP:20260421T205908
CREATED:20220522T094836Z
LAST-MODIFIED:20220522T094836Z
UID:10004071-1742497200-1742499000@www.kvakare.se
SUMMARY:Andakt i Stockholm
DESCRIPTION:Stockholms andaktsmöte bjuder in till en halvtimmes andakt. Alla är välkomna. Du behöver inte anmäla dig.
URL:https://www.kvakare.se/event/andakt-i-stockholm-5-2022-11-10/
LOCATION:Kväkargården\, Kristinehovsgatan 6\, Stockholm\, 11729\, Sverige
CATEGORIES:Andakt
ORGANIZER;CN="Kv%C3%A4karna i Stockholm":MAILTO:stockholm@kvakare.se
GEO:59.3181548;18.0409199
X-APPLE-STRUCTURED-LOCATION;VALUE=URI;X-ADDRESS=Kväkargården Kristinehovsgatan 6 Stockholm 11729 Sverige;X-APPLE-RADIUS=500;X-TITLE=Kristinehovsgatan 6:geo:18.0409199,59.3181548
END:VEVENT
BEGIN:VEVENT
DTSTART;TZID=Europe/Helsinki:20250320T190000
DTEND;TZID=Europe/Helsinki:20250320T193000
DTSTAMP:20260421T205908
CREATED:20220522T094836Z
LAST-MODIFIED:20220522T094836Z
UID:10015597-1742497200-1742499000@www.kvakare.se
SUMMARY:Andakt i Stockholm
DESCRIPTION:Stockholms andaktsmöte bjuder in till en halvtimmes andakt. Alla är välkomna. Du behöver inte anmäla dig.
URL:https://www.kvakare.se/event/andakt-i-stockholm-5-2023-01-12-2/
LOCATION:Kväkargården\, Kristinehovsgatan 6\, Stockholm\, 11729\, Sverige
CATEGORIES:Andakt
ORGANIZER;CN="Kv%C3%A4karna i Stockholm":MAILTO:stockholm@kvakare.se
GEO:59.3181548;18.0409199
X-APPLE-STRUCTURED-LOCATION;VALUE=URI;X-ADDRESS=Kväkargården Kristinehovsgatan 6 Stockholm 11729 Sverige;X-APPLE-RADIUS=500;X-TITLE=Kristinehovsgatan 6:geo:18.0409199,59.3181548
END:VEVENT
BEGIN:VEVENT
DTSTART;TZID=Europe/Helsinki:20250320T190000
DTEND;TZID=Europe/Helsinki:20250320T193000
DTSTAMP:20260421T205908
CREATED:20220522T094836Z
LAST-MODIFIED:20220522T094836Z
UID:10017874-1742497200-1742499000@www.kvakare.se
SUMMARY:Andakt i Stockholm
DESCRIPTION:Stockholms andaktsmöte bjuder in till en halvtimmes andakt. Alla är välkomna. Du behöver inte anmäla dig.
URL:https://www.kvakare.se/event/andakt-i-stockholm-5-2023-02-23-2/
LOCATION:Kväkargården\, Kristinehovsgatan 6\, Stockholm\, 11729\, Sverige
CATEGORIES:Andakt
ORGANIZER;CN="Kv%C3%A4karna i Stockholm":MAILTO:stockholm@kvakare.se
GEO:59.3181548;18.0409199
X-APPLE-STRUCTURED-LOCATION;VALUE=URI;X-ADDRESS=Kväkargården Kristinehovsgatan 6 Stockholm 11729 Sverige;X-APPLE-RADIUS=500;X-TITLE=Kristinehovsgatan 6:geo:18.0409199,59.3181548
END:VEVENT
BEGIN:VEVENT
DTSTART;TZID=Europe/Helsinki:20250320T190000
DTEND;TZID=Europe/Helsinki:20250320T193000
DTSTAMP:20260421T205908
CREATED:20220522T094836Z
LAST-MODIFIED:20220522T094836Z
UID:10021327-1742497200-1742499000@www.kvakare.se
SUMMARY:Andakt i Stockholm
DESCRIPTION:Stockholms andaktsmöte bjuder in till en halvtimmes andakt. Alla är välkomna. Du behöver inte anmäla dig.
URL:https://www.kvakare.se/event/andakt-i-stockholm-5-2022-12-01-3/
LOCATION:Kväkargården\, Kristinehovsgatan 6\, Stockholm\, 11729\, Sverige
CATEGORIES:Andakt
ORGANIZER;CN="Kv%C3%A4karna i Stockholm":MAILTO:stockholm@kvakare.se
GEO:59.3181548;18.0409199
X-APPLE-STRUCTURED-LOCATION;VALUE=URI;X-ADDRESS=Kväkargården Kristinehovsgatan 6 Stockholm 11729 Sverige;X-APPLE-RADIUS=500;X-TITLE=Kristinehovsgatan 6:geo:18.0409199,59.3181548
END:VEVENT
BEGIN:VEVENT
DTSTART;TZID=Europe/Helsinki:20250320T190000
DTEND;TZID=Europe/Helsinki:20250320T193000
DTSTAMP:20260421T205908
CREATED:20220522T094836Z
LAST-MODIFIED:20220522T094836Z
UID:10019765-1742497200-1742499000@www.kvakare.se
SUMMARY:Andakt i Stockholm
DESCRIPTION:Stockholms andaktsmöte bjuder in till en halvtimmes andakt. Alla är välkomna. Du behöver inte anmäla dig.
URL:https://www.kvakare.se/event/andakt-i-stockholm-5-2022-11-03-3/
LOCATION:Kväkargården\, Kristinehovsgatan 6\, Stockholm\, 11729\, Sverige
CATEGORIES:Andakt
ORGANIZER;CN="Kv%C3%A4karna i Stockholm":MAILTO:stockholm@kvakare.se
GEO:59.3181548;18.0409199
X-APPLE-STRUCTURED-LOCATION;VALUE=URI;X-ADDRESS=Kväkargården Kristinehovsgatan 6 Stockholm 11729 Sverige;X-APPLE-RADIUS=500;X-TITLE=Kristinehovsgatan 6:geo:18.0409199,59.3181548
END:VEVENT
BEGIN:VEVENT
DTSTART;TZID=Europe/Helsinki:20250320T190000
DTEND;TZID=Europe/Helsinki:20250320T193000
DTSTAMP:20260421T205908
CREATED:20220522T094836Z
LAST-MODIFIED:20220522T094836Z
UID:10014059-1742497200-1742499000@www.kvakare.se
SUMMARY:Andakt i Stockholm
DESCRIPTION:Stockholms andaktsmöte bjuder in till en halvtimmes andakt. Alla är välkomna. Du behöver inte anmäla dig.
URL:https://www.kvakare.se/event/andakt-i-stockholm-5-2022-12-15-2/
LOCATION:Kväkargården\, Kristinehovsgatan 6\, Stockholm\, 11729\, Sverige
CATEGORIES:Andakt
ORGANIZER;CN="Kv%C3%A4karna i Stockholm":MAILTO:stockholm@kvakare.se
GEO:59.3181548;18.0409199
X-APPLE-STRUCTURED-LOCATION;VALUE=URI;X-ADDRESS=Kväkargården Kristinehovsgatan 6 Stockholm 11729 Sverige;X-APPLE-RADIUS=500;X-TITLE=Kristinehovsgatan 6:geo:18.0409199,59.3181548
END:VEVENT
BEGIN:VEVENT
DTSTART;TZID=Europe/Helsinki:20250320T190000
DTEND;TZID=Europe/Helsinki:20250320T193000
DTSTAMP:20260421T205908
CREATED:20220522T094836Z
LAST-MODIFIED:20220522T094836Z
UID:10010956-1742497200-1742499000@www.kvakare.se
SUMMARY:Andakt i Stockholm
DESCRIPTION:Stockholms andaktsmöte bjuder in till en halvtimmes andakt. Alla är välkomna. Du behöver inte anmäla dig.
URL:https://www.kvakare.se/event/andakt-i-stockholm-5-2023-03-16/
LOCATION:Kväkargården\, Kristinehovsgatan 6\, Stockholm\, 11729\, Sverige
CATEGORIES:Andakt
ORGANIZER;CN="Kv%C3%A4karna i Stockholm":MAILTO:stockholm@kvakare.se
GEO:59.3181548;18.0409199
X-APPLE-STRUCTURED-LOCATION;VALUE=URI;X-ADDRESS=Kväkargården Kristinehovsgatan 6 Stockholm 11729 Sverige;X-APPLE-RADIUS=500;X-TITLE=Kristinehovsgatan 6:geo:18.0409199,59.3181548
END:VEVENT
BEGIN:VEVENT
DTSTART;TZID=Europe/Helsinki:20250320T190000
DTEND;TZID=Europe/Helsinki:20250320T193000
DTSTAMP:20260421T205908
CREATED:20220522T094836Z
LAST-MODIFIED:20220522T094836Z
UID:10005629-1742497200-1742499000@www.kvakare.se
SUMMARY:Andakt i Stockholm
DESCRIPTION:Stockholms andaktsmöte bjuder in till en halvtimmes andakt. Alla är välkomna. Du behöver inte anmäla dig.
URL:https://www.kvakare.se/event/andakt-i-stockholm-5-2022-12-08/
LOCATION:Kväkargården\, Kristinehovsgatan 6\, Stockholm\, 11729\, Sverige
CATEGORIES:Andakt
ORGANIZER;CN="Kv%C3%A4karna i Stockholm":MAILTO:stockholm@kvakare.se
GEO:59.3181548;18.0409199
X-APPLE-STRUCTURED-LOCATION;VALUE=URI;X-ADDRESS=Kväkargården Kristinehovsgatan 6 Stockholm 11729 Sverige;X-APPLE-RADIUS=500;X-TITLE=Kristinehovsgatan 6:geo:18.0409199,59.3181548
END:VEVENT
BEGIN:VEVENT
DTSTART;TZID=Europe/Helsinki:20250320T190000
DTEND;TZID=Europe/Helsinki:20250320T193000
DTSTAMP:20260421T205908
CREATED:20220522T094836Z
LAST-MODIFIED:20220522T094836Z
UID:10007936-1742497200-1742499000@www.kvakare.se
SUMMARY:Andakt i Stockholm
DESCRIPTION:Stockholms andaktsmöte bjuder in till en halvtimmes andakt. Alla är välkomna. Du behöver inte anmäla dig.
URL:https://www.kvakare.se/event/andakt-i-stockholm-5-2023-01-19/
LOCATION:Kväkargården\, Kristinehovsgatan 6\, Stockholm\, 11729\, Sverige
CATEGORIES:Andakt
ORGANIZER;CN="Kv%C3%A4karna i Stockholm":MAILTO:stockholm@kvakare.se
GEO:59.3181548;18.0409199
X-APPLE-STRUCTURED-LOCATION;VALUE=URI;X-ADDRESS=Kväkargården Kristinehovsgatan 6 Stockholm 11729 Sverige;X-APPLE-RADIUS=500;X-TITLE=Kristinehovsgatan 6:geo:18.0409199,59.3181548
END:VEVENT
BEGIN:VEVENT
DTSTART;TZID=Europe/Helsinki:20250320T190000
DTEND;TZID=Europe/Helsinki:20250320T193000
DTSTAMP:20260421T205908
CREATED:20220522T094836Z
LAST-MODIFIED:20220522T094836Z
UID:10006016-1742497200-1742499000@www.kvakare.se
SUMMARY:Andakt i Stockholm
DESCRIPTION:Stockholms andaktsmöte bjuder in till en halvtimmes andakt. Alla är välkomna. Du behöver inte anmäla dig.
URL:https://www.kvakare.se/event/andakt-i-stockholm-5-2022-12-15/
LOCATION:Kväkargården\, Kristinehovsgatan 6\, Stockholm\, 11729\, Sverige
CATEGORIES:Andakt
ORGANIZER;CN="Kv%C3%A4karna i Stockholm":MAILTO:stockholm@kvakare.se
GEO:59.3181548;18.0409199
X-APPLE-STRUCTURED-LOCATION;VALUE=URI;X-ADDRESS=Kväkargården Kristinehovsgatan 6 Stockholm 11729 Sverige;X-APPLE-RADIUS=500;X-TITLE=Kristinehovsgatan 6:geo:18.0409199,59.3181548
END:VEVENT
BEGIN:VEVENT
DTSTART;TZID=Europe/Helsinki:20250320T190000
DTEND;TZID=Europe/Helsinki:20250320T193000
DTSTAMP:20260421T205908
CREATED:20220522T094836Z
LAST-MODIFIED:20220522T094836Z
UID:10018250-1742497200-1742499000@www.kvakare.se
SUMMARY:Andakt i Stockholm
DESCRIPTION:Stockholms andaktsmöte bjuder in till en halvtimmes andakt. Alla är välkomna. Du behöver inte anmäla dig.
URL:https://www.kvakare.se/event/andakt-i-stockholm-5-2023-03-02-2/
LOCATION:Kväkargården\, Kristinehovsgatan 6\, Stockholm\, 11729\, Sverige
CATEGORIES:Andakt
ORGANIZER;CN="Kv%C3%A4karna i Stockholm":MAILTO:stockholm@kvakare.se
GEO:59.3181548;18.0409199
X-APPLE-STRUCTURED-LOCATION;VALUE=URI;X-ADDRESS=Kväkargården Kristinehovsgatan 6 Stockholm 11729 Sverige;X-APPLE-RADIUS=500;X-TITLE=Kristinehovsgatan 6:geo:18.0409199,59.3181548
END:VEVENT
BEGIN:VEVENT
DTSTART;TZID=Europe/Helsinki:20250320T190000
DTEND;TZID=Europe/Helsinki:20250320T193000
DTSTAMP:20260421T205908
CREATED:20220522T094836Z
LAST-MODIFIED:20220522T094836Z
UID:10012505-1742497200-1742499000@www.kvakare.se
SUMMARY:Andakt i Stockholm
DESCRIPTION:Stockholms andaktsmöte bjuder in till en halvtimmes andakt. Alla är välkomna. Du behöver inte anmäla dig.
URL:https://www.kvakare.se/event/andakt-i-stockholm-5-2022-11-17-2/
LOCATION:Kväkargården\, Kristinehovsgatan 6\, Stockholm\, 11729\, Sverige
CATEGORIES:Andakt
ORGANIZER;CN="Kv%C3%A4karna i Stockholm":MAILTO:stockholm@kvakare.se
GEO:59.3181548;18.0409199
X-APPLE-STRUCTURED-LOCATION;VALUE=URI;X-ADDRESS=Kväkargården Kristinehovsgatan 6 Stockholm 11729 Sverige;X-APPLE-RADIUS=500;X-TITLE=Kristinehovsgatan 6:geo:18.0409199,59.3181548
END:VEVENT
BEGIN:VEVENT
DTSTART;TZID=Europe/Helsinki:20250320T190000
DTEND;TZID=Europe/Helsinki:20250320T193000
DTSTAMP:20260421T205908
CREATED:20220522T094836Z
LAST-MODIFIED:20220522T094836Z
UID:10012895-1742497200-1742499000@www.kvakare.se
SUMMARY:Andakt i Stockholm
DESCRIPTION:Stockholms andaktsmöte bjuder in till en halvtimmes andakt. Alla är välkomna. Du behöver inte anmäla dig.
URL:https://www.kvakare.se/event/andakt-i-stockholm-5-2022-11-24-2/
LOCATION:Kväkargården\, Kristinehovsgatan 6\, Stockholm\, 11729\, Sverige
CATEGORIES:Andakt
ORGANIZER;CN="Kv%C3%A4karna i Stockholm":MAILTO:stockholm@kvakare.se
GEO:59.3181548;18.0409199
X-APPLE-STRUCTURED-LOCATION;VALUE=URI;X-ADDRESS=Kväkargården Kristinehovsgatan 6 Stockholm 11729 Sverige;X-APPLE-RADIUS=500;X-TITLE=Kristinehovsgatan 6:geo:18.0409199,59.3181548
END:VEVENT
BEGIN:VEVENT
DTSTART;TZID=Europe/Helsinki:20250320T190000
DTEND;TZID=Europe/Helsinki:20250320T193000
DTSTAMP:20260421T205908
CREATED:20220522T094836Z
LAST-MODIFIED:20220522T094836Z
UID:10004462-1742497200-1742499000@www.kvakare.se
SUMMARY:Andakt i Stockholm
DESCRIPTION:Stockholms andaktsmöte bjuder in till en halvtimmes andakt. Alla är välkomna. Du behöver inte anmäla dig.
URL:https://www.kvakare.se/event/andakt-i-stockholm-5-2022-11-17/
LOCATION:Kväkargården\, Kristinehovsgatan 6\, Stockholm\, 11729\, Sverige
CATEGORIES:Andakt
ORGANIZER;CN="Kv%C3%A4karna i Stockholm":MAILTO:stockholm@kvakare.se
GEO:59.3181548;18.0409199
X-APPLE-STRUCTURED-LOCATION;VALUE=URI;X-ADDRESS=Kväkargården Kristinehovsgatan 6 Stockholm 11729 Sverige;X-APPLE-RADIUS=500;X-TITLE=Kristinehovsgatan 6:geo:18.0409199,59.3181548
END:VEVENT
BEGIN:VEVENT
DTSTART;TZID=Europe/Helsinki:20250320T190000
DTEND;TZID=Europe/Helsinki:20250320T193000
DTSTAMP:20260421T205908
CREATED:20220522T094836Z
LAST-MODIFIED:20220522T094836Z
UID:10013284-1742497200-1742499000@www.kvakare.se
SUMMARY:Andakt i Stockholm
DESCRIPTION:Stockholms andaktsmöte bjuder in till en halvtimmes andakt. Alla är välkomna. Du behöver inte anmäla dig.
URL:https://www.kvakare.se/event/andakt-i-stockholm-5-2022-12-01-2/
LOCATION:Kväkargården\, Kristinehovsgatan 6\, Stockholm\, 11729\, Sverige
CATEGORIES:Andakt
ORGANIZER;CN="Kv%C3%A4karna i Stockholm":MAILTO:stockholm@kvakare.se
GEO:59.3181548;18.0409199
X-APPLE-STRUCTURED-LOCATION;VALUE=URI;X-ADDRESS=Kväkargården Kristinehovsgatan 6 Stockholm 11729 Sverige;X-APPLE-RADIUS=500;X-TITLE=Kristinehovsgatan 6:geo:18.0409199,59.3181548
END:VEVENT
BEGIN:VEVENT
DTSTART;TZID=Europe/Helsinki:20250320T190000
DTEND;TZID=Europe/Helsinki:20250320T193000
DTSTAMP:20260421T205908
CREATED:20220522T094836Z
LAST-MODIFIED:20220522T094836Z
UID:10009831-1742497200-1742499000@www.kvakare.se
SUMMARY:Andakt i Stockholm
DESCRIPTION:Stockholms andaktsmöte bjuder in till en halvtimmes andakt. Alla är välkomna. Du behöver inte anmäla dig.
URL:https://www.kvakare.se/event/andakt-i-stockholm-5-2023-02-23/
LOCATION:Kväkargården\, Kristinehovsgatan 6\, Stockholm\, 11729\, Sverige
CATEGORIES:Andakt
ORGANIZER;CN="Kv%C3%A4karna i Stockholm":MAILTO:stockholm@kvakare.se
GEO:59.3181548;18.0409199
X-APPLE-STRUCTURED-LOCATION;VALUE=URI;X-ADDRESS=Kväkargården Kristinehovsgatan 6 Stockholm 11729 Sverige;X-APPLE-RADIUS=500;X-TITLE=Kristinehovsgatan 6:geo:18.0409199,59.3181548
END:VEVENT
BEGIN:VEVENT
DTSTART;TZID=Europe/Helsinki:20250320T190000
DTEND;TZID=Europe/Helsinki:20250320T193000
DTSTAMP:20260421T205908
CREATED:20220522T094836Z
LAST-MODIFIED:20220522T094836Z
UID:10016360-1742497200-1742499000@www.kvakare.se
SUMMARY:Andakt i Stockholm
DESCRIPTION:Stockholms andaktsmöte bjuder in till en halvtimmes andakt. Alla är välkomna. Du behöver inte anmäla dig.
URL:https://www.kvakare.se/event/andakt-i-stockholm-5-2023-01-26-2/
LOCATION:Kväkargården\, Kristinehovsgatan 6\, Stockholm\, 11729\, Sverige
CATEGORIES:Andakt
ORGANIZER;CN="Kv%C3%A4karna i Stockholm":MAILTO:stockholm@kvakare.se
GEO:59.3181548;18.0409199
X-APPLE-STRUCTURED-LOCATION;VALUE=URI;X-ADDRESS=Kväkargården Kristinehovsgatan 6 Stockholm 11729 Sverige;X-APPLE-RADIUS=500;X-TITLE=Kristinehovsgatan 6:geo:18.0409199,59.3181548
END:VEVENT
END:VCALENDAR