BEGIN:VCALENDAR
VERSION:2.0
PRODID:-//Vännernas samfund (kväkarna) - ECPv6.15.20//NONSGML v1.0//EN
CALSCALE:GREGORIAN
METHOD:PUBLISH
X-WR-CALNAME:Vännernas samfund (kväkarna)
X-ORIGINAL-URL:https://www.kvakare.se
X-WR-CALDESC:Händelser för Vännernas samfund (kväkarna)
REFRESH-INTERVAL;VALUE=DURATION:PT1H
X-Robots-Tag:noindex
X-PUBLISHED-TTL:PT1H
BEGIN:VTIMEZONE
TZID:Europe/Helsinki
BEGIN:DAYLIGHT
TZOFFSETFROM:+0200
TZOFFSETTO:+0300
TZNAME:EEST
DTSTART:20240331T010000
END:DAYLIGHT
BEGIN:STANDARD
TZOFFSETFROM:+0300
TZOFFSETTO:+0200
TZNAME:EET
DTSTART:20241027T010000
END:STANDARD
BEGIN:DAYLIGHT
TZOFFSETFROM:+0200
TZOFFSETTO:+0300
TZNAME:EEST
DTSTART:20250330T010000
END:DAYLIGHT
BEGIN:STANDARD
TZOFFSETFROM:+0300
TZOFFSETTO:+0200
TZNAME:EET
DTSTART:20251026T010000
END:STANDARD
BEGIN:DAYLIGHT
TZOFFSETFROM:+0200
TZOFFSETTO:+0300
TZNAME:EEST
DTSTART:20260329T010000
END:DAYLIGHT
BEGIN:STANDARD
TZOFFSETFROM:+0300
TZOFFSETTO:+0200
TZNAME:EET
DTSTART:20261025T010000
END:STANDARD
END:VTIMEZONE
BEGIN:VEVENT
DTSTART;TZID=Europe/Helsinki:20250508T190000
DTEND;TZID=Europe/Helsinki:20250508T193000
DTSTAMP:20260422T073536
CREATED:20220522T094836Z
LAST-MODIFIED:20220522T094836Z
UID:10020164-1746730800-1746732600@www.kvakare.se
SUMMARY:Andakt i Stockholm
DESCRIPTION:Stockholms andaktsmöte bjuder in till en halvtimmes andakt. Alla är välkomna. Du behöver inte anmäla dig.
URL:https://www.kvakare.se/event/andakt-i-stockholm-5-2022-11-10-3/
LOCATION:Kväkargården\, Kristinehovsgatan 6\, Stockholm\, 11729\, Sverige
CATEGORIES:Andakt
ORGANIZER;CN="Kv%C3%A4karna i Stockholm":MAILTO:stockholm@kvakare.se
GEO:59.3181548;18.0409199
X-APPLE-STRUCTURED-LOCATION;VALUE=URI;X-ADDRESS=Kväkargården Kristinehovsgatan 6 Stockholm 11729 Sverige;X-APPLE-RADIUS=500;X-TITLE=Kristinehovsgatan 6:geo:18.0409199,59.3181548
END:VEVENT
BEGIN:VEVENT
DTSTART;TZID=Europe/Helsinki:20250508T190000
DTEND;TZID=Europe/Helsinki:20250508T193000
DTSTAMP:20260422T073536
CREATED:20220522T094836Z
LAST-MODIFIED:20220522T094836Z
UID:10011729-1746730800-1746732600@www.kvakare.se
SUMMARY:Andakt i Stockholm
DESCRIPTION:Stockholms andaktsmöte bjuder in till en halvtimmes andakt. Alla är välkomna. Du behöver inte anmäla dig.
URL:https://www.kvakare.se/event/andakt-i-stockholm-5-2022-11-03-2/
LOCATION:Kväkargården\, Kristinehovsgatan 6\, Stockholm\, 11729\, Sverige
CATEGORIES:Andakt
ORGANIZER;CN="Kv%C3%A4karna i Stockholm":MAILTO:stockholm@kvakare.se
GEO:59.3181548;18.0409199
X-APPLE-STRUCTURED-LOCATION;VALUE=URI;X-ADDRESS=Kväkargården Kristinehovsgatan 6 Stockholm 11729 Sverige;X-APPLE-RADIUS=500;X-TITLE=Kristinehovsgatan 6:geo:18.0409199,59.3181548
END:VEVENT
BEGIN:VEVENT
DTSTART;TZID=Europe/Helsinki:20250508T190000
DTEND;TZID=Europe/Helsinki:20250508T193000
DTSTAMP:20260422T073536
CREATED:20220522T094836Z
LAST-MODIFIED:20220522T094836Z
UID:10006409-1746730800-1746732600@www.kvakare.se
SUMMARY:Andakt i Stockholm
DESCRIPTION:Stockholms andaktsmöte bjuder in till en halvtimmes andakt. Alla är välkomna. Du behöver inte anmäla dig.
URL:https://www.kvakare.se/event/andakt-i-stockholm-5-2022-12-22/
LOCATION:Kväkargården\, Kristinehovsgatan 6\, Stockholm\, 11729\, Sverige
CATEGORIES:Andakt
ORGANIZER;CN="Kv%C3%A4karna i Stockholm":MAILTO:stockholm@kvakare.se
GEO:59.3181548;18.0409199
X-APPLE-STRUCTURED-LOCATION;VALUE=URI;X-ADDRESS=Kväkargården Kristinehovsgatan 6 Stockholm 11729 Sverige;X-APPLE-RADIUS=500;X-TITLE=Kristinehovsgatan 6:geo:18.0409199,59.3181548
END:VEVENT
BEGIN:VEVENT
DTSTART;TZID=Europe/Helsinki:20250508T190000
DTEND;TZID=Europe/Helsinki:20250508T193000
DTSTAMP:20260422T073536
CREATED:20220522T094836Z
LAST-MODIFIED:20220522T094836Z
UID:10005248-1746730800-1746732600@www.kvakare.se
SUMMARY:Andakt i Stockholm
DESCRIPTION:Stockholms andaktsmöte bjuder in till en halvtimmes andakt. Alla är välkomna. Du behöver inte anmäla dig.
URL:https://www.kvakare.se/event/andakt-i-stockholm-5-2022-12-01/
LOCATION:Kväkargården\, Kristinehovsgatan 6\, Stockholm\, 11729\, Sverige
CATEGORIES:Andakt
ORGANIZER;CN="Kv%C3%A4karna i Stockholm":MAILTO:stockholm@kvakare.se
GEO:59.3181548;18.0409199
X-APPLE-STRUCTURED-LOCATION;VALUE=URI;X-ADDRESS=Kväkargården Kristinehovsgatan 6 Stockholm 11729 Sverige;X-APPLE-RADIUS=500;X-TITLE=Kristinehovsgatan 6:geo:18.0409199,59.3181548
END:VEVENT
BEGIN:VEVENT
DTSTART;TZID=Europe/Helsinki:20250508T190000
DTEND;TZID=Europe/Helsinki:20250508T193000
DTSTAMP:20260422T073536
CREATED:20220522T094836Z
LAST-MODIFIED:20220522T094836Z
UID:10020555-1746730800-1746732600@www.kvakare.se
SUMMARY:Andakt i Stockholm
DESCRIPTION:Stockholms andaktsmöte bjuder in till en halvtimmes andakt. Alla är välkomna. Du behöver inte anmäla dig.
URL:https://www.kvakare.se/event/andakt-i-stockholm-5-2022-11-17-3/
LOCATION:Kväkargården\, Kristinehovsgatan 6\, Stockholm\, 11729\, Sverige
CATEGORIES:Andakt
ORGANIZER;CN="Kv%C3%A4karna i Stockholm":MAILTO:stockholm@kvakare.se
GEO:59.3181548;18.0409199
X-APPLE-STRUCTURED-LOCATION;VALUE=URI;X-ADDRESS=Kväkargården Kristinehovsgatan 6 Stockholm 11729 Sverige;X-APPLE-RADIUS=500;X-TITLE=Kristinehovsgatan 6:geo:18.0409199,59.3181548
END:VEVENT
BEGIN:VEVENT
DTSTART;TZID=Europe/Helsinki:20250508T190000
DTEND;TZID=Europe/Helsinki:20250508T193000
DTSTAMP:20260422T073536
CREATED:20220522T094836Z
LAST-MODIFIED:20220522T094836Z
UID:10014066-1746730800-1746732600@www.kvakare.se
SUMMARY:Andakt i Stockholm
DESCRIPTION:Stockholms andaktsmöte bjuder in till en halvtimmes andakt. Alla är välkomna. Du behöver inte anmäla dig.
URL:https://www.kvakare.se/event/andakt-i-stockholm-5-2022-12-15-2/
LOCATION:Kväkargården\, Kristinehovsgatan 6\, Stockholm\, 11729\, Sverige
CATEGORIES:Andakt
ORGANIZER;CN="Kv%C3%A4karna i Stockholm":MAILTO:stockholm@kvakare.se
GEO:59.3181548;18.0409199
X-APPLE-STRUCTURED-LOCATION;VALUE=URI;X-ADDRESS=Kväkargården Kristinehovsgatan 6 Stockholm 11729 Sverige;X-APPLE-RADIUS=500;X-TITLE=Kristinehovsgatan 6:geo:18.0409199,59.3181548
END:VEVENT
BEGIN:VEVENT
DTSTART;TZID=Europe/Helsinki:20250508T190000
DTEND;TZID=Europe/Helsinki:20250508T193000
DTSTAMP:20260422T073536
CREATED:20220522T094836Z
LAST-MODIFIED:20220522T094836Z
UID:10018257-1746730800-1746732600@www.kvakare.se
SUMMARY:Andakt i Stockholm
DESCRIPTION:Stockholms andaktsmöte bjuder in till en halvtimmes andakt. Alla är välkomna. Du behöver inte anmäla dig.
URL:https://www.kvakare.se/event/andakt-i-stockholm-5-2023-03-02-2/
LOCATION:Kväkargården\, Kristinehovsgatan 6\, Stockholm\, 11729\, Sverige
CATEGORIES:Andakt
ORGANIZER;CN="Kv%C3%A4karna i Stockholm":MAILTO:stockholm@kvakare.se
GEO:59.3181548;18.0409199
X-APPLE-STRUCTURED-LOCATION;VALUE=URI;X-ADDRESS=Kväkargården Kristinehovsgatan 6 Stockholm 11729 Sverige;X-APPLE-RADIUS=500;X-TITLE=Kristinehovsgatan 6:geo:18.0409199,59.3181548
END:VEVENT
BEGIN:VEVENT
DTSTART;TZID=Europe/Helsinki:20250508T190000
DTEND;TZID=Europe/Helsinki:20250508T193000
DTSTAMP:20260422T073536
CREATED:20220522T094836Z
LAST-MODIFIED:20220522T094836Z
UID:10004469-1746730800-1746732600@www.kvakare.se
SUMMARY:Andakt i Stockholm
DESCRIPTION:Stockholms andaktsmöte bjuder in till en halvtimmes andakt. Alla är välkomna. Du behöver inte anmäla dig.
URL:https://www.kvakare.se/event/andakt-i-stockholm-5-2022-11-17/
LOCATION:Kväkargården\, Kristinehovsgatan 6\, Stockholm\, 11729\, Sverige
CATEGORIES:Andakt
ORGANIZER;CN="Kv%C3%A4karna i Stockholm":MAILTO:stockholm@kvakare.se
GEO:59.3181548;18.0409199
X-APPLE-STRUCTURED-LOCATION;VALUE=URI;X-ADDRESS=Kväkargården Kristinehovsgatan 6 Stockholm 11729 Sverige;X-APPLE-RADIUS=500;X-TITLE=Kristinehovsgatan 6:geo:18.0409199,59.3181548
END:VEVENT
BEGIN:VEVENT
DTSTART;TZID=Europe/Helsinki:20250508T190000
DTEND;TZID=Europe/Helsinki:20250508T193000
DTSTAMP:20260422T073536
CREATED:20220522T094836Z
LAST-MODIFIED:20220522T094836Z
UID:10018632-1746730800-1746732600@www.kvakare.se
SUMMARY:Andakt i Stockholm
DESCRIPTION:Stockholms andaktsmöte bjuder in till en halvtimmes andakt. Alla är välkomna. Du behöver inte anmäla dig.
URL:https://www.kvakare.se/event/andakt-i-stockholm-5-2023-03-09-2/
LOCATION:Kväkargården\, Kristinehovsgatan 6\, Stockholm\, 11729\, Sverige
CATEGORIES:Andakt
ORGANIZER;CN="Kv%C3%A4karna i Stockholm":MAILTO:stockholm@kvakare.se
GEO:59.3181548;18.0409199
X-APPLE-STRUCTURED-LOCATION;VALUE=URI;X-ADDRESS=Kväkargården Kristinehovsgatan 6 Stockholm 11729 Sverige;X-APPLE-RADIUS=500;X-TITLE=Kristinehovsgatan 6:geo:18.0409199,59.3181548
END:VEVENT
BEGIN:VEVENT
DTSTART;TZID=Europe/Helsinki:20250508T190000
DTEND;TZID=Europe/Helsinki:20250508T193000
DTSTAMP:20260422T073536
CREATED:20220522T094836Z
LAST-MODIFIED:20220522T094836Z
UID:10016367-1746730800-1746732600@www.kvakare.se
SUMMARY:Andakt i Stockholm
DESCRIPTION:Stockholms andaktsmöte bjuder in till en halvtimmes andakt. Alla är välkomna. Du behöver inte anmäla dig.
URL:https://www.kvakare.se/event/andakt-i-stockholm-5-2023-01-26-2/
LOCATION:Kväkargården\, Kristinehovsgatan 6\, Stockholm\, 11729\, Sverige
CATEGORIES:Andakt
ORGANIZER;CN="Kv%C3%A4karna i Stockholm":MAILTO:stockholm@kvakare.se
GEO:59.3181548;18.0409199
X-APPLE-STRUCTURED-LOCATION;VALUE=URI;X-ADDRESS=Kväkargården Kristinehovsgatan 6 Stockholm 11729 Sverige;X-APPLE-RADIUS=500;X-TITLE=Kristinehovsgatan 6:geo:18.0409199,59.3181548
END:VEVENT
BEGIN:VEVENT
DTSTART;TZID=Europe/Helsinki:20250508T190000
DTEND;TZID=Europe/Helsinki:20250508T193000
DTSTAMP:20260422T073536
CREATED:20220522T094836Z
LAST-MODIFIED:20220522T094836Z
UID:10017504-1746730800-1746732600@www.kvakare.se
SUMMARY:Andakt i Stockholm
DESCRIPTION:Stockholms andaktsmöte bjuder in till en halvtimmes andakt. Alla är välkomna. Du behöver inte anmäla dig.
URL:https://www.kvakare.se/event/andakt-i-stockholm-5-2023-02-16-2/
LOCATION:Kväkargården\, Kristinehovsgatan 6\, Stockholm\, 11729\, Sverige
CATEGORIES:Andakt
ORGANIZER;CN="Kv%C3%A4karna i Stockholm":MAILTO:stockholm@kvakare.se
GEO:59.3181548;18.0409199
X-APPLE-STRUCTURED-LOCATION;VALUE=URI;X-ADDRESS=Kväkargården Kristinehovsgatan 6 Stockholm 11729 Sverige;X-APPLE-RADIUS=500;X-TITLE=Kristinehovsgatan 6:geo:18.0409199,59.3181548
END:VEVENT
BEGIN:VEVENT
DTSTART;TZID=Europe/Helsinki:20250508T190000
DTEND;TZID=Europe/Helsinki:20250508T193000
DTSTAMP:20260422T073536
CREATED:20220522T094836Z
LAST-MODIFIED:20220522T094836Z
UID:10017881-1746730800-1746732600@www.kvakare.se
SUMMARY:Andakt i Stockholm
DESCRIPTION:Stockholms andaktsmöte bjuder in till en halvtimmes andakt. Alla är välkomna. Du behöver inte anmäla dig.
URL:https://www.kvakare.se/event/andakt-i-stockholm-5-2023-02-23-2/
LOCATION:Kväkargården\, Kristinehovsgatan 6\, Stockholm\, 11729\, Sverige
CATEGORIES:Andakt
ORGANIZER;CN="Kv%C3%A4karna i Stockholm":MAILTO:stockholm@kvakare.se
GEO:59.3181548;18.0409199
X-APPLE-STRUCTURED-LOCATION;VALUE=URI;X-ADDRESS=Kväkargården Kristinehovsgatan 6 Stockholm 11729 Sverige;X-APPLE-RADIUS=500;X-TITLE=Kristinehovsgatan 6:geo:18.0409199,59.3181548
END:VEVENT
BEGIN:VEVENT
DTSTART;TZID=Europe/Helsinki:20250508T190000
DTEND;TZID=Europe/Helsinki:20250508T193000
DTSTAMP:20260422T073536
CREATED:20220522T094836Z
LAST-MODIFIED:20220522T094836Z
UID:10013679-1746730800-1746732600@www.kvakare.se
SUMMARY:Andakt i Stockholm
DESCRIPTION:Stockholms andaktsmöte bjuder in till en halvtimmes andakt. Alla är välkomna. Du behöver inte anmäla dig.
URL:https://www.kvakare.se/event/andakt-i-stockholm-5-2022-12-08-2/
LOCATION:Kväkargården\, Kristinehovsgatan 6\, Stockholm\, 11729\, Sverige
CATEGORIES:Andakt
ORGANIZER;CN="Kv%C3%A4karna i Stockholm":MAILTO:stockholm@kvakare.se
GEO:59.3181548;18.0409199
X-APPLE-STRUCTURED-LOCATION;VALUE=URI;X-ADDRESS=Kväkargården Kristinehovsgatan 6 Stockholm 11729 Sverige;X-APPLE-RADIUS=500;X-TITLE=Kristinehovsgatan 6:geo:18.0409199,59.3181548
END:VEVENT
BEGIN:VEVENT
DTSTART;TZID=Europe/Helsinki:20250508T190000
DTEND;TZID=Europe/Helsinki:20250508T193000
DTSTAMP:20260422T073536
CREATED:20220522T094836Z
LAST-MODIFIED:20220522T094836Z
UID:10011336-1746730800-1746732600@www.kvakare.se
SUMMARY:Andakt i Stockholm
DESCRIPTION:Stockholms andaktsmöte bjuder in till en halvtimmes andakt. Alla är välkomna. Du behöver inte anmäla dig.
URL:https://www.kvakare.se/event/andakt-i-stockholm-5-2023-03-23/
LOCATION:Kväkargården\, Kristinehovsgatan 6\, Stockholm\, 11729\, Sverige
CATEGORIES:Andakt
ORGANIZER;CN="Kv%C3%A4karna i Stockholm":MAILTO:stockholm@kvakare.se
GEO:59.3181548;18.0409199
X-APPLE-STRUCTURED-LOCATION;VALUE=URI;X-ADDRESS=Kväkargården Kristinehovsgatan 6 Stockholm 11729 Sverige;X-APPLE-RADIUS=500;X-TITLE=Kristinehovsgatan 6:geo:18.0409199,59.3181548
END:VEVENT
BEGIN:VEVENT
DTSTART;TZID=Europe/Helsinki:20250510T110000
DTEND;TZID=Europe/Helsinki:20250510T130000
DTSTAMP:20260422T073536
CREATED:20250123T175155Z
LAST-MODIFIED:20250527T104101Z
UID:10003352-1746874800-1746882000@www.kvakare.se
SUMMARY:Studiecirkel i Malmö
DESCRIPTION:Hur kväkare söker det inre Ljuset för att stärka hopp och mod \n\n\n\nTid: Lördagar från 25 jan till 14 juni \n\n\n\n\n\n\n\nVarje tillfälle kommer att vara fristående och knyta an till temat. Tillfällena kommer att bestå av att vi läser kväkartexter och andra texter\, reflekterar och kontemplerar\, och samtalar. Vi avslutar med fika. Det går att avvika efter ungefär en timme om man behöver det.Som deltagare vid studiecirkeln behöver du inte förbereda eller anmäla dig. Träffarna är kostnadsfria och vi välkomnar ett bidrag till fika\, kontant eller swish. Du kan läsa mer om Bildas studiecirklar här https://www.bilda.nu/om-studieforbundet-bilda/om-folkbildning/vad-ar-en-studiecirkel.
URL:https://www.kvakare.se/event/studiecirkel-hur-kvakare-soker-det-inre-ljuset-for-att-starka-hopp-och-mod/2025-05-10/
ATTACH;FMTTYPE=image/jpeg:https://www.kvakare.se/wp-content/uploads/2023/11/pexels-dhivakaran-s-783200-scaled.jpg
ORGANIZER;CN="Kv%C3%A4karna i Malm%C3%B6":MAILTO:malmo@kvakare.se
END:VEVENT
BEGIN:VEVENT
DTSTART;TZID=Europe/Helsinki:20250510T110000
DTEND;TZID=Europe/Helsinki:20250510T130000
DTSTAMP:20260422T073536
CREATED:20250527T104126Z
LAST-MODIFIED:20250527T104127Z
UID:10023157-1746874800-1746882000@www.kvakare.se
SUMMARY:Studiecirkel i Malmö
DESCRIPTION:Hur kväkare söker det inre Ljuset för att stärka hopp och mod \n\n\n\nTid: Lördagar från 25 jan till 14 juni \n\n\n\n\n\n\n\n \n\n\n\nVarje tillfälle kommer att vara fristående och knyta an till temat. Tillfällena kommer att bestå av att vi läser kväkartexter och andra texter\, reflekterar och kontemplerar\, och samtalar. Vi avslutar med fika. Det går att avvika efter ungefär en timme om man behöver det.Som deltagare vid studiecirkeln behöver du inte förbereda eller anmäla dig. Träffarna är kostnadsfria och vi välkomnar ett bidrag till fika\, kontant eller swish. Du kan läsa mer om Bildas studiecirklar här https://www.bilda.nu/om-studieforbundet-bilda/om-folkbildning/vad-ar-en-studiecirkel.
URL:https://www.kvakare.se/event/studiecirkel-i-malmo/2025-05-10/
ATTACH;FMTTYPE=image/jpeg:https://www.kvakare.se/wp-content/uploads/2023/11/pexels-dhivakaran-s-783200-scaled.jpg
ORGANIZER;CN="Kv%C3%A4karna i Malm%C3%B6":MAILTO:malmo@kvakare.se
END:VEVENT
BEGIN:VEVENT
DTSTART;TZID=Europe/Helsinki:20250510T150000
DTEND;TZID=Europe/Helsinki:20250510T160000
DTSTAMP:20260422T073536
CREATED:20241215T135159Z
LAST-MODIFIED:20241215T135159Z
UID:10003307-1746889200-1746892800@www.kvakare.se
SUMMARY:Andakt i Uppsala
DESCRIPTION:Uppsala andaktsmöte bjuder in till en timmes andakt. \n\n\n\nEfter andakten går det bra att stanna kvar om man vill dela några tankar och reflektioner. \n\n\n\nAdressen är Linnégatan 1.
URL:https://www.kvakare.se/event/andakt-i-uppsala/2025-05-10/
ORGANIZER;CN="Kv%C3%A4karna i Uppsala":MAILTO:uppsala(at)kvakare.se
END:VEVENT
BEGIN:VEVENT
DTSTART;TZID=Europe/Helsinki:20250510T160000
DTEND;TZID=Europe/Helsinki:20250510T163000
DTSTAMP:20260422T073536
CREATED:20250126T201715Z
LAST-MODIFIED:20250527T104229Z
UID:10003375-1746892800-1746894600@www.kvakare.se
SUMMARY:Eftermiddagsstund med George Fox
DESCRIPTION:Du är välkommen att i stillhet och gemenskap upptäcka mer om kväkarnas andliga arv. Mitt i helgens alla måsten stannar vi upp för att vara med i en halvtimmes andakt som varje lördag inleds med ett nytt citat av George Fox. \n\n\n\nAndakterna börjar klockan 16.00 och slutar klockan 16.30\, från och med den 1 februari. Kom när du kan! Välkommen!  \n\n\n\nFör att få citaten i förväg kontakta: goteborg@kvakare.se \n\n\n\n\n\n\n\nZoomlänk: https://us06web.zoom.us/j/89482416233?pwd=yFAKUsgnzuiaWchNJzRRAuWjPPiLy4.1
URL:https://www.kvakare.se/event/eftermiddagsstund-med-george-fox/2025-05-10/
ATTACH;FMTTYPE=image/jpeg:https://www.kvakare.se/wp-content/uploads/2024/01/George-Fox.jpg
ORGANIZER;CN="Kv%C3%A4karna i G%C3%B6teborg":MAILTO:goteborg@kvakare.se
END:VEVENT
BEGIN:VEVENT
DTSTART;TZID=Europe/Helsinki:20250510T160000
DTEND;TZID=Europe/Helsinki:20250510T163000
DTSTAMP:20260422T073536
CREATED:20250527T104338Z
LAST-MODIFIED:20250815T170924Z
UID:10023171-1746892800-1746894600@www.kvakare.se
SUMMARY:Eftermiddagsandakt med George Fox
DESCRIPTION:Du är välkommen att i stillhet och gemenskap upptäcka mer om kväkarnas andliga arv. Mitt i helgens alla måsten stannar vi upp för att vara med i en halvtimmes andakt som varje lördag inleds med ett nytt citat av George Fox. \n\n\n\nAndakterna börjar klockan 16.00 och slutar klockan 16.30\, från och med den 1 februari. Kom när du kan! Välkommen! \n\n\n\nFör att få citaten i förväg kontakta: goteborg@kvakare.se
URL:https://www.kvakare.se/event/eftermiddagsstund-med-george-fox-2/2025-05-10/
ATTACH;FMTTYPE=image/jpeg:https://www.kvakare.se/wp-content/uploads/2024/01/George-Fox.jpg
ORGANIZER;CN="Kv%C3%A4karna i G%C3%B6teborg":MAILTO:goteborg@kvakare.se
END:VEVENT
BEGIN:VEVENT
DTSTART;TZID=Europe/Helsinki:20250510T160000
DTEND;TZID=Europe/Helsinki:20250510T163000
DTSTAMP:20260422T073536
CREATED:20250815T171016Z
LAST-MODIFIED:20260110T171032Z
UID:10024456-1746892800-1746894600@www.kvakare.se
SUMMARY:Eftermiddagsandakt med George Fox (Online)
DESCRIPTION:Du är välkommen att i stillhet och gemenskap upptäcka mer om kväkarnas andliga arv. Mitt i helgens alla måsten stannar vi upp för att vara med i en halvtimmes andakt som varje lördag inleds med ett nytt citat av George Fox. \n\n\n\nAndakterna börjar klockan 16.00 och slutar klockan 16.30.Kom när du kan! Välkommen! \n\n\n\nFör att få citaten i förväg kontakta: goteborg@kvakare.se.
URL:https://www.kvakare.se/event/eftermiddagsandakt-med-george-fox/2025-05-10/
ATTACH;FMTTYPE=image/jpeg:https://www.kvakare.se/wp-content/uploads/2024/01/George-Fox.jpg
ORGANIZER;CN="Kv%C3%A4karna i G%C3%B6teborg":MAILTO:goteborg@kvakare.se
END:VEVENT
BEGIN:VEVENT
DTSTART;TZID=Europe/Helsinki:20250510T160000
DTEND;TZID=Europe/Helsinki:20250510T163000
DTSTAMP:20260422T073536
CREATED:20260110T171052Z
LAST-MODIFIED:20260308T094820Z
UID:10025680-1746892800-1746894600@www.kvakare.se
SUMMARY:Eftermiddagsandakt med George Fox (Online)
DESCRIPTION:Du är välkommen att i stillhet och gemenskap upptäcka mer om kväkarnas andliga arv. Mitt i helgens alla måsten stannar vi upp för att vara med i en halvtimmes andakt som varje lördag inleds med ett nytt citat av George Fox. \n\n\n\nAndakterna börjar klockan 16.00 och slutar klockan 16.30.Kom när du kan! Välkommen! \n\n\n\nFör att få citaten i förväg kontakta: goteborg@kvakare.se.
URL:https://www.kvakare.se/event/eftermiddagsandakt-med-george-fox-online/2025-05-10/
ATTACH;FMTTYPE=image/jpeg:https://www.kvakare.se/wp-content/uploads/2024/01/George-Fox.jpg
ORGANIZER;CN="Kv%C3%A4karna i G%C3%B6teborg":MAILTO:goteborg@kvakare.se
END:VEVENT
BEGIN:VEVENT
DTSTART;TZID=Europe/Helsinki:20250510T170000
DTEND;TZID=Europe/Helsinki:20250510T180000
DTSTAMP:20260422T073536
CREATED:20250428T075840Z
LAST-MODIFIED:20250428T075844Z
UID:10003547-1746896400-1746900000@www.kvakare.se
SUMMARY:Andakt i Järna
DESCRIPTION:Stilla andakter på Draknyckeln\, Prästgårdsvägen 10 i Järna.  \n\n\n\nMed efterföljande vegansk måltid.
URL:https://www.kvakare.se/event/andakt-i-jarna/
ATTACH;FMTTYPE=image/png:https://www.kvakare.se/wp-content/uploads/2024/02/image.png
END:VEVENT
BEGIN:VEVENT
DTSTART;TZID=Europe/Helsinki:20250511T100000
DTEND;TZID=Europe/Helsinki:20250511T110000
DTSTAMP:20260422T073536
CREATED:20250505T132905Z
LAST-MODIFIED:20250505T132906Z
UID:10003550-1746957600-1746961200@www.kvakare.se
SUMMARY:Andakt i Jämtland
DESCRIPTION:En stilla stund i en stökig världVar: Gamla skolan i Kvissle\, i salen på nedervåningen. \n\n\n\nFika efteråt.
URL:https://www.kvakare.se/event/andakt-i-jamtland/
ATTACH;FMTTYPE=image/jpeg:https://www.kvakare.se/wp-content/uploads/2025/05/IMG_20250504_222453-scaled.jpg
ORGANIZER;CN="Kv%C3%A4karna i J%C3%A4mtland":MAILTO:jamtland@kvakare.se
END:VEVENT
BEGIN:VEVENT
DTSTART;TZID=Europe/Helsinki:20250511T110000
DTEND;TZID=Europe/Helsinki:20250511T120000
DTSTAMP:20260422T073536
CREATED:20250410T191625Z
LAST-MODIFIED:20250610T085908Z
UID:10003421-1746961200-1746964800@www.kvakare.se
SUMMARY:Andakt via Zoom
DESCRIPTION:Stockholms Andaktsmöte inbjuder till en timmes andakt via Zoom. \n\n\n\nVi sitter tillsammans i tystnad under en timme och den som känner sig manad att dela något under stillheten kan göra det.Efter andakten går det bra att stanna kvar en liten stund för samtal och reflektioner kring andakten. \n\n\n\nOm det är första gången du deltar kan gärna förbereda dig genom att läsa Ditt första andaktsmöte.
URL:https://www.kvakare.se/event/andakt-via-zoom/2025-05-11/
ATTACH;FMTTYPE=image/jpeg:https://www.kvakare.se/wp-content/uploads/2021/08/david-tomaseti-AaZlf5FgUws-unsplash-scaled-e1730140919251.jpg
ORGANIZER;CN="Kv%C3%A4karna i Stockholm":MAILTO:stockholm@kvakare.se
END:VEVENT
BEGIN:VEVENT
DTSTART;TZID=Europe/Helsinki:20250511T130000
DTEND;TZID=Europe/Helsinki:20250511T140000
DTSTAMP:20260422T073536
CREATED:20241215T153206Z
LAST-MODIFIED:20250422T095655Z
UID:10003316-1746968400-1746972000@www.kvakare.se
SUMMARY:Fogelstad och Kväkarna
DESCRIPTION:Kvinnliga medborgarskolan Fogelstad grundades 1925 och fyller alltså 100 år i år. Elin Wägner och Emilia Fogelklou var lärare och kväkare. Vi tittar på likheter i pedagogik och metoder mellan våra rörelser. \n\n\n\nVar: Hybrid på Kväkargården och Zoom \n\n\n\nVid intresse kommer det våren 2026 erbjudas en studiecirkel om Fogelstad och Kväkarna\, pedagogik och metoder. Maila tobiaseskilstuna@gmail.com för möteslänk\, studiematerial och mer information.
URL:https://www.kvakare.se/event/fogelstad-och-kvakarna/
ATTACH;FMTTYPE=image/jpeg:https://www.kvakare.se/wp-content/uploads/2024/12/468486759_10160788773427685_1521117375868208808_n.jpg
END:VEVENT
BEGIN:VEVENT
DTSTART;TZID=Europe/Helsinki:20250511T140000
DTEND;TZID=Europe/Helsinki:20250511T150000
DTSTAMP:20260422T073536
CREATED:20240903T073859Z
LAST-MODIFIED:20241128T160545Z
UID:10003159-1746972000-1746975600@www.kvakare.se
SUMMARY:Andakt i Lund
DESCRIPTION:Vi möts på Liberiet\, en röd byggnad mellan Domkyrkan och Domkyrkoforum\, Kungsgatan 5\, Lund. \n\n\n\nDu behöver inte höra av dig innan men kom i tid\, porten låses 13.55 \n\n\n\nUpplysningar lund@kvakare.se
URL:https://www.kvakare.se/event/andakt-i-lund-2/2025-05-11/
END:VEVENT
BEGIN:VEVENT
DTSTART;TZID=Europe/Helsinki:20250511T180000
DTEND;TZID=Europe/Helsinki:20250511T200000
DTSTAMP:20260422T073536
CREATED:20250422T055827Z
LAST-MODIFIED:20250504T142523Z
UID:10003543-1746986400-1746993600@www.kvakare.se
SUMMARY:Andakt i Östergötland
DESCRIPTION:Östergötlands andaktsgrupp bjuder in till en stilla andakt i Norrköping. Efteråt bjuds på enkel fika och Julia Ryberg kommer prata om sin bok ”Ur tystnaden”.
URL:https://www.kvakare.se/event/andakt-i-ostergotland-5/
ATTACH;FMTTYPE=image/jpeg:https://www.kvakare.se/wp-content/uploads/2021/08/david-tomaseti-AaZlf5FgUws-unsplash-scaled-e1730140919251.jpg
END:VEVENT
BEGIN:VEVENT
DTSTART;TZID=Europe/Helsinki:20250513T200000
DTEND;TZID=Europe/Helsinki:20250513T210000
DTSTAMP:20260422T073536
CREATED:20250511T084927Z
LAST-MODIFIED:20250511T101907Z
UID:10003552-1747166400-1747170000@www.kvakare.se
SUMMARY:Föredrag om Västbanken
DESCRIPTION:Emily Provance\, New York Yearly Meeting\, will offer a Zoom report Tuesday on recent travels in the West Bank with Quakers from FWCC EMES and Friends United Meeting. This hour-long\, English-language report is suitable for both Quakers and non-Quakers\, so please feel free to invite friends\, neighbors\, family\, and so forth in addition to your Quaker communities. \n\n\n\nRegister here: https://us02web.zoom.us/meeting/register/0vBEWB_cQVq3XkZDyn7g6w
URL:https://www.kvakare.se/event/foredrag-om-vastbanken/
ATTACH;FMTTYPE=image/png:https://www.kvakare.se/wp-content/uploads/2024/07/handslag_150.png
END:VEVENT
BEGIN:VEVENT
DTSTART;TZID=Europe/Helsinki:20250517T100000
DTEND;TZID=Europe/Helsinki:20250517T160000
DTSTAMP:20260422T073536
CREATED:20250404T134257Z
LAST-MODIFIED:20250406T072139Z
UID:10003410-1747476000-1747497600@www.kvakare.se
SUMMARY:Fördjupningsdag i Malmö
DESCRIPTION:”Hur kväkare söker det Inre Ljuset för att stärka hopp och mod” \n\n\n\nAlla svenska och danska Vänner och Vänners vänner är välkomna att delta. Dagen leds av Julia Ryberg. \n\n\n\n\n\n\n\n \n\n\n\nAnmälan senast 15 maj via formuläret här (formuläret uppdateras med mer information och utskick till anmälda kommer att göras)
URL:https://www.kvakare.se/event/fordjupningsdag-i-malmo/
ORGANIZER;CN="Kv%C3%A4karna i Malm%C3%B6":MAILTO:malmo@kvakare.se
END:VEVENT
BEGIN:VEVENT
DTSTART;TZID=Europe/Helsinki:20250517T160000
DTEND;TZID=Europe/Helsinki:20250517T163000
DTSTAMP:20260422T073536
CREATED:20250126T201715Z
LAST-MODIFIED:20250527T104229Z
UID:10003376-1747497600-1747499400@www.kvakare.se
SUMMARY:Eftermiddagsstund med George Fox
DESCRIPTION:Du är välkommen att i stillhet och gemenskap upptäcka mer om kväkarnas andliga arv. Mitt i helgens alla måsten stannar vi upp för att vara med i en halvtimmes andakt som varje lördag inleds med ett nytt citat av George Fox. \n\n\n\nAndakterna börjar klockan 16.00 och slutar klockan 16.30\, från och med den 1 februari. Kom när du kan! Välkommen!  \n\n\n\nFör att få citaten i förväg kontakta: goteborg@kvakare.se \n\n\n\n\n\n\n\nZoomlänk: https://us06web.zoom.us/j/89482416233?pwd=yFAKUsgnzuiaWchNJzRRAuWjPPiLy4.1
URL:https://www.kvakare.se/event/eftermiddagsstund-med-george-fox/2025-05-17/
ATTACH;FMTTYPE=image/jpeg:https://www.kvakare.se/wp-content/uploads/2024/01/George-Fox.jpg
ORGANIZER;CN="Kv%C3%A4karna i G%C3%B6teborg":MAILTO:goteborg@kvakare.se
END:VEVENT
END:VCALENDAR