BEGIN:VCALENDAR
VERSION:2.0
PRODID:-//Vännernas samfund (kväkarna) - ECPv6.15.20//NONSGML v1.0//EN
CALSCALE:GREGORIAN
METHOD:PUBLISH
X-WR-CALNAME:Vännernas samfund (kväkarna)
X-ORIGINAL-URL:https://www.kvakare.se
X-WR-CALDESC:Händelser för Vännernas samfund (kväkarna)
REFRESH-INTERVAL;VALUE=DURATION:PT1H
X-Robots-Tag:noindex
X-PUBLISHED-TTL:PT1H
BEGIN:VTIMEZONE
TZID:Europe/Helsinki
BEGIN:DAYLIGHT
TZOFFSETFROM:+0200
TZOFFSETTO:+0300
TZNAME:EEST
DTSTART:20240331T010000
END:DAYLIGHT
BEGIN:STANDARD
TZOFFSETFROM:+0300
TZOFFSETTO:+0200
TZNAME:EET
DTSTART:20241027T010000
END:STANDARD
BEGIN:DAYLIGHT
TZOFFSETFROM:+0200
TZOFFSETTO:+0300
TZNAME:EEST
DTSTART:20250330T010000
END:DAYLIGHT
BEGIN:STANDARD
TZOFFSETFROM:+0300
TZOFFSETTO:+0200
TZNAME:EET
DTSTART:20251026T010000
END:STANDARD
BEGIN:DAYLIGHT
TZOFFSETFROM:+0200
TZOFFSETTO:+0300
TZNAME:EEST
DTSTART:20260329T010000
END:DAYLIGHT
BEGIN:STANDARD
TZOFFSETFROM:+0300
TZOFFSETTO:+0200
TZNAME:EET
DTSTART:20261025T010000
END:STANDARD
END:VTIMEZONE
BEGIN:VEVENT
DTSTART;TZID=Europe/Helsinki:20250524T103000
DTEND;TZID=Europe/Helsinki:20250524T170000
DTSTAMP:20260422T124424
CREATED:20250301T075930Z
LAST-MODIFIED:20250516T095814Z
UID:10003401-1748082600-1748106000@www.kvakare.se
SUMMARY:INSTÄLLD: Heldagsretreat med temat Ubuntu
DESCRIPTION:INSTÄLLD \n\n\n\nVälkommen till en heldagsretreat på landet med temat Ubuntu: ”Jag är därför att du är”. Vi bjuder på andakt\, samtal\, gemenskap och musik. \n\n\n\nPlats: Trävattna\, Falköpings kommun\, Västergötland. Övernattningsmöjlighet finns. \n\n\n\nFör mer information\, goteborg@kvakare.se. \n\n\n\nINSTÄLLD
URL:https://www.kvakare.se/event/heldagsretreat-med-temat-ubuntu/
ATTACH;FMTTYPE=image/jpeg:https://www.kvakare.se/wp-content/uploads/2025/04/658yuH1AH7EE0R8j.jpg
ORGANIZER;CN="Kv%C3%A4karna i G%C3%B6teborg":MAILTO:goteborg@kvakare.se
END:VEVENT
BEGIN:VEVENT
DTSTART;TZID=Europe/Helsinki:20250524T110000
DTEND;TZID=Europe/Helsinki:20250524T120000
DTSTAMP:20260422T124424
CREATED:20250119T103852Z
LAST-MODIFIED:20250119T103943Z
UID:10003335-1748084400-1748088000@www.kvakare.se
SUMMARY:Andakt i Växjö
DESCRIPTION:Andakten börjar klockan 11.00. Därefter följer lunch\, samtal ur tystnaden och fikastund. \n\n\n\nAnmälningar till smalandsandakt@kvakare.se  \n\n\n\nI samband med anmälan meddela gärna om du har särskilda önskemål när det gäller mat.Vegetariskt är standard. \n\n\n\nVi meddelar den exakta adressen efter att man har anmält sig. \n\n\n\nVälkomna!
URL:https://www.kvakare.se/event/andakt-i-vaxjo/
ORGANIZER;CN="Kv%C3%A4karna i Sm%C3%A5land":MAILTO:smaland@kvakare.se
END:VEVENT
BEGIN:VEVENT
DTSTART;TZID=Europe/Helsinki:20250524T110000
DTEND;TZID=Europe/Helsinki:20250524T130000
DTSTAMP:20260422T124424
CREATED:20250123T175155Z
LAST-MODIFIED:20250527T104101Z
UID:10003354-1748084400-1748091600@www.kvakare.se
SUMMARY:Studiecirkel i Malmö
DESCRIPTION:Hur kväkare söker det inre Ljuset för att stärka hopp och mod \n\n\n\nTid: Lördagar från 25 jan till 14 juni \n\n\n\n\n\n\n\nVarje tillfälle kommer att vara fristående och knyta an till temat. Tillfällena kommer att bestå av att vi läser kväkartexter och andra texter\, reflekterar och kontemplerar\, och samtalar. Vi avslutar med fika. Det går att avvika efter ungefär en timme om man behöver det.Som deltagare vid studiecirkeln behöver du inte förbereda eller anmäla dig. Träffarna är kostnadsfria och vi välkomnar ett bidrag till fika\, kontant eller swish. Du kan läsa mer om Bildas studiecirklar här https://www.bilda.nu/om-studieforbundet-bilda/om-folkbildning/vad-ar-en-studiecirkel.
URL:https://www.kvakare.se/event/studiecirkel-hur-kvakare-soker-det-inre-ljuset-for-att-starka-hopp-och-mod/2025-05-24/
ATTACH;FMTTYPE=image/jpeg:https://www.kvakare.se/wp-content/uploads/2023/11/pexels-dhivakaran-s-783200-scaled.jpg
ORGANIZER;CN="Kv%C3%A4karna i Malm%C3%B6":MAILTO:malmo@kvakare.se
END:VEVENT
BEGIN:VEVENT
DTSTART;TZID=Europe/Helsinki:20250524T110000
DTEND;TZID=Europe/Helsinki:20250524T130000
DTSTAMP:20260422T124424
CREATED:20250527T104126Z
LAST-MODIFIED:20250527T104127Z
UID:10023158-1748084400-1748091600@www.kvakare.se
SUMMARY:Studiecirkel i Malmö
DESCRIPTION:Hur kväkare söker det inre Ljuset för att stärka hopp och mod \n\n\n\nTid: Lördagar från 25 jan till 14 juni \n\n\n\n\n\n\n\n \n\n\n\nVarje tillfälle kommer att vara fristående och knyta an till temat. Tillfällena kommer att bestå av att vi läser kväkartexter och andra texter\, reflekterar och kontemplerar\, och samtalar. Vi avslutar med fika. Det går att avvika efter ungefär en timme om man behöver det.Som deltagare vid studiecirkeln behöver du inte förbereda eller anmäla dig. Träffarna är kostnadsfria och vi välkomnar ett bidrag till fika\, kontant eller swish. Du kan läsa mer om Bildas studiecirklar här https://www.bilda.nu/om-studieforbundet-bilda/om-folkbildning/vad-ar-en-studiecirkel.
URL:https://www.kvakare.se/event/studiecirkel-i-malmo/2025-05-24/
ATTACH;FMTTYPE=image/jpeg:https://www.kvakare.se/wp-content/uploads/2023/11/pexels-dhivakaran-s-783200-scaled.jpg
ORGANIZER;CN="Kv%C3%A4karna i Malm%C3%B6":MAILTO:malmo@kvakare.se
END:VEVENT
BEGIN:VEVENT
DTSTART;TZID=Europe/Helsinki:20250524T150000
DTEND;TZID=Europe/Helsinki:20250524T160000
DTSTAMP:20260422T124424
CREATED:20241215T135159Z
LAST-MODIFIED:20241215T135159Z
UID:10003308-1748098800-1748102400@www.kvakare.se
SUMMARY:Andakt i Uppsala
DESCRIPTION:Uppsala andaktsmöte bjuder in till en timmes andakt. \n\n\n\nEfter andakten går det bra att stanna kvar om man vill dela några tankar och reflektioner. \n\n\n\nAdressen är Linnégatan 1.
URL:https://www.kvakare.se/event/andakt-i-uppsala/2025-05-24/
ORGANIZER;CN="Kv%C3%A4karna i Uppsala":MAILTO:uppsala(at)kvakare.se
END:VEVENT
BEGIN:VEVENT
DTSTART;TZID=Europe/Helsinki:20250524T160000
DTEND;TZID=Europe/Helsinki:20250524T163000
DTSTAMP:20260422T124424
CREATED:20250126T201715Z
LAST-MODIFIED:20250527T104229Z
UID:10003377-1748102400-1748104200@www.kvakare.se
SUMMARY:Eftermiddagsstund med George Fox
DESCRIPTION:Du är välkommen att i stillhet och gemenskap upptäcka mer om kväkarnas andliga arv. Mitt i helgens alla måsten stannar vi upp för att vara med i en halvtimmes andakt som varje lördag inleds med ett nytt citat av George Fox. \n\n\n\nAndakterna börjar klockan 16.00 och slutar klockan 16.30\, från och med den 1 februari. Kom när du kan! Välkommen!  \n\n\n\nFör att få citaten i förväg kontakta: goteborg@kvakare.se \n\n\n\n\n\n\n\nZoomlänk: https://us06web.zoom.us/j/89482416233?pwd=yFAKUsgnzuiaWchNJzRRAuWjPPiLy4.1
URL:https://www.kvakare.se/event/eftermiddagsstund-med-george-fox/2025-05-24/
ATTACH;FMTTYPE=image/jpeg:https://www.kvakare.se/wp-content/uploads/2024/01/George-Fox.jpg
ORGANIZER;CN="Kv%C3%A4karna i G%C3%B6teborg":MAILTO:goteborg@kvakare.se
END:VEVENT
BEGIN:VEVENT
DTSTART;TZID=Europe/Helsinki:20250524T160000
DTEND;TZID=Europe/Helsinki:20250524T163000
DTSTAMP:20260422T124424
CREATED:20250527T104338Z
LAST-MODIFIED:20250815T170924Z
UID:10023173-1748102400-1748104200@www.kvakare.se
SUMMARY:Eftermiddagsandakt med George Fox
DESCRIPTION:Du är välkommen att i stillhet och gemenskap upptäcka mer om kväkarnas andliga arv. Mitt i helgens alla måsten stannar vi upp för att vara med i en halvtimmes andakt som varje lördag inleds med ett nytt citat av George Fox. \n\n\n\nAndakterna börjar klockan 16.00 och slutar klockan 16.30\, från och med den 1 februari. Kom när du kan! Välkommen! \n\n\n\nFör att få citaten i förväg kontakta: goteborg@kvakare.se
URL:https://www.kvakare.se/event/eftermiddagsstund-med-george-fox-2/2025-05-24/
ATTACH;FMTTYPE=image/jpeg:https://www.kvakare.se/wp-content/uploads/2024/01/George-Fox.jpg
ORGANIZER;CN="Kv%C3%A4karna i G%C3%B6teborg":MAILTO:goteborg@kvakare.se
END:VEVENT
BEGIN:VEVENT
DTSTART;TZID=Europe/Helsinki:20250524T160000
DTEND;TZID=Europe/Helsinki:20250524T163000
DTSTAMP:20260422T124424
CREATED:20250815T171016Z
LAST-MODIFIED:20260110T171032Z
UID:10024458-1748102400-1748104200@www.kvakare.se
SUMMARY:Eftermiddagsandakt med George Fox (Online)
DESCRIPTION:Du är välkommen att i stillhet och gemenskap upptäcka mer om kväkarnas andliga arv. Mitt i helgens alla måsten stannar vi upp för att vara med i en halvtimmes andakt som varje lördag inleds med ett nytt citat av George Fox. \n\n\n\nAndakterna börjar klockan 16.00 och slutar klockan 16.30.Kom när du kan! Välkommen! \n\n\n\nFör att få citaten i förväg kontakta: goteborg@kvakare.se.
URL:https://www.kvakare.se/event/eftermiddagsandakt-med-george-fox/2025-05-24/
ATTACH;FMTTYPE=image/jpeg:https://www.kvakare.se/wp-content/uploads/2024/01/George-Fox.jpg
ORGANIZER;CN="Kv%C3%A4karna i G%C3%B6teborg":MAILTO:goteborg@kvakare.se
END:VEVENT
BEGIN:VEVENT
DTSTART;TZID=Europe/Helsinki:20250524T160000
DTEND;TZID=Europe/Helsinki:20250524T163000
DTSTAMP:20260422T124424
CREATED:20260110T171052Z
LAST-MODIFIED:20260308T094820Z
UID:10025682-1748102400-1748104200@www.kvakare.se
SUMMARY:Eftermiddagsandakt med George Fox (Online)
DESCRIPTION:Du är välkommen att i stillhet och gemenskap upptäcka mer om kväkarnas andliga arv. Mitt i helgens alla måsten stannar vi upp för att vara med i en halvtimmes andakt som varje lördag inleds med ett nytt citat av George Fox. \n\n\n\nAndakterna börjar klockan 16.00 och slutar klockan 16.30.Kom när du kan! Välkommen! \n\n\n\nFör att få citaten i förväg kontakta: goteborg@kvakare.se.
URL:https://www.kvakare.se/event/eftermiddagsandakt-med-george-fox-online/2025-05-24/
ATTACH;FMTTYPE=image/jpeg:https://www.kvakare.se/wp-content/uploads/2024/01/George-Fox.jpg
ORGANIZER;CN="Kv%C3%A4karna i G%C3%B6teborg":MAILTO:goteborg@kvakare.se
END:VEVENT
BEGIN:VEVENT
DTSTART;TZID=Europe/Helsinki:20250525T100000
DTEND;TZID=Europe/Helsinki:20250525T110000
DTSTAMP:20260422T124424
CREATED:20250512T093530Z
LAST-MODIFIED:20250512T093531Z
UID:10003554-1748167200-1748170800@www.kvakare.se
SUMMARY:Andakt i Jämtland
DESCRIPTION:Var: Gamla skolanKvissle 410\, Svenstavik \n\n\n\nFika efteråt.
URL:https://www.kvakare.se/event/andakt-i-jamtland-3/
ATTACH;FMTTYPE=image/jpeg:https://www.kvakare.se/wp-content/uploads/2025/05/IMG_20250504_222453-scaled.jpg
ORGANIZER;CN="Kv%C3%A4karna i J%C3%A4mtland":MAILTO:jamtland@kvakare.se
END:VEVENT
BEGIN:VEVENT
DTSTART;TZID=Europe/Helsinki:20250525T110000
DTEND;TZID=Europe/Helsinki:20250525T120000
DTSTAMP:20260422T124424
CREATED:20250410T191625Z
LAST-MODIFIED:20250610T085908Z
UID:10003422-1748170800-1748174400@www.kvakare.se
SUMMARY:Andakt via Zoom
DESCRIPTION:Stockholms Andaktsmöte inbjuder till en timmes andakt via Zoom. \n\n\n\nVi sitter tillsammans i tystnad under en timme och den som känner sig manad att dela något under stillheten kan göra det.Efter andakten går det bra att stanna kvar en liten stund för samtal och reflektioner kring andakten. \n\n\n\nOm det är första gången du deltar kan gärna förbereda dig genom att läsa Ditt första andaktsmöte.
URL:https://www.kvakare.se/event/andakt-via-zoom/2025-05-25/
ATTACH;FMTTYPE=image/jpeg:https://www.kvakare.se/wp-content/uploads/2021/08/david-tomaseti-AaZlf5FgUws-unsplash-scaled-e1730140919251.jpg
ORGANIZER;CN="Kv%C3%A4karna i Stockholm":MAILTO:stockholm@kvakare.se
END:VEVENT
BEGIN:VEVENT
DTSTART;TZID=Europe/Helsinki:20250525T110000
DTEND;TZID=Europe/Helsinki:20250525T120000
DTSTAMP:20260422T124424
CREATED:20250518T205923Z
LAST-MODIFIED:20250730T132244Z
UID:10022567-1748170800-1748174400@www.kvakare.se
SUMMARY:Andakt (Stockholm)
DESCRIPTION:Alla är välkomna. Du behöver inte anmäla dig. Efter andakten serveras fika till självkostnadspris.
URL:https://www.kvakare.se/event/andakt-i-stockholm/2025-05-25/
ATTACH;FMTTYPE=image/png:https://www.kvakare.se/wp-content/uploads/2024/02/image.png
ORGANIZER;CN="Kv%C3%A4karna i Stockholm":MAILTO:stockholm@kvakare.se
END:VEVENT
BEGIN:VEVENT
DTSTART;TZID=Europe/Helsinki:20250525T140000
DTEND;TZID=Europe/Helsinki:20250525T150000
DTSTAMP:20260422T124424
CREATED:20240903T073859Z
LAST-MODIFIED:20241128T160545Z
UID:10003160-1748181600-1748185200@www.kvakare.se
SUMMARY:Andakt i Lund
DESCRIPTION:Vi möts på Liberiet\, en röd byggnad mellan Domkyrkan och Domkyrkoforum\, Kungsgatan 5\, Lund. \n\n\n\nDu behöver inte höra av dig innan men kom i tid\, porten låses 13.55 \n\n\n\nUpplysningar lund@kvakare.se
URL:https://www.kvakare.se/event/andakt-i-lund-2/2025-05-25/
END:VEVENT
BEGIN:VEVENT
DTSTART;TZID=Europe/Helsinki:20250529T190000
DTEND;TZID=Europe/Helsinki:20250529T193000
DTSTAMP:20260422T124424
CREATED:20250518T210348Z
LAST-MODIFIED:20250730T132318Z
UID:10022828-1748545200-1748547000@www.kvakare.se
SUMMARY:Andakt (Stockholm)
DESCRIPTION:Alla är välkomna. Du behöver inte anmäla dig.
URL:https://www.kvakare.se/event/andakt-i-stockholm-3/2025-05-29/
ATTACH;FMTTYPE=image/png:https://www.kvakare.se/wp-content/uploads/2024/02/image.png
ORGANIZER;CN="Kv%C3%A4karna i Stockholm":MAILTO:stockholm@kvakare.se
END:VEVENT
BEGIN:VEVENT
DTSTART;TZID=Europe/Helsinki:20250531T110000
DTEND;TZID=Europe/Helsinki:20250531T130000
DTSTAMP:20260422T124424
CREATED:20250527T104126Z
LAST-MODIFIED:20250527T104127Z
UID:10023159-1748689200-1748696400@www.kvakare.se
SUMMARY:Studiecirkel i Malmö
DESCRIPTION:Hur kväkare söker det inre Ljuset för att stärka hopp och mod \n\n\n\nTid: Lördagar från 25 jan till 14 juni \n\n\n\n\n\n\n\n \n\n\n\nVarje tillfälle kommer att vara fristående och knyta an till temat. Tillfällena kommer att bestå av att vi läser kväkartexter och andra texter\, reflekterar och kontemplerar\, och samtalar. Vi avslutar med fika. Det går att avvika efter ungefär en timme om man behöver det.Som deltagare vid studiecirkeln behöver du inte förbereda eller anmäla dig. Träffarna är kostnadsfria och vi välkomnar ett bidrag till fika\, kontant eller swish. Du kan läsa mer om Bildas studiecirklar här https://www.bilda.nu/om-studieforbundet-bilda/om-folkbildning/vad-ar-en-studiecirkel.
URL:https://www.kvakare.se/event/studiecirkel-i-malmo/2025-05-31/
ATTACH;FMTTYPE=image/jpeg:https://www.kvakare.se/wp-content/uploads/2023/11/pexels-dhivakaran-s-783200-scaled.jpg
ORGANIZER;CN="Kv%C3%A4karna i Malm%C3%B6":MAILTO:malmo@kvakare.se
END:VEVENT
BEGIN:VEVENT
DTSTART;TZID=Europe/Helsinki:20250531T160000
DTEND;TZID=Europe/Helsinki:20250531T163000
DTSTAMP:20260422T124424
CREATED:20250527T104338Z
LAST-MODIFIED:20250815T170924Z
UID:10023174-1748707200-1748709000@www.kvakare.se
SUMMARY:Eftermiddagsandakt med George Fox
DESCRIPTION:Du är välkommen att i stillhet och gemenskap upptäcka mer om kväkarnas andliga arv. Mitt i helgens alla måsten stannar vi upp för att vara med i en halvtimmes andakt som varje lördag inleds med ett nytt citat av George Fox. \n\n\n\nAndakterna börjar klockan 16.00 och slutar klockan 16.30\, från och med den 1 februari. Kom när du kan! Välkommen! \n\n\n\nFör att få citaten i förväg kontakta: goteborg@kvakare.se
URL:https://www.kvakare.se/event/eftermiddagsstund-med-george-fox-2/2025-05-31/
ATTACH;FMTTYPE=image/jpeg:https://www.kvakare.se/wp-content/uploads/2024/01/George-Fox.jpg
ORGANIZER;CN="Kv%C3%A4karna i G%C3%B6teborg":MAILTO:goteborg@kvakare.se
END:VEVENT
BEGIN:VEVENT
DTSTART;TZID=Europe/Helsinki:20250531T160000
DTEND;TZID=Europe/Helsinki:20250531T163000
DTSTAMP:20260422T124424
CREATED:20250815T171016Z
LAST-MODIFIED:20260110T171032Z
UID:10024459-1748707200-1748709000@www.kvakare.se
SUMMARY:Eftermiddagsandakt med George Fox (Online)
DESCRIPTION:Du är välkommen att i stillhet och gemenskap upptäcka mer om kväkarnas andliga arv. Mitt i helgens alla måsten stannar vi upp för att vara med i en halvtimmes andakt som varje lördag inleds med ett nytt citat av George Fox. \n\n\n\nAndakterna börjar klockan 16.00 och slutar klockan 16.30.Kom när du kan! Välkommen! \n\n\n\nFör att få citaten i förväg kontakta: goteborg@kvakare.se.
URL:https://www.kvakare.se/event/eftermiddagsandakt-med-george-fox/2025-05-31/
ATTACH;FMTTYPE=image/jpeg:https://www.kvakare.se/wp-content/uploads/2024/01/George-Fox.jpg
ORGANIZER;CN="Kv%C3%A4karna i G%C3%B6teborg":MAILTO:goteborg@kvakare.se
END:VEVENT
BEGIN:VEVENT
DTSTART;TZID=Europe/Helsinki:20250531T160000
DTEND;TZID=Europe/Helsinki:20250531T163000
DTSTAMP:20260422T124424
CREATED:20260110T171052Z
LAST-MODIFIED:20260308T094820Z
UID:10025683-1748707200-1748709000@www.kvakare.se
SUMMARY:Eftermiddagsandakt med George Fox (Online)
DESCRIPTION:Du är välkommen att i stillhet och gemenskap upptäcka mer om kväkarnas andliga arv. Mitt i helgens alla måsten stannar vi upp för att vara med i en halvtimmes andakt som varje lördag inleds med ett nytt citat av George Fox. \n\n\n\nAndakterna börjar klockan 16.00 och slutar klockan 16.30.Kom när du kan! Välkommen! \n\n\n\nFör att få citaten i förväg kontakta: goteborg@kvakare.se.
URL:https://www.kvakare.se/event/eftermiddagsandakt-med-george-fox-online/2025-05-31/
ATTACH;FMTTYPE=image/jpeg:https://www.kvakare.se/wp-content/uploads/2024/01/George-Fox.jpg
ORGANIZER;CN="Kv%C3%A4karna i G%C3%B6teborg":MAILTO:goteborg@kvakare.se
END:VEVENT
BEGIN:VEVENT
DTSTART;TZID=Europe/Helsinki:20250601T100000
DTEND;TZID=Europe/Helsinki:20250601T110000
DTSTAMP:20260422T124424
CREATED:20250525T113127Z
LAST-MODIFIED:20250525T113128Z
UID:10023117-1748772000-1748775600@www.kvakare.se
SUMMARY:Andakt i Svenstavik
DESCRIPTION:Var: Andaktsrummet i bagarstugan\, Kvissle 216
URL:https://www.kvakare.se/event/andakt-i-svenstavik/
ATTACH;FMTTYPE=image/jpeg:https://www.kvakare.se/wp-content/uploads/2025/05/IMG_20250504_222453-scaled.jpg
ORGANIZER;CN="Kv%C3%A4karna i J%C3%A4mtland":MAILTO:jamtland@kvakare.se
END:VEVENT
BEGIN:VEVENT
DTSTART;TZID=Europe/Helsinki:20250601T110000
DTEND;TZID=Europe/Helsinki:20250601T120000
DTSTAMP:20260422T124424
CREATED:20241231T094729Z
LAST-MODIFIED:20250527T105152Z
UID:10003327-1748775600-1748779200@www.kvakare.se
SUMMARY:Andakt i Göteborg
DESCRIPTION:Kväkarna i Göteborg välkomnar dig att delta i en stilla andakt första söndagen i månaden fram till sommaren. \n\n\n\n\n\n\n\n \n\n\n\nDu kan ta spårvagn 5 mot Östra sjukhuset och kliva av vid Töpelsgatan. Bilparkering finns framför huset. Ingången till lokalen är den andra dörren på högra gaveln. \n\n\n\nDen stilla andakten börjar kl 11.00 och avslutas kl. 12.00. Därefter kan de som vill sitta kvar för en stunds gemenskap – för att dela tankar eller reflektioner kring andakten\, för att berätta om något eller för att ställa frågor. Vi fortsätter sedan med samtal kring fikabordet.
URL:https://www.kvakare.se/event/andakt-i-goteborg-3/
ATTACH;FMTTYPE=image/jpeg:https://www.kvakare.se/wp-content/uploads/2021/08/david-tomaseti-AaZlf5FgUws-unsplash-scaled-e1730140919251.jpg
ORGANIZER;CN="Kv%C3%A4karna i G%C3%B6teborg":MAILTO:goteborg@kvakare.se
END:VEVENT
BEGIN:VEVENT
DTSTART;TZID=Europe/Helsinki:20250601T110000
DTEND;TZID=Europe/Helsinki:20250601T120000
DTSTAMP:20260422T124424
CREATED:20250518T205923Z
LAST-MODIFIED:20250730T132244Z
UID:10022568-1748775600-1748779200@www.kvakare.se
SUMMARY:Andakt (Stockholm)
DESCRIPTION:Alla är välkomna. Du behöver inte anmäla dig. Efter andakten serveras fika till självkostnadspris.
URL:https://www.kvakare.se/event/andakt-i-stockholm/2025-06-01/
ATTACH;FMTTYPE=image/png:https://www.kvakare.se/wp-content/uploads/2024/02/image.png
ORGANIZER;CN="Kv%C3%A4karna i Stockholm":MAILTO:stockholm@kvakare.se
END:VEVENT
BEGIN:VEVENT
DTSTART;TZID=Europe/Helsinki:20250601T110000
DTEND;TZID=Europe/Helsinki:20250601T120000
DTSTAMP:20260422T124424
CREATED:20250527T105931Z
LAST-MODIFIED:20250707T141554Z
UID:10023178-1748775600-1748779200@www.kvakare.se
SUMMARY:Digital andakt
DESCRIPTION:Vi sitter tillsammans i tystnad och stillhet under cirka en timme för att rikta vår uppmärksamhet inåt. Den som känner sig manad från sitt inre att kort dela något under stillheten får gärna göra det. De som vill stannar kvar en liten stund efteråt för samtal och reflektioner kring tankar som kommit upp under andakten\, eller kring något ämne som någon känner är angeläget.
URL:https://www.kvakare.se/event/digital-andakt/2025-06-01/
ATTACH;FMTTYPE=image/png:https://www.kvakare.se/wp-content/uploads/2024/02/image.png
END:VEVENT
BEGIN:VEVENT
DTSTART;TZID=Europe/Helsinki:20250601T110000
DTEND;TZID=Europe/Helsinki:20250601T120000
DTSTAMP:20260422T124424
CREATED:20250707T141723Z
LAST-MODIFIED:20250730T155015Z
UID:10023519-1748775600-1748779200@www.kvakare.se
SUMMARY:Andakt (Online)
DESCRIPTION:Vi sitter tillsammans i tystnad och stillhet under cirka en timme för att rikta vår uppmärksamhet inåt. Den som känner sig manad från sitt inre att kort dela något under stillheten får gärna göra det. De som vill stannar kvar en liten stund efteråt för samtal och reflektioner kring tankar som kommit upp under andakten\, eller kring något ämne som någon känner är angeläget.
URL:https://www.kvakare.se/event/digital-andakt-13/2025-06-01/
ATTACH;FMTTYPE=image/png:https://www.kvakare.se/wp-content/uploads/2024/02/image.png
END:VEVENT
BEGIN:VEVENT
DTSTART;TZID=Europe/Helsinki:20250601T180000
DTEND;TZID=Europe/Helsinki:20250601T190000
DTSTAMP:20260422T124424
CREATED:20241215T142624Z
LAST-MODIFIED:20250527T110239Z
UID:10003314-1748800800-1748804400@www.kvakare.se
SUMMARY:Andakt i Stigtomta
DESCRIPTION:Mälardalens andaktsgrupp i samarbete med Svenska kyrkan Stigtomta-Vrena församling \n\n\n\n\n\n\n\n \n\n\n\nLjusövning – en guidad mediation. \n\n\n\nEfteråt samtal med medtaget fika.
URL:https://www.kvakare.se/event/andakt-i-stigtomta-9/
ATTACH;FMTTYPE=image/jpeg:https://www.kvakare.se/wp-content/uploads/2021/08/david-tomaseti-AaZlf5FgUws-unsplash-scaled-e1730140919251.jpg
ORGANIZER;CN="Kv%C3%A4karna i M%C3%A4lardalen":MAILTO:malardalen@kvakare.se
END:VEVENT
BEGIN:VEVENT
DTSTART;TZID=Europe/Helsinki:20250602T190000
DTEND;TZID=Europe/Helsinki:20250602T193000
DTSTAMP:20260422T124424
CREATED:20250527T112543Z
LAST-MODIFIED:20250707T142319Z
UID:10023523-1748890800-1748892600@www.kvakare.se
SUMMARY:Digital andakt
DESCRIPTION:Vi sitter tillsammans i tystnad och stillhet under cirka en timme för att rikta vår uppmärksamhet inåt. Den som känner sig manad från sitt inre att kort dela något under stillheten får gärna göra det. De som vill stannar kvar en liten stund efteråt för samtal och reflektioner kring tankar som kommit upp under andakten\, eller kring något ämne som någon känner är angeläget.
URL:https://www.kvakare.se/event/digital-andakt-11/2025-06-02/
ATTACH;FMTTYPE=image/png:https://www.kvakare.se/wp-content/uploads/2024/02/image.png
END:VEVENT
BEGIN:VEVENT
DTSTART;TZID=Europe/Helsinki:20250605T190000
DTEND;TZID=Europe/Helsinki:20250605T193000
DTSTAMP:20260422T124424
CREATED:20250518T210348Z
LAST-MODIFIED:20250730T132318Z
UID:10022829-1749150000-1749151800@www.kvakare.se
SUMMARY:Andakt (Stockholm)
DESCRIPTION:Alla är välkomna. Du behöver inte anmäla dig.
URL:https://www.kvakare.se/event/andakt-i-stockholm-3/2025-06-05/
ATTACH;FMTTYPE=image/png:https://www.kvakare.se/wp-content/uploads/2024/02/image.png
ORGANIZER;CN="Kv%C3%A4karna i Stockholm":MAILTO:stockholm@kvakare.se
END:VEVENT
BEGIN:VEVENT
DTSTART;TZID=Europe/Helsinki:20250607T110000
DTEND;TZID=Europe/Helsinki:20250607T130000
DTSTAMP:20260422T124424
CREATED:20250527T104126Z
LAST-MODIFIED:20250527T104127Z
UID:10003356-1749294000-1749301200@www.kvakare.se
SUMMARY:Studiecirkel i Malmö
DESCRIPTION:Hur kväkare söker det inre Ljuset för att stärka hopp och mod \n\n\n\nTid: Lördagar från 25 jan till 14 juni \n\n\n\n\n\n\n\n \n\n\n\nVarje tillfälle kommer att vara fristående och knyta an till temat. Tillfällena kommer att bestå av att vi läser kväkartexter och andra texter\, reflekterar och kontemplerar\, och samtalar. Vi avslutar med fika. Det går att avvika efter ungefär en timme om man behöver det.Som deltagare vid studiecirkeln behöver du inte förbereda eller anmäla dig. Träffarna är kostnadsfria och vi välkomnar ett bidrag till fika\, kontant eller swish. Du kan läsa mer om Bildas studiecirklar här https://www.bilda.nu/om-studieforbundet-bilda/om-folkbildning/vad-ar-en-studiecirkel.
URL:https://www.kvakare.se/event/studiecirkel-i-malmo/2025-06-07/
ATTACH;FMTTYPE=image/jpeg:https://www.kvakare.se/wp-content/uploads/2023/11/pexels-dhivakaran-s-783200-scaled.jpg
ORGANIZER;CN="Kv%C3%A4karna i Malm%C3%B6":MAILTO:malmo@kvakare.se
END:VEVENT
BEGIN:VEVENT
DTSTART;TZID=Europe/Helsinki:20250607T160000
DTEND;TZID=Europe/Helsinki:20250607T163000
DTSTAMP:20260422T124424
CREATED:20250527T104338Z
LAST-MODIFIED:20250815T170924Z
UID:10003379-1749312000-1749313800@www.kvakare.se
SUMMARY:Eftermiddagsandakt med George Fox
DESCRIPTION:Du är välkommen att i stillhet och gemenskap upptäcka mer om kväkarnas andliga arv. Mitt i helgens alla måsten stannar vi upp för att vara med i en halvtimmes andakt som varje lördag inleds med ett nytt citat av George Fox. \n\n\n\nAndakterna börjar klockan 16.00 och slutar klockan 16.30\, från och med den 1 februari. Kom när du kan! Välkommen! \n\n\n\nFör att få citaten i förväg kontakta: goteborg@kvakare.se
URL:https://www.kvakare.se/event/eftermiddagsstund-med-george-fox-2/2025-06-07/
ATTACH;FMTTYPE=image/jpeg:https://www.kvakare.se/wp-content/uploads/2024/01/George-Fox.jpg
ORGANIZER;CN="Kv%C3%A4karna i G%C3%B6teborg":MAILTO:goteborg@kvakare.se
END:VEVENT
BEGIN:VEVENT
DTSTART;TZID=Europe/Helsinki:20250607T160000
DTEND;TZID=Europe/Helsinki:20250607T163000
DTSTAMP:20260422T124424
CREATED:20250815T171016Z
LAST-MODIFIED:20260110T171032Z
UID:10024460-1749312000-1749313800@www.kvakare.se
SUMMARY:Eftermiddagsandakt med George Fox (Online)
DESCRIPTION:Du är välkommen att i stillhet och gemenskap upptäcka mer om kväkarnas andliga arv. Mitt i helgens alla måsten stannar vi upp för att vara med i en halvtimmes andakt som varje lördag inleds med ett nytt citat av George Fox. \n\n\n\nAndakterna börjar klockan 16.00 och slutar klockan 16.30.Kom när du kan! Välkommen! \n\n\n\nFör att få citaten i förväg kontakta: goteborg@kvakare.se.
URL:https://www.kvakare.se/event/eftermiddagsandakt-med-george-fox/2025-06-07/
ATTACH;FMTTYPE=image/jpeg:https://www.kvakare.se/wp-content/uploads/2024/01/George-Fox.jpg
ORGANIZER;CN="Kv%C3%A4karna i G%C3%B6teborg":MAILTO:goteborg@kvakare.se
END:VEVENT
BEGIN:VEVENT
DTSTART;TZID=Europe/Helsinki:20250607T160000
DTEND;TZID=Europe/Helsinki:20250607T163000
DTSTAMP:20260422T124424
CREATED:20260110T171052Z
LAST-MODIFIED:20260308T094820Z
UID:10025684-1749312000-1749313800@www.kvakare.se
SUMMARY:Eftermiddagsandakt med George Fox (Online)
DESCRIPTION:Du är välkommen att i stillhet och gemenskap upptäcka mer om kväkarnas andliga arv. Mitt i helgens alla måsten stannar vi upp för att vara med i en halvtimmes andakt som varje lördag inleds med ett nytt citat av George Fox. \n\n\n\nAndakterna börjar klockan 16.00 och slutar klockan 16.30.Kom när du kan! Välkommen! \n\n\n\nFör att få citaten i förväg kontakta: goteborg@kvakare.se.
URL:https://www.kvakare.se/event/eftermiddagsandakt-med-george-fox-online/2025-06-07/
ATTACH;FMTTYPE=image/jpeg:https://www.kvakare.se/wp-content/uploads/2024/01/George-Fox.jpg
ORGANIZER;CN="Kv%C3%A4karna i G%C3%B6teborg":MAILTO:goteborg@kvakare.se
END:VEVENT
END:VCALENDAR