BEGIN:VCALENDAR
VERSION:2.0
PRODID:-//Vännernas samfund (kväkarna) - ECPv6.15.20//NONSGML v1.0//EN
CALSCALE:GREGORIAN
METHOD:PUBLISH
X-WR-CALNAME:Vännernas samfund (kväkarna)
X-ORIGINAL-URL:https://www.kvakare.se
X-WR-CALDESC:Händelser för Vännernas samfund (kväkarna)
REFRESH-INTERVAL;VALUE=DURATION:PT1H
X-Robots-Tag:noindex
X-PUBLISHED-TTL:PT1H
BEGIN:VTIMEZONE
TZID:Europe/Helsinki
BEGIN:DAYLIGHT
TZOFFSETFROM:+0200
TZOFFSETTO:+0300
TZNAME:EEST
DTSTART:20240331T010000
END:DAYLIGHT
BEGIN:STANDARD
TZOFFSETFROM:+0300
TZOFFSETTO:+0200
TZNAME:EET
DTSTART:20241027T010000
END:STANDARD
BEGIN:DAYLIGHT
TZOFFSETFROM:+0200
TZOFFSETTO:+0300
TZNAME:EEST
DTSTART:20250330T010000
END:DAYLIGHT
BEGIN:STANDARD
TZOFFSETFROM:+0300
TZOFFSETTO:+0200
TZNAME:EET
DTSTART:20251026T010000
END:STANDARD
BEGIN:DAYLIGHT
TZOFFSETFROM:+0200
TZOFFSETTO:+0300
TZNAME:EEST
DTSTART:20260329T010000
END:DAYLIGHT
BEGIN:STANDARD
TZOFFSETFROM:+0300
TZOFFSETTO:+0200
TZNAME:EET
DTSTART:20261025T010000
END:STANDARD
END:VTIMEZONE
BEGIN:VEVENT
DTSTART;TZID=Europe/Helsinki:20250608T100000
DTEND;TZID=Europe/Helsinki:20250608T110000
DTSTAMP:20260422T162905
CREATED:20250525T113314Z
LAST-MODIFIED:20250525T113315Z
UID:10023118-1749376800-1749380400@www.kvakare.se
SUMMARY:Andakt i Svenstavik
DESCRIPTION:Var: Gamla skolan\, Kvissle 410 \n\n\n\nFika efteråt.
URL:https://www.kvakare.se/event/andakt-i-svenstavik-2/
ATTACH;FMTTYPE=image/jpeg:https://www.kvakare.se/wp-content/uploads/2025/05/IMG_20250504_222453-scaled.jpg
ORGANIZER;CN="Kv%C3%A4karna i J%C3%A4mtland":MAILTO:jamtland@kvakare.se
END:VEVENT
BEGIN:VEVENT
DTSTART;TZID=Europe/Helsinki:20250608T110000
DTEND;TZID=Europe/Helsinki:20250608T120000
DTSTAMP:20260422T162905
CREATED:20250410T191625Z
LAST-MODIFIED:20250610T085908Z
UID:10003423-1749380400-1749384000@www.kvakare.se
SUMMARY:Andakt via Zoom
DESCRIPTION:Stockholms Andaktsmöte inbjuder till en timmes andakt via Zoom. \n\n\n\nVi sitter tillsammans i tystnad under en timme och den som känner sig manad att dela något under stillheten kan göra det.Efter andakten går det bra att stanna kvar en liten stund för samtal och reflektioner kring andakten. \n\n\n\nOm det är första gången du deltar kan gärna förbereda dig genom att läsa Ditt första andaktsmöte.
URL:https://www.kvakare.se/event/andakt-via-zoom/2025-06-08/
ATTACH;FMTTYPE=image/jpeg:https://www.kvakare.se/wp-content/uploads/2021/08/david-tomaseti-AaZlf5FgUws-unsplash-scaled-e1730140919251.jpg
ORGANIZER;CN="Kv%C3%A4karna i Stockholm":MAILTO:stockholm@kvakare.se
END:VEVENT
BEGIN:VEVENT
DTSTART;TZID=Europe/Helsinki:20250608T110000
DTEND;TZID=Europe/Helsinki:20250608T120000
DTSTAMP:20260422T162905
CREATED:20250518T205923Z
LAST-MODIFIED:20250730T132244Z
UID:10022569-1749380400-1749384000@www.kvakare.se
SUMMARY:Andakt (Stockholm)
DESCRIPTION:Alla är välkomna. Du behöver inte anmäla dig. Efter andakten serveras fika till självkostnadspris.
URL:https://www.kvakare.se/event/andakt-i-stockholm/2025-06-08/
ATTACH;FMTTYPE=image/png:https://www.kvakare.se/wp-content/uploads/2024/02/image.png
ORGANIZER;CN="Kv%C3%A4karna i Stockholm":MAILTO:stockholm@kvakare.se
END:VEVENT
BEGIN:VEVENT
DTSTART;TZID=Europe/Helsinki:20250608T140000
DTEND;TZID=Europe/Helsinki:20250608T150000
DTSTAMP:20260422T162905
CREATED:20250422T060220Z
LAST-MODIFIED:20250527T111030Z
UID:10003544-1749391200-1749394800@www.kvakare.se
SUMMARY:Andakt i Östergötland
DESCRIPTION:Östergötlands andaktsgrupp bjuder in till en timmes stilla andakt i Norrköping. \n\n\n\nKontakta oss för mer information om detta tillfälle eller andra frågor.
URL:https://www.kvakare.se/event/andakt-i-ostergotland-6/
ATTACH;FMTTYPE=image/jpeg:https://www.kvakare.se/wp-content/uploads/2021/08/david-tomaseti-AaZlf5FgUws-unsplash-scaled-e1730140919251.jpg
ORGANIZER;CN="Kv%C3%A4karna i %C3%96sterg%C3%B6tland":MAILTO:ostergotland@kvakare.se
END:VEVENT
BEGIN:VEVENT
DTSTART;TZID=Europe/Helsinki:20250608T150000
DTEND;TZID=Europe/Helsinki:20250608T150000
DTSTAMP:20260422T162905
CREATED:20250515T142332Z
LAST-MODIFIED:20250527T111144Z
UID:10022443-1749394800-1749394800@www.kvakare.se
SUMMARY:Global digital andakt
DESCRIPTION:Välkommen att delta i andakt med Vänner från hela världen. Det är den andra globala digitala andakten i år. Målet är att hålla fyra andakter där varje sektion är värd för en av dem. Den här anordnas av Afrika.Mer information här: https://fwcc.world/event/global-online-worship-hosted-by-the-africa-section \n\n\n\nAnmälan för Zoom-länk: https://us02web.zoom.us/meeting/register/yhlC3XymSuaHRhuF5zhelg#/registration
URL:https://www.kvakare.se/event/global-digital-andakt/
ATTACH;FMTTYPE=image/jpeg:https://www.kvakare.se/wp-content/uploads/2025/03/1000_F_31074964_RuthQ2ZHeN1agHH08Ow9W9OHhjQECaJT.jpg
ORGANIZER;CN="Kv%C3%A4karna i Sverige":MAILTO:info@kvakare.se
END:VEVENT
BEGIN:VEVENT
DTSTART;TZID=Europe/Helsinki:20250612T190000
DTEND;TZID=Europe/Helsinki:20250612T193000
DTSTAMP:20260422T162905
CREATED:20250518T210348Z
LAST-MODIFIED:20250730T132318Z
UID:10022830-1749754800-1749756600@www.kvakare.se
SUMMARY:Andakt (Stockholm)
DESCRIPTION:Alla är välkomna. Du behöver inte anmäla dig.
URL:https://www.kvakare.se/event/andakt-i-stockholm-3/2025-06-12/
ATTACH;FMTTYPE=image/png:https://www.kvakare.se/wp-content/uploads/2024/02/image.png
ORGANIZER;CN="Kv%C3%A4karna i Stockholm":MAILTO:stockholm@kvakare.se
END:VEVENT
BEGIN:VEVENT
DTSTART;TZID=Europe/Helsinki:20250614T110000
DTEND;TZID=Europe/Helsinki:20250614T120000
DTSTAMP:20260422T162905
CREATED:20250528T054944Z
LAST-MODIFIED:20250531T153625Z
UID:10023182-1749898800-1749902400@www.kvakare.se
SUMMARY:Andakt i Alvesta
DESCRIPTION:Efter andakten följer lunch\, samtal ur tystnaden och fika. \n\n\n\nMan behöver anmäla sig. I samband med det\, meddela gärna om du har särskilda önskemål när det gäller mat. Vegetariskt är standard. I samband med anmälan meddelas också adressen. \n\n\n\nVälkomna.
URL:https://www.kvakare.se/event/andakt-i-alvesta/
ATTACH;FMTTYPE=image/jpeg:https://www.kvakare.se/wp-content/uploads/2021/08/david-tomaseti-AaZlf5FgUws-unsplash-scaled-e1730140919251.jpg
ORGANIZER;CN="Kv%C3%A4karna i Sm%C3%A5land":MAILTO:smaland@kvakare.se
END:VEVENT
BEGIN:VEVENT
DTSTART;TZID=Europe/Helsinki:20250614T110000
DTEND;TZID=Europe/Helsinki:20250614T130000
DTSTAMP:20260422T162905
CREATED:20250527T104126Z
LAST-MODIFIED:20250527T104127Z
UID:10003357-1749898800-1749906000@www.kvakare.se
SUMMARY:Studiecirkel i Malmö
DESCRIPTION:Hur kväkare söker det inre Ljuset för att stärka hopp och mod \n\n\n\nTid: Lördagar från 25 jan till 14 juni \n\n\n\n\n\n\n\n \n\n\n\nVarje tillfälle kommer att vara fristående och knyta an till temat. Tillfällena kommer att bestå av att vi läser kväkartexter och andra texter\, reflekterar och kontemplerar\, och samtalar. Vi avslutar med fika. Det går att avvika efter ungefär en timme om man behöver det.Som deltagare vid studiecirkeln behöver du inte förbereda eller anmäla dig. Träffarna är kostnadsfria och vi välkomnar ett bidrag till fika\, kontant eller swish. Du kan läsa mer om Bildas studiecirklar här https://www.bilda.nu/om-studieforbundet-bilda/om-folkbildning/vad-ar-en-studiecirkel.
URL:https://www.kvakare.se/event/studiecirkel-i-malmo/2025-06-14/
ATTACH;FMTTYPE=image/jpeg:https://www.kvakare.se/wp-content/uploads/2023/11/pexels-dhivakaran-s-783200-scaled.jpg
ORGANIZER;CN="Kv%C3%A4karna i Malm%C3%B6":MAILTO:malmo@kvakare.se
END:VEVENT
BEGIN:VEVENT
DTSTART;TZID=Europe/Helsinki:20250614T160000
DTEND;TZID=Europe/Helsinki:20250614T163000
DTSTAMP:20260422T162905
CREATED:20250527T104338Z
LAST-MODIFIED:20250815T170924Z
UID:10003380-1749916800-1749918600@www.kvakare.se
SUMMARY:Eftermiddagsandakt med George Fox
DESCRIPTION:Du är välkommen att i stillhet och gemenskap upptäcka mer om kväkarnas andliga arv. Mitt i helgens alla måsten stannar vi upp för att vara med i en halvtimmes andakt som varje lördag inleds med ett nytt citat av George Fox. \n\n\n\nAndakterna börjar klockan 16.00 och slutar klockan 16.30\, från och med den 1 februari. Kom när du kan! Välkommen! \n\n\n\nFör att få citaten i förväg kontakta: goteborg@kvakare.se
URL:https://www.kvakare.se/event/eftermiddagsstund-med-george-fox-2/2025-06-14/
ATTACH;FMTTYPE=image/jpeg:https://www.kvakare.se/wp-content/uploads/2024/01/George-Fox.jpg
ORGANIZER;CN="Kv%C3%A4karna i G%C3%B6teborg":MAILTO:goteborg@kvakare.se
END:VEVENT
BEGIN:VEVENT
DTSTART;TZID=Europe/Helsinki:20250614T160000
DTEND;TZID=Europe/Helsinki:20250614T163000
DTSTAMP:20260422T162905
CREATED:20250815T171016Z
LAST-MODIFIED:20260110T171032Z
UID:10024461-1749916800-1749918600@www.kvakare.se
SUMMARY:Eftermiddagsandakt med George Fox (Online)
DESCRIPTION:Du är välkommen att i stillhet och gemenskap upptäcka mer om kväkarnas andliga arv. Mitt i helgens alla måsten stannar vi upp för att vara med i en halvtimmes andakt som varje lördag inleds med ett nytt citat av George Fox. \n\n\n\nAndakterna börjar klockan 16.00 och slutar klockan 16.30.Kom när du kan! Välkommen! \n\n\n\nFör att få citaten i förväg kontakta: goteborg@kvakare.se.
URL:https://www.kvakare.se/event/eftermiddagsandakt-med-george-fox/2025-06-14/
ATTACH;FMTTYPE=image/jpeg:https://www.kvakare.se/wp-content/uploads/2024/01/George-Fox.jpg
ORGANIZER;CN="Kv%C3%A4karna i G%C3%B6teborg":MAILTO:goteborg@kvakare.se
END:VEVENT
BEGIN:VEVENT
DTSTART;TZID=Europe/Helsinki:20250614T160000
DTEND;TZID=Europe/Helsinki:20250614T163000
DTSTAMP:20260422T162905
CREATED:20260110T171052Z
LAST-MODIFIED:20260308T094820Z
UID:10025685-1749916800-1749918600@www.kvakare.se
SUMMARY:Eftermiddagsandakt med George Fox (Online)
DESCRIPTION:Du är välkommen att i stillhet och gemenskap upptäcka mer om kväkarnas andliga arv. Mitt i helgens alla måsten stannar vi upp för att vara med i en halvtimmes andakt som varje lördag inleds med ett nytt citat av George Fox. \n\n\n\nAndakterna börjar klockan 16.00 och slutar klockan 16.30.Kom när du kan! Välkommen! \n\n\n\nFör att få citaten i förväg kontakta: goteborg@kvakare.se.
URL:https://www.kvakare.se/event/eftermiddagsandakt-med-george-fox-online/2025-06-14/
ATTACH;FMTTYPE=image/jpeg:https://www.kvakare.se/wp-content/uploads/2024/01/George-Fox.jpg
ORGANIZER;CN="Kv%C3%A4karna i G%C3%B6teborg":MAILTO:goteborg@kvakare.se
END:VEVENT
BEGIN:VEVENT
DTSTART;TZID=Europe/Helsinki:20250614T170000
DTEND;TZID=Europe/Helsinki:20250614T180000
DTSTAMP:20260422T162905
CREATED:20250428T080340Z
LAST-MODIFIED:20250527T111656Z
UID:10003548-1749920400-1749924000@www.kvakare.se
SUMMARY:Andakt i Järna
DESCRIPTION:Med efterföljande vegansk måltid.
URL:https://www.kvakare.se/event/andakt-i-jarna-2/
ATTACH;FMTTYPE=image/png:https://www.kvakare.se/wp-content/uploads/2024/02/image.png
END:VEVENT
BEGIN:VEVENT
DTSTART;TZID=Europe/Helsinki:20250615T110000
DTEND;TZID=Europe/Helsinki:20250615T120000
DTSTAMP:20260422T162905
CREATED:20250518T205923Z
LAST-MODIFIED:20250730T132244Z
UID:10022570-1749985200-1749988800@www.kvakare.se
SUMMARY:Andakt (Stockholm)
DESCRIPTION:Alla är välkomna. Du behöver inte anmäla dig. Efter andakten serveras fika till självkostnadspris.
URL:https://www.kvakare.se/event/andakt-i-stockholm/2025-06-15/
ATTACH;FMTTYPE=image/png:https://www.kvakare.se/wp-content/uploads/2024/02/image.png
ORGANIZER;CN="Kv%C3%A4karna i Stockholm":MAILTO:stockholm@kvakare.se
END:VEVENT
BEGIN:VEVENT
DTSTART;TZID=Europe/Helsinki:20250615T180000
DTEND;TZID=Europe/Helsinki:20250615T190000
DTSTAMP:20260422T162905
CREATED:20250525T113520Z
LAST-MODIFIED:20250525T113521Z
UID:10023119-1750010400-1750014000@www.kvakare.se
SUMMARY:Andakt i Svenstavik
DESCRIPTION:Var: Andaktsrummet i bagarstugan\, Kvissle 216 \n\n\n\nFika efteråt.
URL:https://www.kvakare.se/event/andakt-i-svenstavik-3/
ATTACH;FMTTYPE=image/jpeg:https://www.kvakare.se/wp-content/uploads/2025/05/IMG_20250504_222453-scaled.jpg
ORGANIZER;CN="Kv%C3%A4karna i J%C3%A4mtland":MAILTO:jamtland@kvakare.se
END:VEVENT
BEGIN:VEVENT
DTSTART;TZID=Europe/Helsinki:20250619T190000
DTEND;TZID=Europe/Helsinki:20250619T193000
DTSTAMP:20260422T162905
CREATED:20250518T210348Z
LAST-MODIFIED:20250730T132318Z
UID:10022831-1750359600-1750361400@www.kvakare.se
SUMMARY:Andakt (Stockholm)
DESCRIPTION:Alla är välkomna. Du behöver inte anmäla dig.
URL:https://www.kvakare.se/event/andakt-i-stockholm-3/2025-06-19/
ATTACH;FMTTYPE=image/png:https://www.kvakare.se/wp-content/uploads/2024/02/image.png
ORGANIZER;CN="Kv%C3%A4karna i Stockholm":MAILTO:stockholm@kvakare.se
END:VEVENT
BEGIN:VEVENT
DTSTART;TZID=Europe/Helsinki:20250621T160000
DTEND;TZID=Europe/Helsinki:20250621T163000
DTSTAMP:20260422T162905
CREATED:20250527T104338Z
LAST-MODIFIED:20250815T170924Z
UID:10022555-1750521600-1750523400@www.kvakare.se
SUMMARY:Eftermiddagsandakt med George Fox
DESCRIPTION:Du är välkommen att i stillhet och gemenskap upptäcka mer om kväkarnas andliga arv. Mitt i helgens alla måsten stannar vi upp för att vara med i en halvtimmes andakt som varje lördag inleds med ett nytt citat av George Fox. \n\n\n\nAndakterna börjar klockan 16.00 och slutar klockan 16.30\, från och med den 1 februari. Kom när du kan! Välkommen! \n\n\n\nFör att få citaten i förväg kontakta: goteborg@kvakare.se
URL:https://www.kvakare.se/event/eftermiddagsstund-med-george-fox-2/2025-06-21/
ATTACH;FMTTYPE=image/jpeg:https://www.kvakare.se/wp-content/uploads/2024/01/George-Fox.jpg
ORGANIZER;CN="Kv%C3%A4karna i G%C3%B6teborg":MAILTO:goteborg@kvakare.se
END:VEVENT
BEGIN:VEVENT
DTSTART;TZID=Europe/Helsinki:20250621T160000
DTEND;TZID=Europe/Helsinki:20250621T163000
DTSTAMP:20260422T162905
CREATED:20250815T171016Z
LAST-MODIFIED:20260110T171032Z
UID:10024462-1750521600-1750523400@www.kvakare.se
SUMMARY:Eftermiddagsandakt med George Fox (Online)
DESCRIPTION:Du är välkommen att i stillhet och gemenskap upptäcka mer om kväkarnas andliga arv. Mitt i helgens alla måsten stannar vi upp för att vara med i en halvtimmes andakt som varje lördag inleds med ett nytt citat av George Fox. \n\n\n\nAndakterna börjar klockan 16.00 och slutar klockan 16.30.Kom när du kan! Välkommen! \n\n\n\nFör att få citaten i förväg kontakta: goteborg@kvakare.se.
URL:https://www.kvakare.se/event/eftermiddagsandakt-med-george-fox/2025-06-21/
ATTACH;FMTTYPE=image/jpeg:https://www.kvakare.se/wp-content/uploads/2024/01/George-Fox.jpg
ORGANIZER;CN="Kv%C3%A4karna i G%C3%B6teborg":MAILTO:goteborg@kvakare.se
END:VEVENT
BEGIN:VEVENT
DTSTART;TZID=Europe/Helsinki:20250621T160000
DTEND;TZID=Europe/Helsinki:20250621T163000
DTSTAMP:20260422T162905
CREATED:20260110T171052Z
LAST-MODIFIED:20260308T094820Z
UID:10025686-1750521600-1750523400@www.kvakare.se
SUMMARY:Eftermiddagsandakt med George Fox (Online)
DESCRIPTION:Du är välkommen att i stillhet och gemenskap upptäcka mer om kväkarnas andliga arv. Mitt i helgens alla måsten stannar vi upp för att vara med i en halvtimmes andakt som varje lördag inleds med ett nytt citat av George Fox. \n\n\n\nAndakterna börjar klockan 16.00 och slutar klockan 16.30.Kom när du kan! Välkommen! \n\n\n\nFör att få citaten i förväg kontakta: goteborg@kvakare.se.
URL:https://www.kvakare.se/event/eftermiddagsandakt-med-george-fox-online/2025-06-21/
ATTACH;FMTTYPE=image/jpeg:https://www.kvakare.se/wp-content/uploads/2024/01/George-Fox.jpg
ORGANIZER;CN="Kv%C3%A4karna i G%C3%B6teborg":MAILTO:goteborg@kvakare.se
END:VEVENT
BEGIN:VEVENT
DTSTART;TZID=Europe/Helsinki:20250622T100000
DTEND;TZID=Europe/Helsinki:20250622T110000
DTSTAMP:20260422T162905
CREATED:20250525T113704Z
LAST-MODIFIED:20250525T113705Z
UID:10023120-1750586400-1750590000@www.kvakare.se
SUMMARY:Andakt i Svenstavik
DESCRIPTION:Var: Gamla skolan\, Kvissle 410 \n\n\n\nFika efteråt.
URL:https://www.kvakare.se/event/andakt-i-svenstavik-4/
ATTACH;FMTTYPE=image/jpeg:https://www.kvakare.se/wp-content/uploads/2025/05/IMG_20250504_222453-scaled.jpg
ORGANIZER;CN="Kv%C3%A4karna i J%C3%A4mtland":MAILTO:jamtland@kvakare.se
END:VEVENT
BEGIN:VEVENT
DTSTART;TZID=Europe/Helsinki:20250622T110000
DTEND;TZID=Europe/Helsinki:20250622T120000
DTSTAMP:20260422T162905
CREATED:20250410T191625Z
LAST-MODIFIED:20250610T085908Z
UID:10003424-1750590000-1750593600@www.kvakare.se
SUMMARY:Andakt via Zoom
DESCRIPTION:Stockholms Andaktsmöte inbjuder till en timmes andakt via Zoom. \n\n\n\nVi sitter tillsammans i tystnad under en timme och den som känner sig manad att dela något under stillheten kan göra det.Efter andakten går det bra att stanna kvar en liten stund för samtal och reflektioner kring andakten. \n\n\n\nOm det är första gången du deltar kan gärna förbereda dig genom att läsa Ditt första andaktsmöte.
URL:https://www.kvakare.se/event/andakt-via-zoom/2025-06-22/
ATTACH;FMTTYPE=image/jpeg:https://www.kvakare.se/wp-content/uploads/2021/08/david-tomaseti-AaZlf5FgUws-unsplash-scaled-e1730140919251.jpg
ORGANIZER;CN="Kv%C3%A4karna i Stockholm":MAILTO:stockholm@kvakare.se
END:VEVENT
BEGIN:VEVENT
DTSTART;TZID=Europe/Helsinki:20250622T110000
DTEND;TZID=Europe/Helsinki:20250622T120000
DTSTAMP:20260422T162905
CREATED:20250518T205923Z
LAST-MODIFIED:20250730T132244Z
UID:10022571-1750590000-1750593600@www.kvakare.se
SUMMARY:Andakt (Stockholm)
DESCRIPTION:Alla är välkomna. Du behöver inte anmäla dig. Efter andakten serveras fika till självkostnadspris.
URL:https://www.kvakare.se/event/andakt-i-stockholm/2025-06-22/
ATTACH;FMTTYPE=image/png:https://www.kvakare.se/wp-content/uploads/2024/02/image.png
ORGANIZER;CN="Kv%C3%A4karna i Stockholm":MAILTO:stockholm@kvakare.se
END:VEVENT
BEGIN:VEVENT
DTSTART;TZID=Europe/Helsinki:20250626T190000
DTEND;TZID=Europe/Helsinki:20250626T193000
DTSTAMP:20260422T162905
CREATED:20250518T210348Z
LAST-MODIFIED:20250730T132318Z
UID:10022832-1750964400-1750966200@www.kvakare.se
SUMMARY:Andakt (Stockholm)
DESCRIPTION:Alla är välkomna. Du behöver inte anmäla dig.
URL:https://www.kvakare.se/event/andakt-i-stockholm-3/2025-06-26/
ATTACH;FMTTYPE=image/png:https://www.kvakare.se/wp-content/uploads/2024/02/image.png
ORGANIZER;CN="Kv%C3%A4karna i Stockholm":MAILTO:stockholm@kvakare.se
END:VEVENT
BEGIN:VEVENT
DTSTART;TZID=Europe/Helsinki:20250628T160000
DTEND;TZID=Europe/Helsinki:20250628T163000
DTSTAMP:20260422T162905
CREATED:20250621T152408Z
LAST-MODIFIED:20250621T152409Z
UID:10022556-1751126400-1751128200@www.kvakare.se
SUMMARY:INSTÄLLT: Eftermiddagsstund med George Fox
DESCRIPTION:!! INSTÄLLT !!\n\n\n\nDu är välkommen att i stillhet och gemenskap upptäcka mer om kväkarnas andliga arv. Mitt i helgens alla måsten stannar vi upp för att vara med i en halvtimmes andakt som varje lördag inleds med ett nytt citat av George Fox. \n\n\n\nAndakterna börjar klockan 16.00 och slutar klockan 16.30\, från och med den 1 februari. Kom när du kan! Välkommen!  \n\n\n\nFör att få citaten i förväg kontakta: goteborg@kvakare.se \n\n\n\n!! INSTÄLLT !!
URL:https://www.kvakare.se/event/eftermiddagsstund-med-george-fox-3/
ATTACH;FMTTYPE=image/jpeg:https://www.kvakare.se/wp-content/uploads/2024/01/George-Fox.jpg
ORGANIZER;CN="Kv%C3%A4karna i G%C3%B6teborg":MAILTO:goteborg@kvakare.se
END:VEVENT
BEGIN:VEVENT
DTSTART;TZID=Europe/Helsinki:20250629T110000
DTEND;TZID=Europe/Helsinki:20250629T120000
DTSTAMP:20260422T162905
CREATED:20250518T205923Z
LAST-MODIFIED:20250730T132244Z
UID:10022572-1751194800-1751198400@www.kvakare.se
SUMMARY:Andakt (Stockholm)
DESCRIPTION:Alla är välkomna. Du behöver inte anmäla dig. Efter andakten serveras fika till självkostnadspris.
URL:https://www.kvakare.se/event/andakt-i-stockholm/2025-06-29/
ATTACH;FMTTYPE=image/png:https://www.kvakare.se/wp-content/uploads/2024/02/image.png
ORGANIZER;CN="Kv%C3%A4karna i Stockholm":MAILTO:stockholm@kvakare.se
END:VEVENT
BEGIN:VEVENT
DTSTART;TZID=Europe/Helsinki:20250629T180000
DTEND;TZID=Europe/Helsinki:20250629T190000
DTSTAMP:20260422T162905
CREATED:20250525T113838Z
LAST-MODIFIED:20250525T113839Z
UID:10023121-1751220000-1751223600@www.kvakare.se
SUMMARY:Andakt i Svenstavik
DESCRIPTION:Var: Andaktsrummet i bagarstugan\, Kvissle 216 \n\n\n\nFika efteråt.
URL:https://www.kvakare.se/event/andakt-i-svenstavik-5/
ATTACH;FMTTYPE=image/jpeg:https://www.kvakare.se/wp-content/uploads/2025/05/IMG_20250504_222453-scaled.jpg
ORGANIZER;CN="Kv%C3%A4karna i J%C3%A4mtland":MAILTO:jamtland@kvakare.se
END:VEVENT
BEGIN:VEVENT
DTSTART;TZID=Europe/Helsinki:20250703T000000
DTEND;TZID=Europe/Helsinki:20250706T235959
DTSTAMP:20260422T162905
CREATED:20250330T144627Z
LAST-MODIFIED:20250527T113332Z
UID:10003408-1751500800-1751846399@www.kvakare.se
SUMMARY:Nordiska årsmöten
DESCRIPTION:Senaste anmälningsdag har passerat\, men här finns mer information.
URL:https://www.kvakare.se/event/nordiska-arsmoten/
ATTACH;FMTTYPE=image/jpeg:https://www.kvakare.se/wp-content/uploads/2021/06/Flags_of_Scandinavia.jpg
ORGANIZER;CN="Kv%C3%A4karna i Sverige":MAILTO:info@kvakare.se
END:VEVENT
BEGIN:VEVENT
DTSTART;TZID=Europe/Helsinki:20250703T190000
DTEND;TZID=Europe/Helsinki:20250703T193000
DTSTAMP:20260422T162905
CREATED:20250518T210348Z
LAST-MODIFIED:20250730T132318Z
UID:10023241-1751569200-1751571000@www.kvakare.se
SUMMARY:Andakt (Stockholm)
DESCRIPTION:Alla är välkomna. Du behöver inte anmäla dig.
URL:https://www.kvakare.se/event/andakt-i-stockholm-3/2025-07-03/
ATTACH;FMTTYPE=image/png:https://www.kvakare.se/wp-content/uploads/2024/02/image.png
ORGANIZER;CN="Kv%C3%A4karna i Stockholm":MAILTO:stockholm@kvakare.se
END:VEVENT
BEGIN:VEVENT
DTSTART;TZID=Europe/Helsinki:20250705T160000
DTEND;TZID=Europe/Helsinki:20250705T163000
DTSTAMP:20260422T162905
CREATED:20250527T104338Z
LAST-MODIFIED:20250815T170924Z
UID:10022557-1751731200-1751733000@www.kvakare.se
SUMMARY:Eftermiddagsandakt med George Fox
DESCRIPTION:Du är välkommen att i stillhet och gemenskap upptäcka mer om kväkarnas andliga arv. Mitt i helgens alla måsten stannar vi upp för att vara med i en halvtimmes andakt som varje lördag inleds med ett nytt citat av George Fox. \n\n\n\nAndakterna börjar klockan 16.00 och slutar klockan 16.30\, från och med den 1 februari. Kom när du kan! Välkommen! \n\n\n\nFör att få citaten i förväg kontakta: goteborg@kvakare.se
URL:https://www.kvakare.se/event/eftermiddagsstund-med-george-fox-2/2025-07-05/
ATTACH;FMTTYPE=image/jpeg:https://www.kvakare.se/wp-content/uploads/2024/01/George-Fox.jpg
ORGANIZER;CN="Kv%C3%A4karna i G%C3%B6teborg":MAILTO:goteborg@kvakare.se
END:VEVENT
BEGIN:VEVENT
DTSTART;TZID=Europe/Helsinki:20250705T160000
DTEND;TZID=Europe/Helsinki:20250705T163000
DTSTAMP:20260422T162905
CREATED:20250815T171016Z
LAST-MODIFIED:20260110T171032Z
UID:10024463-1751731200-1751733000@www.kvakare.se
SUMMARY:Eftermiddagsandakt med George Fox (Online)
DESCRIPTION:Du är välkommen att i stillhet och gemenskap upptäcka mer om kväkarnas andliga arv. Mitt i helgens alla måsten stannar vi upp för att vara med i en halvtimmes andakt som varje lördag inleds med ett nytt citat av George Fox. \n\n\n\nAndakterna börjar klockan 16.00 och slutar klockan 16.30.Kom när du kan! Välkommen! \n\n\n\nFör att få citaten i förväg kontakta: goteborg@kvakare.se.
URL:https://www.kvakare.se/event/eftermiddagsandakt-med-george-fox/2025-07-05/
ATTACH;FMTTYPE=image/jpeg:https://www.kvakare.se/wp-content/uploads/2024/01/George-Fox.jpg
ORGANIZER;CN="Kv%C3%A4karna i G%C3%B6teborg":MAILTO:goteborg@kvakare.se
END:VEVENT
BEGIN:VEVENT
DTSTART;TZID=Europe/Helsinki:20250705T160000
DTEND;TZID=Europe/Helsinki:20250705T163000
DTSTAMP:20260422T162905
CREATED:20260110T171052Z
LAST-MODIFIED:20260308T094820Z
UID:10025687-1751731200-1751733000@www.kvakare.se
SUMMARY:Eftermiddagsandakt med George Fox (Online)
DESCRIPTION:Du är välkommen att i stillhet och gemenskap upptäcka mer om kväkarnas andliga arv. Mitt i helgens alla måsten stannar vi upp för att vara med i en halvtimmes andakt som varje lördag inleds med ett nytt citat av George Fox. \n\n\n\nAndakterna börjar klockan 16.00 och slutar klockan 16.30.Kom när du kan! Välkommen! \n\n\n\nFör att få citaten i förväg kontakta: goteborg@kvakare.se.
URL:https://www.kvakare.se/event/eftermiddagsandakt-med-george-fox-online/2025-07-05/
ATTACH;FMTTYPE=image/jpeg:https://www.kvakare.se/wp-content/uploads/2024/01/George-Fox.jpg
ORGANIZER;CN="Kv%C3%A4karna i G%C3%B6teborg":MAILTO:goteborg@kvakare.se
END:VEVENT
END:VCALENDAR