BEGIN:VCALENDAR
VERSION:2.0
PRODID:-//Vännernas samfund (kväkarna) - ECPv6.15.20//NONSGML v1.0//EN
CALSCALE:GREGORIAN
METHOD:PUBLISH
X-WR-CALNAME:Vännernas samfund (kväkarna)
X-ORIGINAL-URL:https://www.kvakare.se
X-WR-CALDESC:Händelser för Vännernas samfund (kväkarna)
REFRESH-INTERVAL;VALUE=DURATION:PT1H
X-Robots-Tag:noindex
X-PUBLISHED-TTL:PT1H
BEGIN:VTIMEZONE
TZID:Europe/Helsinki
BEGIN:DAYLIGHT
TZOFFSETFROM:+0200
TZOFFSETTO:+0300
TZNAME:EEST
DTSTART:20250330T010000
END:DAYLIGHT
BEGIN:STANDARD
TZOFFSETFROM:+0300
TZOFFSETTO:+0200
TZNAME:EET
DTSTART:20251026T010000
END:STANDARD
BEGIN:DAYLIGHT
TZOFFSETFROM:+0200
TZOFFSETTO:+0300
TZNAME:EEST
DTSTART:20260329T010000
END:DAYLIGHT
BEGIN:STANDARD
TZOFFSETFROM:+0300
TZOFFSETTO:+0200
TZNAME:EET
DTSTART:20261025T010000
END:STANDARD
BEGIN:DAYLIGHT
TZOFFSETFROM:+0200
TZOFFSETTO:+0300
TZNAME:EEST
DTSTART:20270328T010000
END:DAYLIGHT
BEGIN:STANDARD
TZOFFSETFROM:+0300
TZOFFSETTO:+0200
TZNAME:EET
DTSTART:20271031T010000
END:STANDARD
END:VTIMEZONE
BEGIN:VEVENT
DTSTART;TZID=Europe/Helsinki:20261210T190000
DTEND;TZID=Europe/Helsinki:20261210T193000
DTSTAMP:20260423T190419
CREATED:20220522T094836Z
LAST-MODIFIED:20220522T094836Z
UID:10010672-1796929200-1796931000@www.kvakare.se
SUMMARY:Andakt i Stockholm
DESCRIPTION:Stockholms andaktsmöte bjuder in till en halvtimmes andakt. Alla är välkomna. Du behöver inte anmäla dig.
URL:https://www.kvakare.se/event/andakt-i-stockholm-5-2023-03-09/
LOCATION:Kväkargården\, Kristinehovsgatan 6\, Stockholm\, 11729\, Sverige
CATEGORIES:Andakt
ORGANIZER;CN="Kv%C3%A4karna i Stockholm":MAILTO:stockholm@kvakare.se
GEO:59.3181548;18.0409199
X-APPLE-STRUCTURED-LOCATION;VALUE=URI;X-ADDRESS=Kväkargården Kristinehovsgatan 6 Stockholm 11729 Sverige;X-APPLE-RADIUS=500;X-TITLE=Kristinehovsgatan 6:geo:18.0409199,59.3181548
END:VEVENT
BEGIN:VEVENT
DTSTART;TZID=Europe/Helsinki:20261210T190000
DTEND;TZID=Europe/Helsinki:20261210T193000
DTSTAMP:20260423T190419
CREATED:20220522T094836Z
LAST-MODIFIED:20220522T094836Z
UID:10014920-1796929200-1796931000@www.kvakare.se
SUMMARY:Andakt i Stockholm
DESCRIPTION:Stockholms andaktsmöte bjuder in till en halvtimmes andakt. Alla är välkomna. Du behöver inte anmäla dig.
URL:https://www.kvakare.se/event/andakt-i-stockholm-5-2022-12-29-2/
LOCATION:Kväkargården\, Kristinehovsgatan 6\, Stockholm\, 11729\, Sverige
CATEGORIES:Andakt
ORGANIZER;CN="Kv%C3%A4karna i Stockholm":MAILTO:stockholm@kvakare.se
GEO:59.3181548;18.0409199
X-APPLE-STRUCTURED-LOCATION;VALUE=URI;X-ADDRESS=Kväkargården Kristinehovsgatan 6 Stockholm 11729 Sverige;X-APPLE-RADIUS=500;X-TITLE=Kristinehovsgatan 6:geo:18.0409199,59.3181548
END:VEVENT
BEGIN:VEVENT
DTSTART;TZID=Europe/Helsinki:20261210T190000
DTEND;TZID=Europe/Helsinki:20261210T193000
DTSTAMP:20260423T190419
CREATED:20220522T094836Z
LAST-MODIFIED:20220522T094836Z
UID:10014535-1796929200-1796931000@www.kvakare.se
SUMMARY:Andakt i Stockholm
DESCRIPTION:Stockholms andaktsmöte bjuder in till en halvtimmes andakt. Alla är välkomna. Du behöver inte anmäla dig.
URL:https://www.kvakare.se/event/andakt-i-stockholm-5-2022-12-22-2/
LOCATION:Kväkargården\, Kristinehovsgatan 6\, Stockholm\, 11729\, Sverige
CATEGORIES:Andakt
ORGANIZER;CN="Kv%C3%A4karna i Stockholm":MAILTO:stockholm@kvakare.se
GEO:59.3181548;18.0409199
X-APPLE-STRUCTURED-LOCATION;VALUE=URI;X-ADDRESS=Kväkargården Kristinehovsgatan 6 Stockholm 11729 Sverige;X-APPLE-RADIUS=500;X-TITLE=Kristinehovsgatan 6:geo:18.0409199,59.3181548
END:VEVENT
BEGIN:VEVENT
DTSTART;TZID=Europe/Helsinki:20261210T190000
DTEND;TZID=Europe/Helsinki:20261210T193000
DTSTAMP:20260423T190419
CREATED:20220522T094836Z
LAST-MODIFIED:20220522T094836Z
UID:10008787-1796929200-1796931000@www.kvakare.se
SUMMARY:Andakt i Stockholm
DESCRIPTION:Stockholms andaktsmöte bjuder in till en halvtimmes andakt. Alla är välkomna. Du behöver inte anmäla dig.
URL:https://www.kvakare.se/event/andakt-i-stockholm-5-2023-02-02/
LOCATION:Kväkargården\, Kristinehovsgatan 6\, Stockholm\, 11729\, Sverige
CATEGORIES:Andakt
ORGANIZER;CN="Kv%C3%A4karna i Stockholm":MAILTO:stockholm@kvakare.se
GEO:59.3181548;18.0409199
X-APPLE-STRUCTURED-LOCATION;VALUE=URI;X-ADDRESS=Kväkargården Kristinehovsgatan 6 Stockholm 11729 Sverige;X-APPLE-RADIUS=500;X-TITLE=Kristinehovsgatan 6:geo:18.0409199,59.3181548
END:VEVENT
BEGIN:VEVENT
DTSTART;TZID=Europe/Helsinki:20261210T190000
DTEND;TZID=Europe/Helsinki:20261210T193000
DTSTAMP:20260423T190419
CREATED:20220522T094836Z
LAST-MODIFIED:20220522T094836Z
UID:10017209-1796929200-1796931000@www.kvakare.se
SUMMARY:Andakt i Stockholm
DESCRIPTION:Stockholms andaktsmöte bjuder in till en halvtimmes andakt. Alla är välkomna. Du behöver inte anmäla dig.
URL:https://www.kvakare.se/event/andakt-i-stockholm-5-2023-02-09-2/
LOCATION:Kväkargården\, Kristinehovsgatan 6\, Stockholm\, 11729\, Sverige
CATEGORIES:Andakt
ORGANIZER;CN="Kv%C3%A4karna i Stockholm":MAILTO:stockholm@kvakare.se
GEO:59.3181548;18.0409199
X-APPLE-STRUCTURED-LOCATION;VALUE=URI;X-ADDRESS=Kväkargården Kristinehovsgatan 6 Stockholm 11729 Sverige;X-APPLE-RADIUS=500;X-TITLE=Kristinehovsgatan 6:geo:18.0409199,59.3181548
END:VEVENT
BEGIN:VEVENT
DTSTART;TZID=Europe/Helsinki:20261210T190000
DTEND;TZID=Europe/Helsinki:20261210T193000
DTSTAMP:20260423T190419
CREATED:20220522T094836Z
LAST-MODIFIED:20220522T094836Z
UID:10021028-1796929200-1796931000@www.kvakare.se
SUMMARY:Andakt i Stockholm
DESCRIPTION:Stockholms andaktsmöte bjuder in till en halvtimmes andakt. Alla är välkomna. Du behöver inte anmäla dig.
URL:https://www.kvakare.se/event/andakt-i-stockholm-5-2022-11-24-3/
LOCATION:Kväkargården\, Kristinehovsgatan 6\, Stockholm\, 11729\, Sverige
CATEGORIES:Andakt
ORGANIZER;CN="Kv%C3%A4karna i Stockholm":MAILTO:stockholm@kvakare.se
GEO:59.3181548;18.0409199
X-APPLE-STRUCTURED-LOCATION;VALUE=URI;X-ADDRESS=Kväkargården Kristinehovsgatan 6 Stockholm 11729 Sverige;X-APPLE-RADIUS=500;X-TITLE=Kristinehovsgatan 6:geo:18.0409199,59.3181548
END:VEVENT
BEGIN:VEVENT
DTSTART;TZID=Europe/Helsinki:20261210T190000
DTEND;TZID=Europe/Helsinki:20261210T193000
DTSTAMP:20260423T190419
CREATED:20220522T094836Z
LAST-MODIFIED:20220522T094836Z
UID:10011419-1796929200-1796931000@www.kvakare.se
SUMMARY:Andakt i Stockholm
DESCRIPTION:Stockholms andaktsmöte bjuder in till en halvtimmes andakt. Alla är välkomna. Du behöver inte anmäla dig.
URL:https://www.kvakare.se/event/andakt-i-stockholm-5-2023-03-23/
LOCATION:Kväkargården\, Kristinehovsgatan 6\, Stockholm\, 11729\, Sverige
CATEGORIES:Andakt
ORGANIZER;CN="Kv%C3%A4karna i Stockholm":MAILTO:stockholm@kvakare.se
GEO:59.3181548;18.0409199
X-APPLE-STRUCTURED-LOCATION;VALUE=URI;X-ADDRESS=Kväkargården Kristinehovsgatan 6 Stockholm 11729 Sverige;X-APPLE-RADIUS=500;X-TITLE=Kristinehovsgatan 6:geo:18.0409199,59.3181548
END:VEVENT
BEGIN:VEVENT
DTSTART;TZID=Europe/Helsinki:20261210T190000
DTEND;TZID=Europe/Helsinki:20261210T193000
DTSTAMP:20260423T190419
CREATED:20220522T094836Z
LAST-MODIFIED:20220522T094836Z
UID:10012985-1796929200-1796931000@www.kvakare.se
SUMMARY:Andakt i Stockholm
DESCRIPTION:Stockholms andaktsmöte bjuder in till en halvtimmes andakt. Alla är välkomna. Du behöver inte anmäla dig.
URL:https://www.kvakare.se/event/andakt-i-stockholm-5-2022-11-24-2/
LOCATION:Kväkargården\, Kristinehovsgatan 6\, Stockholm\, 11729\, Sverige
CATEGORIES:Andakt
ORGANIZER;CN="Kv%C3%A4karna i Stockholm":MAILTO:stockholm@kvakare.se
GEO:59.3181548;18.0409199
X-APPLE-STRUCTURED-LOCATION;VALUE=URI;X-ADDRESS=Kväkargården Kristinehovsgatan 6 Stockholm 11729 Sverige;X-APPLE-RADIUS=500;X-TITLE=Kristinehovsgatan 6:geo:18.0409199,59.3181548
END:VEVENT
BEGIN:VEVENT
DTSTART;TZID=Europe/Helsinki:20261210T190000
DTEND;TZID=Europe/Helsinki:20261210T193000
DTSTAMP:20260423T190419
CREATED:20220522T094836Z
LAST-MODIFIED:20220522T094836Z
UID:10006877-1796929200-1796931000@www.kvakare.se
SUMMARY:Andakt i Stockholm
DESCRIPTION:Stockholms andaktsmöte bjuder in till en halvtimmes andakt. Alla är välkomna. Du behöver inte anmäla dig.
URL:https://www.kvakare.se/event/andakt-i-stockholm-5-2022-12-29/
LOCATION:Kväkargården\, Kristinehovsgatan 6\, Stockholm\, 11729\, Sverige
CATEGORIES:Andakt
ORGANIZER;CN="Kv%C3%A4karna i Stockholm":MAILTO:stockholm@kvakare.se
GEO:59.3181548;18.0409199
X-APPLE-STRUCTURED-LOCATION;VALUE=URI;X-ADDRESS=Kväkargården Kristinehovsgatan 6 Stockholm 11729 Sverige;X-APPLE-RADIUS=500;X-TITLE=Kristinehovsgatan 6:geo:18.0409199,59.3181548
END:VEVENT
BEGIN:VEVENT
DTSTART;TZID=Europe/Helsinki:20261210T190000
DTEND;TZID=Europe/Helsinki:20261210T193000
DTSTAMP:20260423T190419
CREATED:20220522T094836Z
LAST-MODIFIED:20220522T094836Z
UID:10019462-1796929200-1796931000@www.kvakare.se
SUMMARY:Andakt i Stockholm
DESCRIPTION:Stockholms andaktsmöte bjuder in till en halvtimmes andakt. Alla är välkomna. Du behöver inte anmäla dig.
URL:https://www.kvakare.se/event/andakt-i-stockholm-5-2023-03-23-2/
LOCATION:Kväkargården\, Kristinehovsgatan 6\, Stockholm\, 11729\, Sverige
CATEGORIES:Andakt
ORGANIZER;CN="Kv%C3%A4karna i Stockholm":MAILTO:stockholm@kvakare.se
GEO:59.3181548;18.0409199
X-APPLE-STRUCTURED-LOCATION;VALUE=URI;X-ADDRESS=Kväkargården Kristinehovsgatan 6 Stockholm 11729 Sverige;X-APPLE-RADIUS=500;X-TITLE=Kristinehovsgatan 6:geo:18.0409199,59.3181548
END:VEVENT
BEGIN:VEVENT
DTSTART;TZID=Europe/Helsinki:20261210T190000
DTEND;TZID=Europe/Helsinki:20261210T193000
DTSTAMP:20260423T190419
CREATED:20220522T094836Z
LAST-MODIFIED:20220522T094836Z
UID:10009544-1796929200-1796931000@www.kvakare.se
SUMMARY:Andakt i Stockholm
DESCRIPTION:Stockholms andaktsmöte bjuder in till en halvtimmes andakt. Alla är välkomna. Du behöver inte anmäla dig.
URL:https://www.kvakare.se/event/andakt-i-stockholm-5-2023-02-16/
LOCATION:Kväkargården\, Kristinehovsgatan 6\, Stockholm\, 11729\, Sverige
CATEGORIES:Andakt
ORGANIZER;CN="Kv%C3%A4karna i Stockholm":MAILTO:stockholm@kvakare.se
GEO:59.3181548;18.0409199
X-APPLE-STRUCTURED-LOCATION;VALUE=URI;X-ADDRESS=Kväkargården Kristinehovsgatan 6 Stockholm 11729 Sverige;X-APPLE-RADIUS=500;X-TITLE=Kristinehovsgatan 6:geo:18.0409199,59.3181548
END:VEVENT
BEGIN:VEVENT
DTSTART;TZID=Europe/Helsinki:20261210T190000
DTEND;TZID=Europe/Helsinki:20261210T193000
DTSTAMP:20260423T190419
CREATED:20220522T094836Z
LAST-MODIFIED:20220522T094836Z
UID:10020247-1796929200-1796931000@www.kvakare.se
SUMMARY:Andakt i Stockholm
DESCRIPTION:Stockholms andaktsmöte bjuder in till en halvtimmes andakt. Alla är välkomna. Du behöver inte anmäla dig.
URL:https://www.kvakare.se/event/andakt-i-stockholm-5-2022-11-10-3/
LOCATION:Kväkargården\, Kristinehovsgatan 6\, Stockholm\, 11729\, Sverige
CATEGORIES:Andakt
ORGANIZER;CN="Kv%C3%A4karna i Stockholm":MAILTO:stockholm@kvakare.se
GEO:59.3181548;18.0409199
X-APPLE-STRUCTURED-LOCATION;VALUE=URI;X-ADDRESS=Kväkargården Kristinehovsgatan 6 Stockholm 11729 Sverige;X-APPLE-RADIUS=500;X-TITLE=Kristinehovsgatan 6:geo:18.0409199,59.3181548
END:VEVENT
BEGIN:VEVENT
DTSTART;TZID=Europe/Helsinki:20261210T190000
DTEND;TZID=Europe/Helsinki:20261210T193000
DTSTAMP:20260423T190419
CREATED:20220522T094836Z
LAST-MODIFIED:20220522T094836Z
UID:10020638-1796929200-1796931000@www.kvakare.se
SUMMARY:Andakt i Stockholm
DESCRIPTION:Stockholms andaktsmöte bjuder in till en halvtimmes andakt. Alla är välkomna. Du behöver inte anmäla dig.
URL:https://www.kvakare.se/event/andakt-i-stockholm-5-2022-11-17-3/
LOCATION:Kväkargården\, Kristinehovsgatan 6\, Stockholm\, 11729\, Sverige
CATEGORIES:Andakt
ORGANIZER;CN="Kv%C3%A4karna i Stockholm":MAILTO:stockholm@kvakare.se
GEO:59.3181548;18.0409199
X-APPLE-STRUCTURED-LOCATION;VALUE=URI;X-ADDRESS=Kväkargården Kristinehovsgatan 6 Stockholm 11729 Sverige;X-APPLE-RADIUS=500;X-TITLE=Kristinehovsgatan 6:geo:18.0409199,59.3181548
END:VEVENT
BEGIN:VEVENT
DTSTART;TZID=Europe/Helsinki:20261210T190000
DTEND;TZID=Europe/Helsinki:20261210T193000
DTSTAMP:20260423T190419
CREATED:20220522T094836Z
LAST-MODIFIED:20220522T094836Z
UID:10003769-1796929200-1796931000@www.kvakare.se
SUMMARY:Andakt i Stockholm
DESCRIPTION:Stockholms andaktsmöte bjuder in till en halvtimmes andakt. Alla är välkomna. Du behöver inte anmäla dig.
URL:https://www.kvakare.se/event/andakt-i-stockholm-5-2022-11-03/
LOCATION:Kväkargården\, Kristinehovsgatan 6\, Stockholm\, 11729\, Sverige
CATEGORIES:Andakt
ORGANIZER;CN="Kv%C3%A4karna i Stockholm":MAILTO:stockholm@kvakare.se
GEO:59.3181548;18.0409199
X-APPLE-STRUCTURED-LOCATION;VALUE=URI;X-ADDRESS=Kväkargården Kristinehovsgatan 6 Stockholm 11729 Sverige;X-APPLE-RADIUS=500;X-TITLE=Kristinehovsgatan 6:geo:18.0409199,59.3181548
END:VEVENT
BEGIN:VEVENT
DTSTART;TZID=Europe/Helsinki:20261210T190000
DTEND;TZID=Europe/Helsinki:20261210T193000
DTSTAMP:20260423T190419
CREATED:20220522T094836Z
LAST-MODIFIED:20220522T094836Z
UID:10017964-1796929200-1796931000@www.kvakare.se
SUMMARY:Andakt i Stockholm
DESCRIPTION:Stockholms andaktsmöte bjuder in till en halvtimmes andakt. Alla är välkomna. Du behöver inte anmäla dig.
URL:https://www.kvakare.se/event/andakt-i-stockholm-5-2023-02-23-2/
LOCATION:Kväkargården\, Kristinehovsgatan 6\, Stockholm\, 11729\, Sverige
CATEGORIES:Andakt
ORGANIZER;CN="Kv%C3%A4karna i Stockholm":MAILTO:stockholm@kvakare.se
GEO:59.3181548;18.0409199
X-APPLE-STRUCTURED-LOCATION;VALUE=URI;X-ADDRESS=Kväkargården Kristinehovsgatan 6 Stockholm 11729 Sverige;X-APPLE-RADIUS=500;X-TITLE=Kristinehovsgatan 6:geo:18.0409199,59.3181548
END:VEVENT
BEGIN:VEVENT
DTSTART;TZID=Europe/Helsinki:20261210T190000
DTEND;TZID=Europe/Helsinki:20261210T193000
DTSTAMP:20260423T190419
CREATED:20220522T094836Z
LAST-MODIFIED:20220522T094836Z
UID:10018340-1796929200-1796931000@www.kvakare.se
SUMMARY:Andakt i Stockholm
DESCRIPTION:Stockholms andaktsmöte bjuder in till en halvtimmes andakt. Alla är välkomna. Du behöver inte anmäla dig.
URL:https://www.kvakare.se/event/andakt-i-stockholm-5-2023-03-02-2/
LOCATION:Kväkargården\, Kristinehovsgatan 6\, Stockholm\, 11729\, Sverige
CATEGORIES:Andakt
ORGANIZER;CN="Kv%C3%A4karna i Stockholm":MAILTO:stockholm@kvakare.se
GEO:59.3181548;18.0409199
X-APPLE-STRUCTURED-LOCATION;VALUE=URI;X-ADDRESS=Kväkargården Kristinehovsgatan 6 Stockholm 11729 Sverige;X-APPLE-RADIUS=500;X-TITLE=Kristinehovsgatan 6:geo:18.0409199,59.3181548
END:VEVENT
BEGIN:VEVENT
DTSTART;TZID=Europe/Helsinki:20261210T190000
DTEND;TZID=Europe/Helsinki:20261210T193000
DTSTAMP:20260423T190419
CREATED:20220522T094836Z
LAST-MODIFIED:20220522T094836Z
UID:10005719-1796929200-1796931000@www.kvakare.se
SUMMARY:Andakt i Stockholm
DESCRIPTION:Stockholms andaktsmöte bjuder in till en halvtimmes andakt. Alla är välkomna. Du behöver inte anmäla dig.
URL:https://www.kvakare.se/event/andakt-i-stockholm-5-2022-12-08/
LOCATION:Kväkargården\, Kristinehovsgatan 6\, Stockholm\, 11729\, Sverige
CATEGORIES:Andakt
ORGANIZER;CN="Kv%C3%A4karna i Stockholm":MAILTO:stockholm@kvakare.se
GEO:59.3181548;18.0409199
X-APPLE-STRUCTURED-LOCATION;VALUE=URI;X-ADDRESS=Kväkargården Kristinehovsgatan 6 Stockholm 11729 Sverige;X-APPLE-RADIUS=500;X-TITLE=Kristinehovsgatan 6:geo:18.0409199,59.3181548
END:VEVENT
BEGIN:VEVENT
DTSTART;TZID=Europe/Helsinki:20261210T190000
DTEND;TZID=Europe/Helsinki:20261210T193000
DTSTAMP:20260423T190419
CREATED:20220522T094836Z
LAST-MODIFIED:20220522T094836Z
UID:10011046-1796929200-1796931000@www.kvakare.se
SUMMARY:Andakt i Stockholm
DESCRIPTION:Stockholms andaktsmöte bjuder in till en halvtimmes andakt. Alla är välkomna. Du behöver inte anmäla dig.
URL:https://www.kvakare.se/event/andakt-i-stockholm-5-2023-03-16/
LOCATION:Kväkargården\, Kristinehovsgatan 6\, Stockholm\, 11729\, Sverige
CATEGORIES:Andakt
ORGANIZER;CN="Kv%C3%A4karna i Stockholm":MAILTO:stockholm@kvakare.se
GEO:59.3181548;18.0409199
X-APPLE-STRUCTURED-LOCATION;VALUE=URI;X-ADDRESS=Kväkargården Kristinehovsgatan 6 Stockholm 11729 Sverige;X-APPLE-RADIUS=500;X-TITLE=Kristinehovsgatan 6:geo:18.0409199,59.3181548
END:VEVENT
BEGIN:VEVENT
DTSTART;TZID=Europe/Helsinki:20261210T190000
DTEND;TZID=Europe/Helsinki:20261210T193000
DTSTAMP:20260423T190419
CREATED:20220522T094836Z
LAST-MODIFIED:20220522T094836Z
UID:10008026-1796929200-1796931000@www.kvakare.se
SUMMARY:Andakt i Stockholm
DESCRIPTION:Stockholms andaktsmöte bjuder in till en halvtimmes andakt. Alla är välkomna. Du behöver inte anmäla dig.
URL:https://www.kvakare.se/event/andakt-i-stockholm-5-2023-01-19/
LOCATION:Kväkargården\, Kristinehovsgatan 6\, Stockholm\, 11729\, Sverige
CATEGORIES:Andakt
ORGANIZER;CN="Kv%C3%A4karna i Stockholm":MAILTO:stockholm@kvakare.se
GEO:59.3181548;18.0409199
X-APPLE-STRUCTURED-LOCATION;VALUE=URI;X-ADDRESS=Kväkargården Kristinehovsgatan 6 Stockholm 11729 Sverige;X-APPLE-RADIUS=500;X-TITLE=Kristinehovsgatan 6:geo:18.0409199,59.3181548
END:VEVENT
BEGIN:VEVENT
DTSTART;TZID=Europe/Helsinki:20261210T190000
DTEND;TZID=Europe/Helsinki:20261210T193000
DTSTAMP:20260423T190419
CREATED:20220522T094836Z
LAST-MODIFIED:20220522T094836Z
UID:10011812-1796929200-1796931000@www.kvakare.se
SUMMARY:Andakt i Stockholm
DESCRIPTION:Stockholms andaktsmöte bjuder in till en halvtimmes andakt. Alla är välkomna. Du behöver inte anmäla dig.
URL:https://www.kvakare.se/event/andakt-i-stockholm-5-2022-11-03-2/
LOCATION:Kväkargården\, Kristinehovsgatan 6\, Stockholm\, 11729\, Sverige
CATEGORIES:Andakt
ORGANIZER;CN="Kv%C3%A4karna i Stockholm":MAILTO:stockholm@kvakare.se
GEO:59.3181548;18.0409199
X-APPLE-STRUCTURED-LOCATION;VALUE=URI;X-ADDRESS=Kväkargården Kristinehovsgatan 6 Stockholm 11729 Sverige;X-APPLE-RADIUS=500;X-TITLE=Kristinehovsgatan 6:geo:18.0409199,59.3181548
END:VEVENT
BEGIN:VEVENT
DTSTART;TZID=Europe/Helsinki:20261210T190000
DTEND;TZID=Europe/Helsinki:20261210T193000
DTSTAMP:20260423T190419
CREATED:20220522T094836Z
LAST-MODIFIED:20220522T094836Z
UID:10004552-1796929200-1796931000@www.kvakare.se
SUMMARY:Andakt i Stockholm
DESCRIPTION:Stockholms andaktsmöte bjuder in till en halvtimmes andakt. Alla är välkomna. Du behöver inte anmäla dig.
URL:https://www.kvakare.se/event/andakt-i-stockholm-5-2022-11-17/
LOCATION:Kväkargården\, Kristinehovsgatan 6\, Stockholm\, 11729\, Sverige
CATEGORIES:Andakt
ORGANIZER;CN="Kv%C3%A4karna i Stockholm":MAILTO:stockholm@kvakare.se
GEO:59.3181548;18.0409199
X-APPLE-STRUCTURED-LOCATION;VALUE=URI;X-ADDRESS=Kväkargården Kristinehovsgatan 6 Stockholm 11729 Sverige;X-APPLE-RADIUS=500;X-TITLE=Kristinehovsgatan 6:geo:18.0409199,59.3181548
END:VEVENT
BEGIN:VEVENT
DTSTART;TZID=Europe/Helsinki:20261210T190000
DTEND;TZID=Europe/Helsinki:20261210T193000
DTSTAMP:20260423T190419
CREATED:20220522T094836Z
LAST-MODIFIED:20220522T094836Z
UID:10019089-1796929200-1796931000@www.kvakare.se
SUMMARY:Andakt i Stockholm
DESCRIPTION:Stockholms andaktsmöte bjuder in till en halvtimmes andakt. Alla är välkomna. Du behöver inte anmäla dig.
URL:https://www.kvakare.se/event/andakt-i-stockholm-5-2023-03-16-2/
LOCATION:Kväkargården\, Kristinehovsgatan 6\, Stockholm\, 11729\, Sverige
CATEGORIES:Andakt
ORGANIZER;CN="Kv%C3%A4karna i Stockholm":MAILTO:stockholm@kvakare.se
GEO:59.3181548;18.0409199
X-APPLE-STRUCTURED-LOCATION;VALUE=URI;X-ADDRESS=Kväkargården Kristinehovsgatan 6 Stockholm 11729 Sverige;X-APPLE-RADIUS=500;X-TITLE=Kristinehovsgatan 6:geo:18.0409199,59.3181548
END:VEVENT
BEGIN:VEVENT
DTSTART;TZID=Europe/Helsinki:20261210T190000
DTEND;TZID=Europe/Helsinki:20261210T193000
DTSTAMP:20260423T190419
CREATED:20220522T094836Z
LAST-MODIFIED:20220522T094836Z
UID:10009166-1796929200-1796931000@www.kvakare.se
SUMMARY:Andakt i Stockholm
DESCRIPTION:Stockholms andaktsmöte bjuder in till en halvtimmes andakt. Alla är välkomna. Du behöver inte anmäla dig.
URL:https://www.kvakare.se/event/andakt-i-stockholm-5-2023-02-09/
LOCATION:Kväkargården\, Kristinehovsgatan 6\, Stockholm\, 11729\, Sverige
CATEGORIES:Andakt
ORGANIZER;CN="Kv%C3%A4karna i Stockholm":MAILTO:stockholm@kvakare.se
GEO:59.3181548;18.0409199
X-APPLE-STRUCTURED-LOCATION;VALUE=URI;X-ADDRESS=Kväkargården Kristinehovsgatan 6 Stockholm 11729 Sverige;X-APPLE-RADIUS=500;X-TITLE=Kristinehovsgatan 6:geo:18.0409199,59.3181548
END:VEVENT
BEGIN:VEVENT
DTSTART;TZID=Europe/Helsinki:20261210T190000
DTEND;TZID=Europe/Helsinki:20261210T193000
DTSTAMP:20260423T190419
CREATED:20220522T094836Z
LAST-MODIFIED:20220522T094836Z
UID:10015687-1796929200-1796931000@www.kvakare.se
SUMMARY:Andakt i Stockholm
DESCRIPTION:Stockholms andaktsmöte bjuder in till en halvtimmes andakt. Alla är välkomna. Du behöver inte anmäla dig.
URL:https://www.kvakare.se/event/andakt-i-stockholm-5-2023-01-12-2/
LOCATION:Kväkargården\, Kristinehovsgatan 6\, Stockholm\, 11729\, Sverige
CATEGORIES:Andakt
ORGANIZER;CN="Kv%C3%A4karna i Stockholm":MAILTO:stockholm@kvakare.se
GEO:59.3181548;18.0409199
X-APPLE-STRUCTURED-LOCATION;VALUE=URI;X-ADDRESS=Kväkargården Kristinehovsgatan 6 Stockholm 11729 Sverige;X-APPLE-RADIUS=500;X-TITLE=Kristinehovsgatan 6:geo:18.0409199,59.3181548
END:VEVENT
BEGIN:VEVENT
DTSTART;TZID=Europe/Helsinki:20261210T190000
DTEND;TZID=Europe/Helsinki:20261210T193000
DTSTAMP:20260423T190419
CREATED:20220522T094836Z
LAST-MODIFIED:20220522T094836Z
UID:10007261-1796929200-1796931000@www.kvakare.se
SUMMARY:Andakt i Stockholm
DESCRIPTION:Stockholms andaktsmöte bjuder in till en halvtimmes andakt. Alla är välkomna. Du behöver inte anmäla dig.
URL:https://www.kvakare.se/event/andakt-i-stockholm-5-2023-01-05/
LOCATION:Kväkargården\, Kristinehovsgatan 6\, Stockholm\, 11729\, Sverige
CATEGORIES:Andakt
ORGANIZER;CN="Kv%C3%A4karna i Stockholm":MAILTO:stockholm@kvakare.se
GEO:59.3181548;18.0409199
X-APPLE-STRUCTURED-LOCATION;VALUE=URI;X-ADDRESS=Kväkargården Kristinehovsgatan 6 Stockholm 11729 Sverige;X-APPLE-RADIUS=500;X-TITLE=Kristinehovsgatan 6:geo:18.0409199,59.3181548
END:VEVENT
BEGIN:VEVENT
DTSTART;TZID=Europe/Helsinki:20261210T190000
DTEND;TZID=Europe/Helsinki:20261210T193000
DTSTAMP:20260423T190419
CREATED:20220522T094836Z
LAST-MODIFIED:20220522T094836Z
UID:10004161-1796929200-1796931000@www.kvakare.se
SUMMARY:Andakt i Stockholm
DESCRIPTION:Stockholms andaktsmöte bjuder in till en halvtimmes andakt. Alla är välkomna. Du behöver inte anmäla dig.
URL:https://www.kvakare.se/event/andakt-i-stockholm-5-2022-11-10/
LOCATION:Kväkargården\, Kristinehovsgatan 6\, Stockholm\, 11729\, Sverige
CATEGORIES:Andakt
ORGANIZER;CN="Kv%C3%A4karna i Stockholm":MAILTO:stockholm@kvakare.se
GEO:59.3181548;18.0409199
X-APPLE-STRUCTURED-LOCATION;VALUE=URI;X-ADDRESS=Kväkargården Kristinehovsgatan 6 Stockholm 11729 Sverige;X-APPLE-RADIUS=500;X-TITLE=Kristinehovsgatan 6:geo:18.0409199,59.3181548
END:VEVENT
BEGIN:VEVENT
DTSTART;TZID=Europe/Helsinki:20261210T190000
DTEND;TZID=Europe/Helsinki:20261210T193000
DTSTAMP:20260423T190419
CREATED:20220522T094836Z
LAST-MODIFIED:20220522T094836Z
UID:10004942-1796929200-1796931000@www.kvakare.se
SUMMARY:Andakt i Stockholm
DESCRIPTION:Stockholms andaktsmöte bjuder in till en halvtimmes andakt. Alla är välkomna. Du behöver inte anmäla dig.
URL:https://www.kvakare.se/event/andakt-i-stockholm-5-2022-11-24/
LOCATION:Kväkargården\, Kristinehovsgatan 6\, Stockholm\, 11729\, Sverige
CATEGORIES:Andakt
ORGANIZER;CN="Kv%C3%A4karna i Stockholm":MAILTO:stockholm@kvakare.se
GEO:59.3181548;18.0409199
X-APPLE-STRUCTURED-LOCATION;VALUE=URI;X-ADDRESS=Kväkargården Kristinehovsgatan 6 Stockholm 11729 Sverige;X-APPLE-RADIUS=500;X-TITLE=Kristinehovsgatan 6:geo:18.0409199,59.3181548
END:VEVENT
BEGIN:VEVENT
DTSTART;TZID=Europe/Helsinki:20261210T190000
DTEND;TZID=Europe/Helsinki:20261210T193000
DTSTAMP:20260423T190419
CREATED:20250518T210348Z
LAST-MODIFIED:20250730T132318Z
UID:10022908-1796929200-1796931000@www.kvakare.se
SUMMARY:Andakt (Stockholm)
DESCRIPTION:Alla är välkomna. Du behöver inte anmäla dig.
URL:https://www.kvakare.se/event/andakt-i-stockholm-3/2026-12-10/
ATTACH;FMTTYPE=image/png:https://www.kvakare.se/wp-content/uploads/2024/02/image.png
ORGANIZER;CN="Kv%C3%A4karna i Stockholm":MAILTO:stockholm@kvakare.se
END:VEVENT
BEGIN:VEVENT
DTSTART;TZID=Europe/Helsinki:20261212T160000
DTEND;TZID=Europe/Helsinki:20261212T163000
DTSTAMP:20260423T190419
CREATED:20260110T171052Z
LAST-MODIFIED:20260308T094820Z
UID:10023967-1797091200-1797093000@www.kvakare.se
SUMMARY:Eftermiddagsandakt med George Fox (Online)
DESCRIPTION:Du är välkommen att i stillhet och gemenskap upptäcka mer om kväkarnas andliga arv. Mitt i helgens alla måsten stannar vi upp för att vara med i en halvtimmes andakt som varje lördag inleds med ett nytt citat av George Fox. \n\n\n\nAndakterna börjar klockan 16.00 och slutar klockan 16.30.Kom när du kan! Välkommen! \n\n\n\nFör att få citaten i förväg kontakta: goteborg@kvakare.se.
URL:https://www.kvakare.se/event/eftermiddagsandakt-med-george-fox-online/2026-12-12/
ATTACH;FMTTYPE=image/jpeg:https://www.kvakare.se/wp-content/uploads/2024/01/George-Fox.jpg
ORGANIZER;CN="Kv%C3%A4karna i G%C3%B6teborg":MAILTO:goteborg@kvakare.se
END:VEVENT
BEGIN:VEVENT
DTSTART;TZID=Europe/Helsinki:20261213T110000
DTEND;TZID=Europe/Helsinki:20261213T120000
DTSTAMP:20260423T190419
CREATED:20250518T205923Z
LAST-MODIFIED:20250730T132244Z
UID:10022648-1797159600-1797163200@www.kvakare.se
SUMMARY:Andakt (Stockholm)
DESCRIPTION:Alla är välkomna. Du behöver inte anmäla dig. Efter andakten serveras fika till självkostnadspris.
URL:https://www.kvakare.se/event/andakt-i-stockholm/2026-12-13/
ATTACH;FMTTYPE=image/png:https://www.kvakare.se/wp-content/uploads/2024/02/image.png
ORGANIZER;CN="Kv%C3%A4karna i Stockholm":MAILTO:stockholm@kvakare.se
END:VEVENT
END:VCALENDAR