BEGIN:VCALENDAR
VERSION:2.0
PRODID:-//Vännernas samfund (kväkarna) - ECPv6.15.20//NONSGML v1.0//EN
CALSCALE:GREGORIAN
METHOD:PUBLISH
X-WR-CALNAME:Vännernas samfund (kväkarna)
X-ORIGINAL-URL:https://www.kvakare.se
X-WR-CALDESC:Händelser för Vännernas samfund (kväkarna)
REFRESH-INTERVAL;VALUE=DURATION:PT1H
X-Robots-Tag:noindex
X-PUBLISHED-TTL:PT1H
BEGIN:VTIMEZONE
TZID:Europe/Helsinki
BEGIN:DAYLIGHT
TZOFFSETFROM:+0200
TZOFFSETTO:+0300
TZNAME:EEST
DTSTART:20260329T010000
END:DAYLIGHT
BEGIN:STANDARD
TZOFFSETFROM:+0300
TZOFFSETTO:+0200
TZNAME:EET
DTSTART:20261025T010000
END:STANDARD
BEGIN:DAYLIGHT
TZOFFSETFROM:+0200
TZOFFSETTO:+0300
TZNAME:EEST
DTSTART:20270328T010000
END:DAYLIGHT
BEGIN:STANDARD
TZOFFSETFROM:+0300
TZOFFSETTO:+0200
TZNAME:EET
DTSTART:20271031T010000
END:STANDARD
BEGIN:DAYLIGHT
TZOFFSETFROM:+0200
TZOFFSETTO:+0300
TZNAME:EEST
DTSTART:20280326T010000
END:DAYLIGHT
BEGIN:STANDARD
TZOFFSETFROM:+0300
TZOFFSETTO:+0200
TZNAME:EET
DTSTART:20281029T010000
END:STANDARD
END:VTIMEZONE
BEGIN:VEVENT
DTSTART;TZID=Europe/Helsinki:20270107T190000
DTEND;TZID=Europe/Helsinki:20270107T193000
DTSTAMP:20260425T173412
CREATED:20220522T094836Z
LAST-MODIFIED:20220522T094836Z
UID:10017968-1799348400-1799350200@www.kvakare.se
SUMMARY:Andakt i Stockholm
DESCRIPTION:Stockholms andaktsmöte bjuder in till en halvtimmes andakt. Alla är välkomna. Du behöver inte anmäla dig.
URL:https://www.kvakare.se/event/andakt-i-stockholm-5-2023-02-23-2/
LOCATION:Kväkargården\, Kristinehovsgatan 6\, Stockholm\, 11729\, Sverige
CATEGORIES:Andakt
ORGANIZER;CN="Kv%C3%A4karna i Stockholm":MAILTO:stockholm@kvakare.se
GEO:59.3181548;18.0409199
X-APPLE-STRUCTURED-LOCATION;VALUE=URI;X-ADDRESS=Kväkargården Kristinehovsgatan 6 Stockholm 11729 Sverige;X-APPLE-RADIUS=500;X-TITLE=Kristinehovsgatan 6:geo:18.0409199,59.3181548
END:VEVENT
BEGIN:VEVENT
DTSTART;TZID=Europe/Helsinki:20270107T190000
DTEND;TZID=Europe/Helsinki:20270107T193000
DTSTAMP:20260425T173412
CREATED:20220522T094836Z
LAST-MODIFIED:20220522T094836Z
UID:10014924-1799348400-1799350200@www.kvakare.se
SUMMARY:Andakt i Stockholm
DESCRIPTION:Stockholms andaktsmöte bjuder in till en halvtimmes andakt. Alla är välkomna. Du behöver inte anmäla dig.
URL:https://www.kvakare.se/event/andakt-i-stockholm-5-2022-12-29-2/
LOCATION:Kväkargården\, Kristinehovsgatan 6\, Stockholm\, 11729\, Sverige
CATEGORIES:Andakt
ORGANIZER;CN="Kv%C3%A4karna i Stockholm":MAILTO:stockholm@kvakare.se
GEO:59.3181548;18.0409199
X-APPLE-STRUCTURED-LOCATION;VALUE=URI;X-ADDRESS=Kväkargården Kristinehovsgatan 6 Stockholm 11729 Sverige;X-APPLE-RADIUS=500;X-TITLE=Kristinehovsgatan 6:geo:18.0409199,59.3181548
END:VEVENT
BEGIN:VEVENT
DTSTART;TZID=Europe/Helsinki:20270107T190000
DTEND;TZID=Europe/Helsinki:20270107T193000
DTSTAMP:20260425T173412
CREATED:20220522T094836Z
LAST-MODIFIED:20220522T094836Z
UID:10011816-1799348400-1799350200@www.kvakare.se
SUMMARY:Andakt i Stockholm
DESCRIPTION:Stockholms andaktsmöte bjuder in till en halvtimmes andakt. Alla är välkomna. Du behöver inte anmäla dig.
URL:https://www.kvakare.se/event/andakt-i-stockholm-5-2022-11-03-2/
LOCATION:Kväkargården\, Kristinehovsgatan 6\, Stockholm\, 11729\, Sverige
CATEGORIES:Andakt
ORGANIZER;CN="Kv%C3%A4karna i Stockholm":MAILTO:stockholm@kvakare.se
GEO:59.3181548;18.0409199
X-APPLE-STRUCTURED-LOCATION;VALUE=URI;X-ADDRESS=Kväkargården Kristinehovsgatan 6 Stockholm 11729 Sverige;X-APPLE-RADIUS=500;X-TITLE=Kristinehovsgatan 6:geo:18.0409199,59.3181548
END:VEVENT
BEGIN:VEVENT
DTSTART;TZID=Europe/Helsinki:20270107T190000
DTEND;TZID=Europe/Helsinki:20270107T193000
DTSTAMP:20260425T173412
CREATED:20220522T094836Z
LAST-MODIFIED:20220522T094836Z
UID:10019859-1799348400-1799350200@www.kvakare.se
SUMMARY:Andakt i Stockholm
DESCRIPTION:Stockholms andaktsmöte bjuder in till en halvtimmes andakt. Alla är välkomna. Du behöver inte anmäla dig.
URL:https://www.kvakare.se/event/andakt-i-stockholm-5-2022-11-03-3/
LOCATION:Kväkargården\, Kristinehovsgatan 6\, Stockholm\, 11729\, Sverige
CATEGORIES:Andakt
ORGANIZER;CN="Kv%C3%A4karna i Stockholm":MAILTO:stockholm@kvakare.se
GEO:59.3181548;18.0409199
X-APPLE-STRUCTURED-LOCATION;VALUE=URI;X-ADDRESS=Kväkargården Kristinehovsgatan 6 Stockholm 11729 Sverige;X-APPLE-RADIUS=500;X-TITLE=Kristinehovsgatan 6:geo:18.0409199,59.3181548
END:VEVENT
BEGIN:VEVENT
DTSTART;TZID=Europe/Helsinki:20270107T190000
DTEND;TZID=Europe/Helsinki:20270107T193000
DTSTAMP:20260425T173412
CREATED:20220522T094836Z
LAST-MODIFIED:20220522T094836Z
UID:10016834-1799348400-1799350200@www.kvakare.se
SUMMARY:Andakt i Stockholm
DESCRIPTION:Stockholms andaktsmöte bjuder in till en halvtimmes andakt. Alla är välkomna. Du behöver inte anmäla dig.
URL:https://www.kvakare.se/event/andakt-i-stockholm-5-2023-02-02-2/
LOCATION:Kväkargården\, Kristinehovsgatan 6\, Stockholm\, 11729\, Sverige
CATEGORIES:Andakt
ORGANIZER;CN="Kv%C3%A4karna i Stockholm":MAILTO:stockholm@kvakare.se
GEO:59.3181548;18.0409199
X-APPLE-STRUCTURED-LOCATION;VALUE=URI;X-ADDRESS=Kväkargården Kristinehovsgatan 6 Stockholm 11729 Sverige;X-APPLE-RADIUS=500;X-TITLE=Kristinehovsgatan 6:geo:18.0409199,59.3181548
END:VEVENT
BEGIN:VEVENT
DTSTART;TZID=Europe/Helsinki:20270107T190000
DTEND;TZID=Europe/Helsinki:20270107T193000
DTSTAMP:20260425T173412
CREATED:20220522T094836Z
LAST-MODIFIED:20220522T094836Z
UID:10013766-1799348400-1799350200@www.kvakare.se
SUMMARY:Andakt i Stockholm
DESCRIPTION:Stockholms andaktsmöte bjuder in till en halvtimmes andakt. Alla är välkomna. Du behöver inte anmäla dig.
URL:https://www.kvakare.se/event/andakt-i-stockholm-5-2022-12-08-2/
LOCATION:Kväkargården\, Kristinehovsgatan 6\, Stockholm\, 11729\, Sverige
CATEGORIES:Andakt
ORGANIZER;CN="Kv%C3%A4karna i Stockholm":MAILTO:stockholm@kvakare.se
GEO:59.3181548;18.0409199
X-APPLE-STRUCTURED-LOCATION;VALUE=URI;X-ADDRESS=Kväkargården Kristinehovsgatan 6 Stockholm 11729 Sverige;X-APPLE-RADIUS=500;X-TITLE=Kristinehovsgatan 6:geo:18.0409199,59.3181548
END:VEVENT
BEGIN:VEVENT
DTSTART;TZID=Europe/Helsinki:20270107T190000
DTEND;TZID=Europe/Helsinki:20270107T193000
DTSTAMP:20260425T173412
CREATED:20220522T094836Z
LAST-MODIFIED:20220522T094836Z
UID:10010676-1799348400-1799350200@www.kvakare.se
SUMMARY:Andakt i Stockholm
DESCRIPTION:Stockholms andaktsmöte bjuder in till en halvtimmes andakt. Alla är välkomna. Du behöver inte anmäla dig.
URL:https://www.kvakare.se/event/andakt-i-stockholm-5-2023-03-09/
LOCATION:Kväkargården\, Kristinehovsgatan 6\, Stockholm\, 11729\, Sverige
CATEGORIES:Andakt
ORGANIZER;CN="Kv%C3%A4karna i Stockholm":MAILTO:stockholm@kvakare.se
GEO:59.3181548;18.0409199
X-APPLE-STRUCTURED-LOCATION;VALUE=URI;X-ADDRESS=Kväkargården Kristinehovsgatan 6 Stockholm 11729 Sverige;X-APPLE-RADIUS=500;X-TITLE=Kristinehovsgatan 6:geo:18.0409199,59.3181548
END:VEVENT
BEGIN:VEVENT
DTSTART;TZID=Europe/Helsinki:20270107T190000
DTEND;TZID=Europe/Helsinki:20270107T193000
DTSTAMP:20260425T173412
CREATED:20220522T094836Z
LAST-MODIFIED:20220522T094836Z
UID:10021809-1799348400-1799350200@www.kvakare.se
SUMMARY:Andakt i Stockholm
DESCRIPTION:Stockholms andaktsmöte bjuder in till en halvtimmes andakt. Alla är välkomna. Du behöver inte anmäla dig.
URL:https://www.kvakare.se/event/andakt-i-stockholm-5-2022-12-08-3/
LOCATION:Kväkargården\, Kristinehovsgatan 6\, Stockholm\, 11729\, Sverige
CATEGORIES:Andakt
ORGANIZER;CN="Kv%C3%A4karna i Stockholm":MAILTO:stockholm@kvakare.se
GEO:59.3181548;18.0409199
X-APPLE-STRUCTURED-LOCATION;VALUE=URI;X-ADDRESS=Kväkargården Kristinehovsgatan 6 Stockholm 11729 Sverige;X-APPLE-RADIUS=500;X-TITLE=Kristinehovsgatan 6:geo:18.0409199,59.3181548
END:VEVENT
BEGIN:VEVENT
DTSTART;TZID=Europe/Helsinki:20270107T190000
DTEND;TZID=Europe/Helsinki:20270107T193000
DTSTAMP:20260425T173412
CREATED:20220522T094836Z
LAST-MODIFIED:20220522T094836Z
UID:10018719-1799348400-1799350200@www.kvakare.se
SUMMARY:Andakt i Stockholm
DESCRIPTION:Stockholms andaktsmöte bjuder in till en halvtimmes andakt. Alla är välkomna. Du behöver inte anmäla dig.
URL:https://www.kvakare.se/event/andakt-i-stockholm-5-2023-03-09-2/
LOCATION:Kväkargården\, Kristinehovsgatan 6\, Stockholm\, 11729\, Sverige
CATEGORIES:Andakt
ORGANIZER;CN="Kv%C3%A4karna i Stockholm":MAILTO:stockholm@kvakare.se
GEO:59.3181548;18.0409199
X-APPLE-STRUCTURED-LOCATION;VALUE=URI;X-ADDRESS=Kväkargården Kristinehovsgatan 6 Stockholm 11729 Sverige;X-APPLE-RADIUS=500;X-TITLE=Kristinehovsgatan 6:geo:18.0409199,59.3181548
END:VEVENT
BEGIN:VEVENT
DTSTART;TZID=Europe/Helsinki:20270107T190000
DTEND;TZID=Europe/Helsinki:20270107T193000
DTSTAMP:20260425T173412
CREATED:20220522T094836Z
LAST-MODIFIED:20220522T094836Z
UID:10015691-1799348400-1799350200@www.kvakare.se
SUMMARY:Andakt i Stockholm
DESCRIPTION:Stockholms andaktsmöte bjuder in till en halvtimmes andakt. Alla är välkomna. Du behöver inte anmäla dig.
URL:https://www.kvakare.se/event/andakt-i-stockholm-5-2023-01-12-2/
LOCATION:Kväkargården\, Kristinehovsgatan 6\, Stockholm\, 11729\, Sverige
CATEGORIES:Andakt
ORGANIZER;CN="Kv%C3%A4karna i Stockholm":MAILTO:stockholm@kvakare.se
GEO:59.3181548;18.0409199
X-APPLE-STRUCTURED-LOCATION;VALUE=URI;X-ADDRESS=Kväkargården Kristinehovsgatan 6 Stockholm 11729 Sverige;X-APPLE-RADIUS=500;X-TITLE=Kristinehovsgatan 6:geo:18.0409199,59.3181548
END:VEVENT
BEGIN:VEVENT
DTSTART;TZID=Europe/Helsinki:20270107T190000
DTEND;TZID=Europe/Helsinki:20270107T193000
DTSTAMP:20260425T173412
CREATED:20220522T094836Z
LAST-MODIFIED:20220522T094836Z
UID:10012599-1799348400-1799350200@www.kvakare.se
SUMMARY:Andakt i Stockholm
DESCRIPTION:Stockholms andaktsmöte bjuder in till en halvtimmes andakt. Alla är välkomna. Du behöver inte anmäla dig.
URL:https://www.kvakare.se/event/andakt-i-stockholm-5-2022-11-17-2/
LOCATION:Kväkargården\, Kristinehovsgatan 6\, Stockholm\, 11729\, Sverige
CATEGORIES:Andakt
ORGANIZER;CN="Kv%C3%A4karna i Stockholm":MAILTO:stockholm@kvakare.se
GEO:59.3181548;18.0409199
X-APPLE-STRUCTURED-LOCATION;VALUE=URI;X-ADDRESS=Kväkargården Kristinehovsgatan 6 Stockholm 11729 Sverige;X-APPLE-RADIUS=500;X-TITLE=Kristinehovsgatan 6:geo:18.0409199,59.3181548
END:VEVENT
BEGIN:VEVENT
DTSTART;TZID=Europe/Helsinki:20270107T190000
DTEND;TZID=Europe/Helsinki:20270107T193000
DTSTAMP:20260425T173412
CREATED:20220522T094836Z
LAST-MODIFIED:20220522T094836Z
UID:10009548-1799348400-1799350200@www.kvakare.se
SUMMARY:Andakt i Stockholm
DESCRIPTION:Stockholms andaktsmöte bjuder in till en halvtimmes andakt. Alla är välkomna. Du behöver inte anmäla dig.
URL:https://www.kvakare.se/event/andakt-i-stockholm-5-2023-02-16/
LOCATION:Kväkargården\, Kristinehovsgatan 6\, Stockholm\, 11729\, Sverige
CATEGORIES:Andakt
ORGANIZER;CN="Kv%C3%A4karna i Stockholm":MAILTO:stockholm@kvakare.se
GEO:59.3181548;18.0409199
X-APPLE-STRUCTURED-LOCATION;VALUE=URI;X-ADDRESS=Kväkargården Kristinehovsgatan 6 Stockholm 11729 Sverige;X-APPLE-RADIUS=500;X-TITLE=Kristinehovsgatan 6:geo:18.0409199,59.3181548
END:VEVENT
BEGIN:VEVENT
DTSTART;TZID=Europe/Helsinki:20270107T190000
DTEND;TZID=Europe/Helsinki:20270107T193000
DTSTAMP:20260425T173412
CREATED:20220522T094836Z
LAST-MODIFIED:20220522T094836Z
UID:10006496-1799348400-1799350200@www.kvakare.se
SUMMARY:Andakt i Stockholm
DESCRIPTION:Stockholms andaktsmöte bjuder in till en halvtimmes andakt. Alla är välkomna. Du behöver inte anmäla dig.
URL:https://www.kvakare.se/event/andakt-i-stockholm-5-2022-12-22/
LOCATION:Kväkargården\, Kristinehovsgatan 6\, Stockholm\, 11729\, Sverige
CATEGORIES:Andakt
ORGANIZER;CN="Kv%C3%A4karna i Stockholm":MAILTO:stockholm@kvakare.se
GEO:59.3181548;18.0409199
X-APPLE-STRUCTURED-LOCATION;VALUE=URI;X-ADDRESS=Kväkargården Kristinehovsgatan 6 Stockholm 11729 Sverige;X-APPLE-RADIUS=500;X-TITLE=Kristinehovsgatan 6:geo:18.0409199,59.3181548
END:VEVENT
BEGIN:VEVENT
DTSTART;TZID=Europe/Helsinki:20270107T190000
DTEND;TZID=Europe/Helsinki:20270107T193000
DTSTAMP:20260425T173412
CREATED:20220522T094836Z
LAST-MODIFIED:20220522T094836Z
UID:10007265-1799348400-1799350200@www.kvakare.se
SUMMARY:Andakt i Stockholm
DESCRIPTION:Stockholms andaktsmöte bjuder in till en halvtimmes andakt. Alla är välkomna. Du behöver inte anmäla dig.
URL:https://www.kvakare.se/event/andakt-i-stockholm-5-2023-01-05/
LOCATION:Kväkargården\, Kristinehovsgatan 6\, Stockholm\, 11729\, Sverige
CATEGORIES:Andakt
ORGANIZER;CN="Kv%C3%A4karna i Stockholm":MAILTO:stockholm@kvakare.se
GEO:59.3181548;18.0409199
X-APPLE-STRUCTURED-LOCATION;VALUE=URI;X-ADDRESS=Kväkargården Kristinehovsgatan 6 Stockholm 11729 Sverige;X-APPLE-RADIUS=500;X-TITLE=Kristinehovsgatan 6:geo:18.0409199,59.3181548
END:VEVENT
BEGIN:VEVENT
DTSTART;TZID=Europe/Helsinki:20270107T190000
DTEND;TZID=Europe/Helsinki:20270107T193000
DTSTAMP:20260425T173412
CREATED:20220522T094836Z
LAST-MODIFIED:20220522T094836Z
UID:10020642-1799348400-1799350200@www.kvakare.se
SUMMARY:Andakt i Stockholm
DESCRIPTION:Stockholms andaktsmöte bjuder in till en halvtimmes andakt. Alla är välkomna. Du behöver inte anmäla dig.
URL:https://www.kvakare.se/event/andakt-i-stockholm-5-2022-11-17-3/
LOCATION:Kväkargården\, Kristinehovsgatan 6\, Stockholm\, 11729\, Sverige
CATEGORIES:Andakt
ORGANIZER;CN="Kv%C3%A4karna i Stockholm":MAILTO:stockholm@kvakare.se
GEO:59.3181548;18.0409199
X-APPLE-STRUCTURED-LOCATION;VALUE=URI;X-ADDRESS=Kväkargården Kristinehovsgatan 6 Stockholm 11729 Sverige;X-APPLE-RADIUS=500;X-TITLE=Kristinehovsgatan 6:geo:18.0409199,59.3181548
END:VEVENT
BEGIN:VEVENT
DTSTART;TZID=Europe/Helsinki:20270107T190000
DTEND;TZID=Europe/Helsinki:20270107T193000
DTSTAMP:20260425T173412
CREATED:20220522T094836Z
LAST-MODIFIED:20220522T094836Z
UID:10004165-1799348400-1799350200@www.kvakare.se
SUMMARY:Andakt i Stockholm
DESCRIPTION:Stockholms andaktsmöte bjuder in till en halvtimmes andakt. Alla är välkomna. Du behöver inte anmäla dig.
URL:https://www.kvakare.se/event/andakt-i-stockholm-5-2022-11-10/
LOCATION:Kväkargården\, Kristinehovsgatan 6\, Stockholm\, 11729\, Sverige
CATEGORIES:Andakt
ORGANIZER;CN="Kv%C3%A4karna i Stockholm":MAILTO:stockholm@kvakare.se
GEO:59.3181548;18.0409199
X-APPLE-STRUCTURED-LOCATION;VALUE=URI;X-ADDRESS=Kväkargården Kristinehovsgatan 6 Stockholm 11729 Sverige;X-APPLE-RADIUS=500;X-TITLE=Kristinehovsgatan 6:geo:18.0409199,59.3181548
END:VEVENT
BEGIN:VEVENT
DTSTART;TZID=Europe/Helsinki:20270107T190000
DTEND;TZID=Europe/Helsinki:20270107T193000
DTSTAMP:20260425T173412
CREATED:20220522T094836Z
LAST-MODIFIED:20220522T094836Z
UID:10017591-1799348400-1799350200@www.kvakare.se
SUMMARY:Andakt i Stockholm
DESCRIPTION:Stockholms andaktsmöte bjuder in till en halvtimmes andakt. Alla är välkomna. Du behöver inte anmäla dig.
URL:https://www.kvakare.se/event/andakt-i-stockholm-5-2023-02-16-2/
LOCATION:Kväkargården\, Kristinehovsgatan 6\, Stockholm\, 11729\, Sverige
CATEGORIES:Andakt
ORGANIZER;CN="Kv%C3%A4karna i Stockholm":MAILTO:stockholm@kvakare.se
GEO:59.3181548;18.0409199
X-APPLE-STRUCTURED-LOCATION;VALUE=URI;X-ADDRESS=Kväkargården Kristinehovsgatan 6 Stockholm 11729 Sverige;X-APPLE-RADIUS=500;X-TITLE=Kristinehovsgatan 6:geo:18.0409199,59.3181548
END:VEVENT
BEGIN:VEVENT
DTSTART;TZID=Europe/Helsinki:20270107T190000
DTEND;TZID=Europe/Helsinki:20270107T193000
DTSTAMP:20260425T173412
CREATED:20220522T094836Z
LAST-MODIFIED:20220522T094836Z
UID:10014539-1799348400-1799350200@www.kvakare.se
SUMMARY:Andakt i Stockholm
DESCRIPTION:Stockholms andaktsmöte bjuder in till en halvtimmes andakt. Alla är välkomna. Du behöver inte anmäla dig.
URL:https://www.kvakare.se/event/andakt-i-stockholm-5-2022-12-22-2/
LOCATION:Kväkargården\, Kristinehovsgatan 6\, Stockholm\, 11729\, Sverige
CATEGORIES:Andakt
ORGANIZER;CN="Kv%C3%A4karna i Stockholm":MAILTO:stockholm@kvakare.se
GEO:59.3181548;18.0409199
X-APPLE-STRUCTURED-LOCATION;VALUE=URI;X-ADDRESS=Kväkargården Kristinehovsgatan 6 Stockholm 11729 Sverige;X-APPLE-RADIUS=500;X-TITLE=Kristinehovsgatan 6:geo:18.0409199,59.3181548
END:VEVENT
BEGIN:VEVENT
DTSTART;TZID=Europe/Helsinki:20270107T190000
DTEND;TZID=Europe/Helsinki:20270107T193000
DTSTAMP:20260425T173412
CREATED:20220522T094836Z
LAST-MODIFIED:20220522T094836Z
UID:10008030-1799348400-1799350200@www.kvakare.se
SUMMARY:Andakt i Stockholm
DESCRIPTION:Stockholms andaktsmöte bjuder in till en halvtimmes andakt. Alla är välkomna. Du behöver inte anmäla dig.
URL:https://www.kvakare.se/event/andakt-i-stockholm-5-2023-01-19/
LOCATION:Kväkargården\, Kristinehovsgatan 6\, Stockholm\, 11729\, Sverige
CATEGORIES:Andakt
ORGANIZER;CN="Kv%C3%A4karna i Stockholm":MAILTO:stockholm@kvakare.se
GEO:59.3181548;18.0409199
X-APPLE-STRUCTURED-LOCATION;VALUE=URI;X-ADDRESS=Kväkargården Kristinehovsgatan 6 Stockholm 11729 Sverige;X-APPLE-RADIUS=500;X-TITLE=Kristinehovsgatan 6:geo:18.0409199,59.3181548
END:VEVENT
BEGIN:VEVENT
DTSTART;TZID=Europe/Helsinki:20270107T190000
DTEND;TZID=Europe/Helsinki:20270107T193000
DTSTAMP:20260425T173412
CREATED:20220522T094836Z
LAST-MODIFIED:20220522T094836Z
UID:10011423-1799348400-1799350200@www.kvakare.se
SUMMARY:Andakt i Stockholm
DESCRIPTION:Stockholms andaktsmöte bjuder in till en halvtimmes andakt. Alla är välkomna. Du behöver inte anmäla dig.
URL:https://www.kvakare.se/event/andakt-i-stockholm-5-2023-03-23/
LOCATION:Kväkargården\, Kristinehovsgatan 6\, Stockholm\, 11729\, Sverige
CATEGORIES:Andakt
ORGANIZER;CN="Kv%C3%A4karna i Stockholm":MAILTO:stockholm@kvakare.se
GEO:59.3181548;18.0409199
X-APPLE-STRUCTURED-LOCATION;VALUE=URI;X-ADDRESS=Kväkargården Kristinehovsgatan 6 Stockholm 11729 Sverige;X-APPLE-RADIUS=500;X-TITLE=Kristinehovsgatan 6:geo:18.0409199,59.3181548
END:VEVENT
BEGIN:VEVENT
DTSTART;TZID=Europe/Helsinki:20270107T190000
DTEND;TZID=Europe/Helsinki:20270107T193000
DTSTAMP:20260425T173412
CREATED:20220522T094836Z
LAST-MODIFIED:20220522T094836Z
UID:10004946-1799348400-1799350200@www.kvakare.se
SUMMARY:Andakt i Stockholm
DESCRIPTION:Stockholms andaktsmöte bjuder in till en halvtimmes andakt. Alla är välkomna. Du behöver inte anmäla dig.
URL:https://www.kvakare.se/event/andakt-i-stockholm-5-2022-11-24/
LOCATION:Kväkargården\, Kristinehovsgatan 6\, Stockholm\, 11729\, Sverige
CATEGORIES:Andakt
ORGANIZER;CN="Kv%C3%A4karna i Stockholm":MAILTO:stockholm@kvakare.se
GEO:59.3181548;18.0409199
X-APPLE-STRUCTURED-LOCATION;VALUE=URI;X-ADDRESS=Kväkargården Kristinehovsgatan 6 Stockholm 11729 Sverige;X-APPLE-RADIUS=500;X-TITLE=Kristinehovsgatan 6:geo:18.0409199,59.3181548
END:VEVENT
BEGIN:VEVENT
DTSTART;TZID=Europe/Helsinki:20270107T190000
DTEND;TZID=Europe/Helsinki:20270107T193000
DTSTAMP:20260425T173412
CREATED:20220522T094836Z
LAST-MODIFIED:20220522T094836Z
UID:10008791-1799348400-1799350200@www.kvakare.se
SUMMARY:Andakt i Stockholm
DESCRIPTION:Stockholms andaktsmöte bjuder in till en halvtimmes andakt. Alla är välkomna. Du behöver inte anmäla dig.
URL:https://www.kvakare.se/event/andakt-i-stockholm-5-2023-02-02/
LOCATION:Kväkargården\, Kristinehovsgatan 6\, Stockholm\, 11729\, Sverige
CATEGORIES:Andakt
ORGANIZER;CN="Kv%C3%A4karna i Stockholm":MAILTO:stockholm@kvakare.se
GEO:59.3181548;18.0409199
X-APPLE-STRUCTURED-LOCATION;VALUE=URI;X-ADDRESS=Kväkargården Kristinehovsgatan 6 Stockholm 11729 Sverige;X-APPLE-RADIUS=500;X-TITLE=Kristinehovsgatan 6:geo:18.0409199,59.3181548
END:VEVENT
BEGIN:VEVENT
DTSTART;TZID=Europe/Helsinki:20270107T190000
DTEND;TZID=Europe/Helsinki:20270107T193000
DTSTAMP:20260425T173412
CREATED:20220522T094836Z
LAST-MODIFIED:20220522T094836Z
UID:10005723-1799348400-1799350200@www.kvakare.se
SUMMARY:Andakt i Stockholm
DESCRIPTION:Stockholms andaktsmöte bjuder in till en halvtimmes andakt. Alla är välkomna. Du behöver inte anmäla dig.
URL:https://www.kvakare.se/event/andakt-i-stockholm-5-2022-12-08/
LOCATION:Kväkargården\, Kristinehovsgatan 6\, Stockholm\, 11729\, Sverige
CATEGORIES:Andakt
ORGANIZER;CN="Kv%C3%A4karna i Stockholm":MAILTO:stockholm@kvakare.se
GEO:59.3181548;18.0409199
X-APPLE-STRUCTURED-LOCATION;VALUE=URI;X-ADDRESS=Kväkargården Kristinehovsgatan 6 Stockholm 11729 Sverige;X-APPLE-RADIUS=500;X-TITLE=Kristinehovsgatan 6:geo:18.0409199,59.3181548
END:VEVENT
BEGIN:VEVENT
DTSTART;TZID=Europe/Helsinki:20270107T190000
DTEND;TZID=Europe/Helsinki:20270107T193000
DTSTAMP:20260425T173412
CREATED:20220522T094836Z
LAST-MODIFIED:20220522T094836Z
UID:10019466-1799348400-1799350200@www.kvakare.se
SUMMARY:Andakt i Stockholm
DESCRIPTION:Stockholms andaktsmöte bjuder in till en halvtimmes andakt. Alla är välkomna. Du behöver inte anmäla dig.
URL:https://www.kvakare.se/event/andakt-i-stockholm-5-2023-03-23-2/
LOCATION:Kväkargården\, Kristinehovsgatan 6\, Stockholm\, 11729\, Sverige
CATEGORIES:Andakt
ORGANIZER;CN="Kv%C3%A4karna i Stockholm":MAILTO:stockholm@kvakare.se
GEO:59.3181548;18.0409199
X-APPLE-STRUCTURED-LOCATION;VALUE=URI;X-ADDRESS=Kväkargården Kristinehovsgatan 6 Stockholm 11729 Sverige;X-APPLE-RADIUS=500;X-TITLE=Kristinehovsgatan 6:geo:18.0409199,59.3181548
END:VEVENT
BEGIN:VEVENT
DTSTART;TZID=Europe/Helsinki:20270107T190000
DTEND;TZID=Europe/Helsinki:20270107T193000
DTSTAMP:20260425T173412
CREATED:20220522T094836Z
LAST-MODIFIED:20220522T094836Z
UID:10016454-1799348400-1799350200@www.kvakare.se
SUMMARY:Andakt i Stockholm
DESCRIPTION:Stockholms andaktsmöte bjuder in till en halvtimmes andakt. Alla är välkomna. Du behöver inte anmäla dig.
URL:https://www.kvakare.se/event/andakt-i-stockholm-5-2023-01-26-2/
LOCATION:Kväkargården\, Kristinehovsgatan 6\, Stockholm\, 11729\, Sverige
CATEGORIES:Andakt
ORGANIZER;CN="Kv%C3%A4karna i Stockholm":MAILTO:stockholm@kvakare.se
GEO:59.3181548;18.0409199
X-APPLE-STRUCTURED-LOCATION;VALUE=URI;X-ADDRESS=Kväkargården Kristinehovsgatan 6 Stockholm 11729 Sverige;X-APPLE-RADIUS=500;X-TITLE=Kristinehovsgatan 6:geo:18.0409199,59.3181548
END:VEVENT
BEGIN:VEVENT
DTSTART;TZID=Europe/Helsinki:20270107T190000
DTEND;TZID=Europe/Helsinki:20270107T193000
DTSTAMP:20260425T173412
CREATED:20220522T094836Z
LAST-MODIFIED:20220522T094836Z
UID:10013378-1799348400-1799350200@www.kvakare.se
SUMMARY:Andakt i Stockholm
DESCRIPTION:Stockholms andaktsmöte bjuder in till en halvtimmes andakt. Alla är välkomna. Du behöver inte anmäla dig.
URL:https://www.kvakare.se/event/andakt-i-stockholm-5-2022-12-01-2/
LOCATION:Kväkargården\, Kristinehovsgatan 6\, Stockholm\, 11729\, Sverige
CATEGORIES:Andakt
ORGANIZER;CN="Kv%C3%A4karna i Stockholm":MAILTO:stockholm@kvakare.se
GEO:59.3181548;18.0409199
X-APPLE-STRUCTURED-LOCATION;VALUE=URI;X-ADDRESS=Kväkargården Kristinehovsgatan 6 Stockholm 11729 Sverige;X-APPLE-RADIUS=500;X-TITLE=Kristinehovsgatan 6:geo:18.0409199,59.3181548
END:VEVENT
BEGIN:VEVENT
DTSTART;TZID=Europe/Helsinki:20270107T190000
DTEND;TZID=Europe/Helsinki:20270107T193000
DTSTAMP:20260425T173412
CREATED:20220522T094836Z
LAST-MODIFIED:20220522T094836Z
UID:10010301-1799348400-1799350200@www.kvakare.se
SUMMARY:Andakt i Stockholm
DESCRIPTION:Stockholms andaktsmöte bjuder in till en halvtimmes andakt. Alla är välkomna. Du behöver inte anmäla dig.
URL:https://www.kvakare.se/event/andakt-i-stockholm-5-2023-03-02/
LOCATION:Kväkargården\, Kristinehovsgatan 6\, Stockholm\, 11729\, Sverige
CATEGORIES:Andakt
ORGANIZER;CN="Kv%C3%A4karna i Stockholm":MAILTO:stockholm@kvakare.se
GEO:59.3181548;18.0409199
X-APPLE-STRUCTURED-LOCATION;VALUE=URI;X-ADDRESS=Kväkargården Kristinehovsgatan 6 Stockholm 11729 Sverige;X-APPLE-RADIUS=500;X-TITLE=Kristinehovsgatan 6:geo:18.0409199,59.3181548
END:VEVENT
BEGIN:VEVENT
DTSTART;TZID=Europe/Helsinki:20270107T190000
DTEND;TZID=Europe/Helsinki:20270107T193000
DTSTAMP:20260425T173412
CREATED:20220522T094836Z
LAST-MODIFIED:20220522T094836Z
UID:10021421-1799348400-1799350200@www.kvakare.se
SUMMARY:Andakt i Stockholm
DESCRIPTION:Stockholms andaktsmöte bjuder in till en halvtimmes andakt. Alla är välkomna. Du behöver inte anmäla dig.
URL:https://www.kvakare.se/event/andakt-i-stockholm-5-2022-12-01-3/
LOCATION:Kväkargården\, Kristinehovsgatan 6\, Stockholm\, 11729\, Sverige
CATEGORIES:Andakt
ORGANIZER;CN="Kv%C3%A4karna i Stockholm":MAILTO:stockholm@kvakare.se
GEO:59.3181548;18.0409199
X-APPLE-STRUCTURED-LOCATION;VALUE=URI;X-ADDRESS=Kväkargården Kristinehovsgatan 6 Stockholm 11729 Sverige;X-APPLE-RADIUS=500;X-TITLE=Kristinehovsgatan 6:geo:18.0409199,59.3181548
END:VEVENT
BEGIN:VEVENT
DTSTART;TZID=Europe/Helsinki:20270107T190000
DTEND;TZID=Europe/Helsinki:20270107T193000
DTSTAMP:20260425T173412
CREATED:20220522T094836Z
LAST-MODIFIED:20220522T094836Z
UID:10018344-1799348400-1799350200@www.kvakare.se
SUMMARY:Andakt i Stockholm
DESCRIPTION:Stockholms andaktsmöte bjuder in till en halvtimmes andakt. Alla är välkomna. Du behöver inte anmäla dig.
URL:https://www.kvakare.se/event/andakt-i-stockholm-5-2023-03-02-2/
LOCATION:Kväkargården\, Kristinehovsgatan 6\, Stockholm\, 11729\, Sverige
CATEGORIES:Andakt
ORGANIZER;CN="Kv%C3%A4karna i Stockholm":MAILTO:stockholm@kvakare.se
GEO:59.3181548;18.0409199
X-APPLE-STRUCTURED-LOCATION;VALUE=URI;X-ADDRESS=Kväkargården Kristinehovsgatan 6 Stockholm 11729 Sverige;X-APPLE-RADIUS=500;X-TITLE=Kristinehovsgatan 6:geo:18.0409199,59.3181548
END:VEVENT
BEGIN:VEVENT
DTSTART;TZID=Europe/Helsinki:20270107T190000
DTEND;TZID=Europe/Helsinki:20270107T193000
DTSTAMP:20260425T173412
CREATED:20220522T094836Z
LAST-MODIFIED:20220522T094836Z
UID:10015308-1799348400-1799350200@www.kvakare.se
SUMMARY:Andakt i Stockholm
DESCRIPTION:Stockholms andaktsmöte bjuder in till en halvtimmes andakt. Alla är välkomna. Du behöver inte anmäla dig.
URL:https://www.kvakare.se/event/andakt-i-stockholm-5-2023-01-05-2/
LOCATION:Kväkargården\, Kristinehovsgatan 6\, Stockholm\, 11729\, Sverige
CATEGORIES:Andakt
ORGANIZER;CN="Kv%C3%A4karna i Stockholm":MAILTO:stockholm@kvakare.se
GEO:59.3181548;18.0409199
X-APPLE-STRUCTURED-LOCATION;VALUE=URI;X-ADDRESS=Kväkargården Kristinehovsgatan 6 Stockholm 11729 Sverige;X-APPLE-RADIUS=500;X-TITLE=Kristinehovsgatan 6:geo:18.0409199,59.3181548
END:VEVENT
END:VCALENDAR