BEGIN:VCALENDAR
VERSION:2.0
PRODID:-//Vännernas samfund (kväkarna) - ECPv6.15.20//NONSGML v1.0//EN
CALSCALE:GREGORIAN
METHOD:PUBLISH
X-ORIGINAL-URL:https://www.kvakare.se
X-WR-CALDESC:Händelser för Vännernas samfund (kväkarna)
REFRESH-INTERVAL;VALUE=DURATION:PT1H
X-Robots-Tag:noindex
X-PUBLISHED-TTL:PT1H
BEGIN:VTIMEZONE
TZID:Europe/Helsinki
BEGIN:DAYLIGHT
TZOFFSETFROM:+0200
TZOFFSETTO:+0300
TZNAME:EEST
DTSTART:20240331T010000
END:DAYLIGHT
BEGIN:STANDARD
TZOFFSETFROM:+0300
TZOFFSETTO:+0200
TZNAME:EET
DTSTART:20241027T010000
END:STANDARD
BEGIN:DAYLIGHT
TZOFFSETFROM:+0200
TZOFFSETTO:+0300
TZNAME:EEST
DTSTART:20250330T010000
END:DAYLIGHT
BEGIN:STANDARD
TZOFFSETFROM:+0300
TZOFFSETTO:+0200
TZNAME:EET
DTSTART:20251026T010000
END:STANDARD
BEGIN:DAYLIGHT
TZOFFSETFROM:+0200
TZOFFSETTO:+0300
TZNAME:EEST
DTSTART:20260329T010000
END:DAYLIGHT
BEGIN:STANDARD
TZOFFSETFROM:+0300
TZOFFSETTO:+0200
TZNAME:EET
DTSTART:20261025T010000
END:STANDARD
END:VTIMEZONE
BEGIN:VEVENT
DTSTART;TZID=Europe/Helsinki:20250914T130000
DTEND;TZID=Europe/Helsinki:20250914T150000
DTSTAMP:20260420T102526
CREATED:20250601T155903Z
LAST-MODIFIED:20250825T184626Z
UID:10023219-1757854800-1757862000@www.kvakare.se
SUMMARY:Introduktion till giraffspråk (Stockholm)
DESCRIPTION:Kerstin Backman presenterar ”giraffspråket” – en modell för empatisk kommunikation\, kalla det gärna”förebyggande konflikthantering”. Kerstin kom i kontakt med NVC (Nonviolent Communication) under sintid som skolledare på 80-talet och använde giraffspråket vid hantering av elevers klagomål på undervisningen. \n\n\n\nVar: Kväkargården \n\n\n\nIngen föranmälan. Välkommen.
URL:https://www.kvakare.se/event/introduktion-till-giraffsprak/
ATTACH;FMTTYPE=image/jpeg:https://www.kvakare.se/wp-content/uploads/2025/06/istockphoto-961690842-612x612-1.jpg
ORGANIZER;CN="Kv%C3%A4karna i Stockholm":MAILTO:stockholm@kvakare.se
END:VEVENT
BEGIN:VEVENT
DTSTART;TZID=Europe/Helsinki:20250914T110000
DTEND;TZID=Europe/Helsinki:20250914T120000
DTSTAMP:20260420T102526
CREATED:20250707T151909Z
LAST-MODIFIED:20250730T155806Z
UID:10023712-1757847600-1757851200@www.kvakare.se
SUMMARY:Andakt (Online)
DESCRIPTION:Vi sitter tillsammans i tystnad och stillhet under cirka en timme för att rikta vår uppmärksamhet inåt. Den som känner sig manad från sitt inre att kort dela något under stillheten får gärna göra det. De som vill stannar kvar en liten stund efteråt för samtal och reflektioner kring tankar som kommit upp under andakten\, eller kring något ämne som någon känner är angeläget.
URL:https://www.kvakare.se/event/digital-andakt-17/2025-09-14/
ATTACH;FMTTYPE=image/png:https://www.kvakare.se/wp-content/uploads/2024/02/image.png
END:VEVENT
BEGIN:VEVENT
DTSTART;TZID=Europe/Helsinki:20250914T110000
DTEND;TZID=Europe/Helsinki:20250914T120000
DTSTAMP:20260420T102526
CREATED:20250518T205923Z
LAST-MODIFIED:20250730T132244Z
UID:10022583-1757847600-1757851200@www.kvakare.se
SUMMARY:Andakt (Stockholm)
DESCRIPTION:Alla är välkomna. Du behöver inte anmäla dig. Efter andakten serveras fika till självkostnadspris.
URL:https://www.kvakare.se/event/andakt-i-stockholm/2025-09-14/
ATTACH;FMTTYPE=image/png:https://www.kvakare.se/wp-content/uploads/2024/02/image.png
ORGANIZER;CN="Kv%C3%A4karna i Stockholm":MAILTO:stockholm@kvakare.se
END:VEVENT
BEGIN:VEVENT
DTSTART;TZID=Europe/Helsinki:20250913T160000
DTEND;TZID=Europe/Helsinki:20250913T163000
DTSTAMP:20260420T102526
CREATED:20260110T171052Z
LAST-MODIFIED:20260308T094820Z
UID:10025697-1757779200-1757781000@www.kvakare.se
SUMMARY:Eftermiddagsandakt med George Fox (Online)
DESCRIPTION:Du är välkommen att i stillhet och gemenskap upptäcka mer om kväkarnas andliga arv. Mitt i helgens alla måsten stannar vi upp för att vara med i en halvtimmes andakt som varje lördag inleds med ett nytt citat av George Fox. \n\n\n\nAndakterna börjar klockan 16.00 och slutar klockan 16.30.Kom när du kan! Välkommen! \n\n\n\nFör att få citaten i förväg kontakta: goteborg@kvakare.se.
URL:https://www.kvakare.se/event/eftermiddagsandakt-med-george-fox-online/2025-09-13/
ATTACH;FMTTYPE=image/jpeg:https://www.kvakare.se/wp-content/uploads/2024/01/George-Fox.jpg
ORGANIZER;CN="Kv%C3%A4karna i G%C3%B6teborg":MAILTO:goteborg@kvakare.se
END:VEVENT
BEGIN:VEVENT
DTSTART;TZID=Europe/Helsinki:20250913T160000
DTEND;TZID=Europe/Helsinki:20250913T163000
DTSTAMP:20260420T102526
CREATED:20250815T171016Z
LAST-MODIFIED:20260110T171032Z
UID:10023902-1757779200-1757781000@www.kvakare.se
SUMMARY:Eftermiddagsandakt med George Fox (Online)
DESCRIPTION:Du är välkommen att i stillhet och gemenskap upptäcka mer om kväkarnas andliga arv. Mitt i helgens alla måsten stannar vi upp för att vara med i en halvtimmes andakt som varje lördag inleds med ett nytt citat av George Fox. \n\n\n\nAndakterna börjar klockan 16.00 och slutar klockan 16.30.Kom när du kan! Välkommen! \n\n\n\nFör att få citaten i förväg kontakta: goteborg@kvakare.se.
URL:https://www.kvakare.se/event/eftermiddagsandakt-med-george-fox/2025-09-13/
ATTACH;FMTTYPE=image/jpeg:https://www.kvakare.se/wp-content/uploads/2024/01/George-Fox.jpg
ORGANIZER;CN="Kv%C3%A4karna i G%C3%B6teborg":MAILTO:goteborg@kvakare.se
END:VEVENT
BEGIN:VEVENT
DTSTART;TZID=Europe/Helsinki:20250913T110000
DTEND;TZID=Europe/Helsinki:20250913T130000
DTSTAMP:20260420T102526
CREATED:20250815T165910Z
LAST-MODIFIED:20250815T171107Z
UID:10024434-1757761200-1757768400@www.kvakare.se
SUMMARY:Studiecirkel: "Kväkarnas arbete för fred" (Malmö)
DESCRIPTION:Varje tillfälle är fristående och knyter an till temat. Tillfällena består av att vi läser kväkartexter och andra texter. Reflekterar\, kontemplerar och samtalar. Vid några tillfällen kommer gäster och berättar om formerna för kväkararbete för fred. \n\n\n\nVi avslutar med fika. Det går att avvika efter en timme om man behöver det. Som deltagare i cirkeln behöver du varken förbereda eller anmäla dig. Det går bra att komma på de träffar som passar dig. \n\n\n\nTräffarna är kostnadsfria\, men vi välkomnar ett bidrag till fika\, kontant eller Swish. Du kan läsa mer om Bildas studiecirklar här.
URL:https://www.kvakare.se/event/studiecirkel-kvakarnas-arbete-for-fred/2025-09-13/
LOCATION:<iframe src="https://www.google.com/maps/embed?pb=!1m18!1m12!1m3!1d9017.007052147655!2d12.9799975871582!3d55.5976319!2m3!1f0!2f0!3f0!3m2!1i1024!2i768!4f13.1!3m3!1m2!1s0x4653a1572a46b92f%3A0xfe53567a7b48b75a!2sStudief%C3%B6rbundet%20Bilda%20Sydv%C3%A4st!5e0!3m2!1ssv!2sse!4v1755275920212!5m2!1ssv!2sse" width="400" height="300" style="border:0;" allowfullscreen="" loading="lazy" referrerpolicy="no-referrer-when-downgrade"></iframe>
ATTACH;FMTTYPE=image/jpeg:https://www.kvakare.se/wp-content/uploads/2018/01/duva.jpg
ORGANIZER;CN="Kv%C3%A4karna i Malm%C3%B6":MAILTO:malmo@kvakare.se
END:VEVENT
BEGIN:VEVENT
DTSTART;TZID=Europe/Helsinki:20250913T100000
DTEND;TZID=Europe/Helsinki:20250913T160000
DTSTAMP:20260420T102526
CREATED:20250601T155546Z
LAST-MODIFIED:20250825T184546Z
UID:10023218-1757757600-1757779200@www.kvakare.se
SUMMARY:Retreat: Meditation för fred (Stockholm)
DESCRIPTION:Var: Kväkargården \n\n\n\nAnmälan till ulrika.mars@gmail.com
URL:https://www.kvakare.se/event/retreat-meditation-for-fred/
ATTACH;FMTTYPE=image/jpeg:https://www.kvakare.se/wp-content/uploads/2018/01/duva.jpg
ORGANIZER;CN="Kv%C3%A4karna i Stockholm":MAILTO:stockholm@kvakare.se
END:VEVENT
BEGIN:VEVENT
DTSTART;TZID=Europe/Helsinki:20250911T190000
DTEND;TZID=Europe/Helsinki:20250911T193000
DTSTAMP:20260420T102526
CREATED:20250518T210348Z
LAST-MODIFIED:20250730T132318Z
UID:10022843-1757617200-1757619000@www.kvakare.se
SUMMARY:Andakt (Stockholm)
DESCRIPTION:Alla är välkomna. Du behöver inte anmäla dig.
URL:https://www.kvakare.se/event/andakt-i-stockholm-3/2025-09-11/
ATTACH;FMTTYPE=image/png:https://www.kvakare.se/wp-content/uploads/2024/02/image.png
ORGANIZER;CN="Kv%C3%A4karna i Stockholm":MAILTO:stockholm@kvakare.se
END:VEVENT
BEGIN:VEVENT
DTSTART;TZID=Europe/Helsinki:20250909T190000
DTEND;TZID=Europe/Helsinki:20250909T200000
DTSTAMP:20260420T102526
CREATED:20250707T145323Z
LAST-MODIFIED:20250730T155219Z
UID:10023654-1757444400-1757448000@www.kvakare.se
SUMMARY:Andakt (Online)
DESCRIPTION:Vi sitter tillsammans i tystnad och stillhet under cirka en timme för att rikta vår uppmärksamhet inåt. Den som känner sig manad från sitt inre att kort dela något under stillheten får gärna göra det. De som vill stannar kvar en liten stund efteråt för samtal och reflektioner kring tankar som kommit upp under andakten\, eller kring något ämne som någon känner är angeläget.
URL:https://www.kvakare.se/event/digital-andakt-16/2025-09-09/
ATTACH;FMTTYPE=image/png:https://www.kvakare.se/wp-content/uploads/2024/02/image.png
END:VEVENT
BEGIN:VEVENT
DTSTART;TZID=Europe/Helsinki:20250908T180000
DTEND;TZID=Europe/Helsinki:20250908T193000
DTSTAMP:20260420T102526
CREATED:20250617T090455Z
LAST-MODIFIED:20250902T042251Z
UID:10024595-1757354400-1757359800@www.kvakare.se
SUMMARY:Språkcafé (Stockholm)
DESCRIPTION:Kom och öva att prata svenska och samtidigt förbättra svenskan. Kerstin Backman leder språkcaféet där vi lyssnar på varandras ”Veckans höjdpunkt” och gör övningar med hjälp av kort. \n\n\n\nVar: Kväkargården\, Kristinehovs malmgård\, Kristinehovsgatan 6. Kommunikationer: buss 66 till Högalidskyrkan\, eller tunnelbana till Hornstull\, uppgång Hornsbruksgatan.
URL:https://www.kvakare.se/event/sprakcafe/2025-09-08/
ATTACH;FMTTYPE=image/jpeg:https://www.kvakare.se/wp-content/uploads/2025/06/20250901_182658.jpg
ORGANIZER;CN="Kv%C3%A4karna i Stockholm":MAILTO:stockholm@kvakare.se
END:VEVENT
BEGIN:VEVENT
DTSTART;TZID=Europe/Helsinki:20250907T180000
DTEND;TZID=Europe/Helsinki:20250907T190000
DTSTAMP:20260420T102526
CREATED:20250601T192323Z
LAST-MODIFIED:20250730T155733Z
UID:10023252-1757268000-1757271600@www.kvakare.se
SUMMARY:Andakt (Stigtomta)
DESCRIPTION:Mälardalens andaktsgrupp i samarbete med Svenska kyrkan Stigtomta-Vrena församling. \n\n\n\n\n\n\n\n \n\n\n\nEfteråt samtal med medtaget fika.
URL:https://www.kvakare.se/event/andakt-i-stigtomta-3/
ATTACH;FMTTYPE=image/png:https://www.kvakare.se/wp-content/uploads/2024/02/image.png
ORGANIZER;CN="Kv%C3%A4karna i M%C3%A4lardalen":MAILTO:malardalen@kvakare.se
END:VEVENT
BEGIN:VEVENT
DTSTART;TZID=Europe/Helsinki:20250907T110000
DTEND;TZID=Europe/Helsinki:20250907T120000
DTSTAMP:20260420T102526
CREATED:20250707T141723Z
LAST-MODIFIED:20250730T155015Z
UID:10003429-1757242800-1757246400@www.kvakare.se
SUMMARY:Andakt (Online)
DESCRIPTION:Vi sitter tillsammans i tystnad och stillhet under cirka en timme för att rikta vår uppmärksamhet inåt. Den som känner sig manad från sitt inre att kort dela något under stillheten får gärna göra det. De som vill stannar kvar en liten stund efteråt för samtal och reflektioner kring tankar som kommit upp under andakten\, eller kring något ämne som någon känner är angeläget.
URL:https://www.kvakare.se/event/digital-andakt-13/2025-09-07/
ATTACH;FMTTYPE=image/png:https://www.kvakare.se/wp-content/uploads/2024/02/image.png
END:VEVENT
BEGIN:VEVENT
DTSTART;TZID=Europe/Helsinki:20250907T110000
DTEND;TZID=Europe/Helsinki:20250907T120000
DTSTAMP:20260420T102526
CREATED:20250518T205923Z
LAST-MODIFIED:20250730T132244Z
UID:10022582-1757242800-1757246400@www.kvakare.se
SUMMARY:Andakt (Stockholm)
DESCRIPTION:Alla är välkomna. Du behöver inte anmäla dig. Efter andakten serveras fika till självkostnadspris.
URL:https://www.kvakare.se/event/andakt-i-stockholm/2025-09-07/
ATTACH;FMTTYPE=image/png:https://www.kvakare.se/wp-content/uploads/2024/02/image.png
ORGANIZER;CN="Kv%C3%A4karna i Stockholm":MAILTO:stockholm@kvakare.se
END:VEVENT
BEGIN:VEVENT
DTSTART;TZID=Europe/Helsinki:20250907T110000
DTEND;TZID=Europe/Helsinki:20250907T120000
DTSTAMP:20260420T102526
CREATED:20250514T064134Z
LAST-MODIFIED:20250730T132756Z
UID:10022347-1757242800-1757246400@www.kvakare.se
SUMMARY:Andakt (Göteborg)
DESCRIPTION:Kväkarna i Göteborg välkomnar dig att delta i en stilla andakt första söndagen i varje månad. \n\n\n\n\n\n\n\nDu kan ta spårvagn 5 mot Östra sjukhuset och kliva av vid Töpelsgatan. Bilparkering finns framför huset. Ingången till lokalen är den andra dörren på högra gaveln. \n\n\n\nDen stilla andakten börjar kl 11.00 och avslutas kl. 12.00. Därefter kan de som vill sitta kvar för en stunds gemenskap – för att dela tankar eller reflektioner kring andakten\, för att berätta om något eller föratt ställa frågor. Vi fortsätter sedan med samtal kring fikabordet. \n\n\n\nVarmt välkommen.
URL:https://www.kvakare.se/event/andakt-i-goteborg-4/2025-09-07/
ATTACH;FMTTYPE=image/png:https://www.kvakare.se/wp-content/uploads/2024/02/image.png
ORGANIZER;CN="Kv%C3%A4karna i G%C3%B6teborg":MAILTO:goteborg@kvakare.se
END:VEVENT
BEGIN:VEVENT
DTSTART;TZID=Europe/Helsinki:20250907T100000
DTEND;TZID=Europe/Helsinki:20250907T110000
DTSTAMP:20260420T102526
CREATED:20250903T172746Z
LAST-MODIFIED:20250903T172747Z
UID:10024624-1757239200-1757242800@www.kvakare.se
SUMMARY:Andakt (Svenstavik)
DESCRIPTION:Var: Gamla skolan\, Kvissle 410 \n\n\n\nEfteråt bjuds på fika
URL:https://www.kvakare.se/event/andakt-svenstavik/
ATTACH;FMTTYPE=image/jpeg:https://www.kvakare.se/wp-content/uploads/2025/05/IMG_20250504_222453-scaled.jpg
ORGANIZER;CN="Kv%C3%A4karna i J%C3%A4mtland":MAILTO:jamtland@kvakare.se
END:VEVENT
BEGIN:VEVENT
DTSTART;TZID=Europe/Helsinki:20250906T160000
DTEND;TZID=Europe/Helsinki:20250906T163000
DTSTAMP:20260420T102527
CREATED:20260110T171052Z
LAST-MODIFIED:20260308T094820Z
UID:10025696-1757174400-1757176200@www.kvakare.se
SUMMARY:Eftermiddagsandakt med George Fox (Online)
DESCRIPTION:Du är välkommen att i stillhet och gemenskap upptäcka mer om kväkarnas andliga arv. Mitt i helgens alla måsten stannar vi upp för att vara med i en halvtimmes andakt som varje lördag inleds med ett nytt citat av George Fox. \n\n\n\nAndakterna börjar klockan 16.00 och slutar klockan 16.30.Kom när du kan! Välkommen! \n\n\n\nFör att få citaten i förväg kontakta: goteborg@kvakare.se.
URL:https://www.kvakare.se/event/eftermiddagsandakt-med-george-fox-online/2025-09-06/
ATTACH;FMTTYPE=image/jpeg:https://www.kvakare.se/wp-content/uploads/2024/01/George-Fox.jpg
ORGANIZER;CN="Kv%C3%A4karna i G%C3%B6teborg":MAILTO:goteborg@kvakare.se
END:VEVENT
BEGIN:VEVENT
DTSTART;TZID=Europe/Helsinki:20250906T160000
DTEND;TZID=Europe/Helsinki:20250906T163000
DTSTAMP:20260420T102527
CREATED:20250815T171016Z
LAST-MODIFIED:20260110T171032Z
UID:10023901-1757174400-1757176200@www.kvakare.se
SUMMARY:Eftermiddagsandakt med George Fox (Online)
DESCRIPTION:Du är välkommen att i stillhet och gemenskap upptäcka mer om kväkarnas andliga arv. Mitt i helgens alla måsten stannar vi upp för att vara med i en halvtimmes andakt som varje lördag inleds med ett nytt citat av George Fox. \n\n\n\nAndakterna börjar klockan 16.00 och slutar klockan 16.30.Kom när du kan! Välkommen! \n\n\n\nFör att få citaten i förväg kontakta: goteborg@kvakare.se.
URL:https://www.kvakare.se/event/eftermiddagsandakt-med-george-fox/2025-09-06/
ATTACH;FMTTYPE=image/jpeg:https://www.kvakare.se/wp-content/uploads/2024/01/George-Fox.jpg
ORGANIZER;CN="Kv%C3%A4karna i G%C3%B6teborg":MAILTO:goteborg@kvakare.se
END:VEVENT
BEGIN:VEVENT
DTSTART;TZID=Europe/Helsinki:20250906T110000
DTEND;TZID=Europe/Helsinki:20250906T130000
DTSTAMP:20260420T102527
CREATED:20250815T164755Z
LAST-MODIFIED:20250815T164827Z
UID:10024430-1757156400-1757163600@www.kvakare.se
SUMMARY:Andakt (Malmö)
DESCRIPTION:Andakterna är i ett privat hem\, maila för adress.  \n\n\n\nOm du kommer för första gången kan du läsa här. \n\n\n\nKom gärna en stund innan andakten börjar.
URL:https://www.kvakare.se/event/andakt-malmo/
ATTACH;FMTTYPE=image/png:https://www.kvakare.se/wp-content/uploads/2024/02/image.png
ORGANIZER;CN="Kv%C3%A4karna i Malm%C3%B6":MAILTO:malmo@kvakare.se
END:VEVENT
BEGIN:VEVENT
DTSTART;TZID=Europe/Helsinki:20250906T100000
DTEND;TZID=Europe/Helsinki:20250906T160000
DTSTAMP:20260420T102527
CREATED:20250525T120150Z
LAST-MODIFIED:20250730T155615Z
UID:10023143-1757152800-1757174400@www.kvakare.se
SUMMARY:Vandringsretreat (Sörmland)
DESCRIPTION:”Att förenkla\, sakta in och välja bort” \n\n\n\nKan vi finna vägar in i framtiden som knyter allt levande samman och skapar en gemensam grund för framtida överlevnad\, som gynnar såväl mänskligt som icke-mänskligt liv\, en kärlekens väg som tar hänsyn till naturens egna lagar och livets egen rytm. \n\n\n\nVälkommen till en kontemplativ vandringsretreat i lättgången terräng 5 km på Sörmlandsleden etapp 28 nära Forssjö i Katrineholm Rundslinga Forssjö – Sörmlandsleden. \n\n\n\nVar: Åk 4 km fr Katrineholm på riksväg 52\, ta av mot Forssjö. Fortsätt mot Strångsjö. Cirka 3 km efter Forssjö tar du till vänster mot Askersund fram till det sk Staksundskorset före Askersunds gård. \n\n\n\nInformation om vandringen: Nicklas Adamsson\, nicklas.adamsson@gmail.comAnmälan: Gun-Britt Karlsson\, gun-britt@systemtillit.se \n\n\n\nHämtning kan ordnas på järnvägsstationen i Katrineholm eller vid buss 765 på väg 52. Det kostar inget att delta. Kläder efter väder. Medtag mat och dryck för dagen. Välkomna.
URL:https://www.kvakare.se/event/vandringsretreat-i-sormland/
ATTACH;FMTTYPE=image/jpeg:https://www.kvakare.se/wp-content/uploads/2025/05/Bild2.jpg
ORGANIZER;CN="Kv%C3%A4karna i M%C3%A4lardalen":MAILTO:malardalen@kvakare.se
END:VEVENT
BEGIN:VEVENT
DTSTART;TZID=Europe/Helsinki:20250904T190000
DTEND;TZID=Europe/Helsinki:20250904T193000
DTSTAMP:20260420T102527
CREATED:20250518T210348Z
LAST-MODIFIED:20250730T132318Z
UID:10022842-1757012400-1757014200@www.kvakare.se
SUMMARY:Andakt (Stockholm)
DESCRIPTION:Alla är välkomna. Du behöver inte anmäla dig.
URL:https://www.kvakare.se/event/andakt-i-stockholm-3/2025-09-04/
ATTACH;FMTTYPE=image/png:https://www.kvakare.se/wp-content/uploads/2024/02/image.png
ORGANIZER;CN="Kv%C3%A4karna i Stockholm":MAILTO:stockholm@kvakare.se
END:VEVENT
BEGIN:VEVENT
DTSTART;TZID=Europe/Helsinki:20250902T190000
DTEND;TZID=Europe/Helsinki:20250902T203000
DTSTAMP:20260420T102527
CREATED:20250823T175737Z
LAST-MODIFIED:20250825T184512Z
UID:10024535-1756839600-1756845000@www.kvakare.se
SUMMARY:Vilka är kväkarna? (Online)
DESCRIPTION:Vill du veta mer om kväkarna? Välkommen till introduktionskvällar via Zoom första tisdagen i månaden\, september till december. \n\n\n\nJulia Ryberg\, tidigare samfundspedagog\, välkomnar dig och tillsammans med en annan erfaren kväkare berättar vi om kväkarnas tro och praxis.  \n\n\n\nMaila för att få länk till mötet. Då kan du också med fördel skriva de frågor du hoppas få svar på. Det hjälper oss att förbereda innehållet.
URL:https://www.kvakare.se/event/vilka-ar-kvakarna-2/
ATTACH;FMTTYPE=image/jpeg:https://www.kvakare.se/wp-content/uploads/2025/08/IMG_20250824_181813-scaled.jpg
ORGANIZER;CN="Julia Ryberg":MAILTO:julia.ryberg@kvakare.se
END:VEVENT
BEGIN:VEVENT
DTSTART;TZID=Europe/Helsinki:20250901T190000
DTEND;TZID=Europe/Helsinki:20250901T210000
DTSTAMP:20260420T102527
CREATED:20250818T135248Z
LAST-MODIFIED:20250825T184448Z
UID:10024499-1756753200-1756760400@www.kvakare.se
SUMMARY:Temakväll med Kväkarhjälpen (Online)
DESCRIPTION:Misha (Mikheil Elizbarashvili) från Georgien berättar om arbetet med samvetsömma/vapenvägrare och krigsflyktingar från Ukraina och Ryssland. Hur de kan få berätta sina historier\, få stöd och hjälp samt slussas vidare efter behov. \n\n\n\nMaila nedanstående adress för möteslänk och mer information.
URL:https://www.kvakare.se/event/temakvall-med-kvakarhjalpen/
LOCATION:Kväkarhjälpen
ATTACH;FMTTYPE=image/png:https://www.kvakare.se/wp-content/uploads/2018/11/QSS.png
ORGANIZER;CN="Kv%C3%A4karhj%C3%A4lpen":MAILTO:kvakarhjalpen@kvakare.se
END:VEVENT
BEGIN:VEVENT
DTSTART;TZID=Europe/Helsinki:20250901T180000
DTEND;TZID=Europe/Helsinki:20250901T193000
DTSTAMP:20260420T102527
CREATED:20250617T090455Z
LAST-MODIFIED:20250902T042251Z
UID:10024594-1756749600-1756755000@www.kvakare.se
SUMMARY:Språkcafé (Stockholm)
DESCRIPTION:Kom och öva att prata svenska och samtidigt förbättra svenskan. Kerstin Backman leder språkcaféet där vi lyssnar på varandras ”Veckans höjdpunkt” och gör övningar med hjälp av kort. \n\n\n\nVar: Kväkargården\, Kristinehovs malmgård\, Kristinehovsgatan 6. Kommunikationer: buss 66 till Högalidskyrkan\, eller tunnelbana till Hornstull\, uppgång Hornsbruksgatan.
URL:https://www.kvakare.se/event/sprakcafe/2025-09-01/
ATTACH;FMTTYPE=image/jpeg:https://www.kvakare.se/wp-content/uploads/2025/06/20250901_182658.jpg
ORGANIZER;CN="Kv%C3%A4karna i Stockholm":MAILTO:stockholm@kvakare.se
END:VEVENT
BEGIN:VEVENT
DTSTART;TZID=Europe/Helsinki:20250831T110000
DTEND;TZID=Europe/Helsinki:20250831T120000
DTSTAMP:20260420T102527
CREATED:20250829T081940Z
LAST-MODIFIED:20250829T082352Z
UID:10024558-1756638000-1756641600@www.kvakare.se
SUMMARY:Andakt från inspirationshelgen i Rimforsa (Hybrid)
DESCRIPTION:Andakt som avslutning på inspirationshelgen i Rimforsa. Andaktsrummet på plats och online öppnar 30 minuter innan.
URL:https://www.kvakare.se/event/andakt-fran-inspirationshelgen-i-rimforsa-hybrid/
ATTACH;FMTTYPE=image/png:https://www.kvakare.se/wp-content/uploads/2024/02/image.png
END:VEVENT
BEGIN:VEVENT
DTSTART;TZID=Europe/Helsinki:20250831T110000
DTEND;TZID=Europe/Helsinki:20250831T120000
DTSTAMP:20260420T102527
CREATED:20250518T205923Z
LAST-MODIFIED:20250730T132244Z
UID:10022581-1756638000-1756641600@www.kvakare.se
SUMMARY:Andakt (Stockholm)
DESCRIPTION:Alla är välkomna. Du behöver inte anmäla dig. Efter andakten serveras fika till självkostnadspris.
URL:https://www.kvakare.se/event/andakt-i-stockholm/2025-08-31/
ATTACH;FMTTYPE=image/png:https://www.kvakare.se/wp-content/uploads/2024/02/image.png
ORGANIZER;CN="Kv%C3%A4karna i Stockholm":MAILTO:stockholm@kvakare.se
END:VEVENT
BEGIN:VEVENT
DTSTART;TZID=Europe/Helsinki:20250830T160000
DTEND;TZID=Europe/Helsinki:20250830T163000
DTSTAMP:20260420T102527
CREATED:20260110T171052Z
LAST-MODIFIED:20260308T094820Z
UID:10025695-1756569600-1756571400@www.kvakare.se
SUMMARY:Eftermiddagsandakt med George Fox (Online)
DESCRIPTION:Du är välkommen att i stillhet och gemenskap upptäcka mer om kväkarnas andliga arv. Mitt i helgens alla måsten stannar vi upp för att vara med i en halvtimmes andakt som varje lördag inleds med ett nytt citat av George Fox. \n\n\n\nAndakterna börjar klockan 16.00 och slutar klockan 16.30.Kom när du kan! Välkommen! \n\n\n\nFör att få citaten i förväg kontakta: goteborg@kvakare.se.
URL:https://www.kvakare.se/event/eftermiddagsandakt-med-george-fox-online/2025-08-30/
ATTACH;FMTTYPE=image/jpeg:https://www.kvakare.se/wp-content/uploads/2024/01/George-Fox.jpg
ORGANIZER;CN="Kv%C3%A4karna i G%C3%B6teborg":MAILTO:goteborg@kvakare.se
END:VEVENT
BEGIN:VEVENT
DTSTART;TZID=Europe/Helsinki:20250830T160000
DTEND;TZID=Europe/Helsinki:20250830T163000
DTSTAMP:20260420T102527
CREATED:20250815T171016Z
LAST-MODIFIED:20260110T171032Z
UID:10022565-1756569600-1756571400@www.kvakare.se
SUMMARY:Eftermiddagsandakt med George Fox (Online)
DESCRIPTION:Du är välkommen att i stillhet och gemenskap upptäcka mer om kväkarnas andliga arv. Mitt i helgens alla måsten stannar vi upp för att vara med i en halvtimmes andakt som varje lördag inleds med ett nytt citat av George Fox. \n\n\n\nAndakterna börjar klockan 16.00 och slutar klockan 16.30.Kom när du kan! Välkommen! \n\n\n\nFör att få citaten i förväg kontakta: goteborg@kvakare.se.
URL:https://www.kvakare.se/event/eftermiddagsandakt-med-george-fox/2025-08-30/
ATTACH;FMTTYPE=image/jpeg:https://www.kvakare.se/wp-content/uploads/2024/01/George-Fox.jpg
ORGANIZER;CN="Kv%C3%A4karna i G%C3%B6teborg":MAILTO:goteborg@kvakare.se
END:VEVENT
BEGIN:VEVENT
DTSTART;TZID=Europe/Helsinki:20250828T190000
DTEND;TZID=Europe/Helsinki:20250828T193000
DTSTAMP:20260420T102527
CREATED:20250518T210348Z
LAST-MODIFIED:20250730T132318Z
UID:10022841-1756407600-1756409400@www.kvakare.se
SUMMARY:Andakt (Stockholm)
DESCRIPTION:Alla är välkomna. Du behöver inte anmäla dig.
URL:https://www.kvakare.se/event/andakt-i-stockholm-3/2025-08-28/
ATTACH;FMTTYPE=image/png:https://www.kvakare.se/wp-content/uploads/2024/02/image.png
ORGANIZER;CN="Kv%C3%A4karna i Stockholm":MAILTO:stockholm@kvakare.se
END:VEVENT
BEGIN:VEVENT
DTSTART;TZID=Europe/Helsinki:20250825T180000
DTEND;TZID=Europe/Helsinki:20250825T193000
DTSTAMP:20260420T102527
CREATED:20250617T090455Z
LAST-MODIFIED:20250902T042251Z
UID:10023356-1756144800-1756150200@www.kvakare.se
SUMMARY:Språkcafé (Stockholm)
DESCRIPTION:Kom och öva att prata svenska och samtidigt förbättra svenskan. Kerstin Backman leder språkcaféet där vi lyssnar på varandras ”Veckans höjdpunkt” och gör övningar med hjälp av kort. \n\n\n\nVar: Kväkargården\, Kristinehovs malmgård\, Kristinehovsgatan 6. Kommunikationer: buss 66 till Högalidskyrkan\, eller tunnelbana till Hornstull\, uppgång Hornsbruksgatan.
URL:https://www.kvakare.se/event/sprakcafe/2025-08-25/
ATTACH;FMTTYPE=image/jpeg:https://www.kvakare.se/wp-content/uploads/2025/06/20250901_182658.jpg
ORGANIZER;CN="Kv%C3%A4karna i Stockholm":MAILTO:stockholm@kvakare.se
END:VEVENT
BEGIN:VEVENT
DTSTART;TZID=Europe/Helsinki:20250825T180000
DTEND;TZID=Europe/Helsinki:20250825T190000
DTSTAMP:20260420T102527
CREATED:20250610T090328Z
LAST-MODIFIED:20250610T090329Z
UID:10023304-1756144800-1756148400@www.kvakare.se
SUMMARY:Möte i Nomineringskommittén
DESCRIPTION:Nomineringskommittén har möte. Medlemmar är välkommen med föranmälda frågor rörande intresse för roller\, förslag på Vänner till uppdrag och behov eller förslag till förändringar.
URL:https://www.kvakare.se/event/mote-i-nomineringskommitten/
ORGANIZER;CN="Nomineringskommitt%C3%A9n":MAILTO:nomineringskommitten@kvakare.se
END:VEVENT
END:VCALENDAR