BEGIN:VCALENDAR
VERSION:2.0
PRODID:-//Vännernas samfund (kväkarna) - ECPv6.15.20//NONSGML v1.0//EN
CALSCALE:GREGORIAN
METHOD:PUBLISH
X-ORIGINAL-URL:https://www.kvakare.se
X-WR-CALDESC:Händelser för Vännernas samfund (kväkarna)
REFRESH-INTERVAL;VALUE=DURATION:PT1H
X-Robots-Tag:noindex
X-PUBLISHED-TTL:PT1H
BEGIN:VTIMEZONE
TZID:Europe/Helsinki
BEGIN:DAYLIGHT
TZOFFSETFROM:+0200
TZOFFSETTO:+0300
TZNAME:EEST
DTSTART:20240331T010000
END:DAYLIGHT
BEGIN:STANDARD
TZOFFSETFROM:+0300
TZOFFSETTO:+0200
TZNAME:EET
DTSTART:20241027T010000
END:STANDARD
BEGIN:DAYLIGHT
TZOFFSETFROM:+0200
TZOFFSETTO:+0300
TZNAME:EEST
DTSTART:20250330T010000
END:DAYLIGHT
BEGIN:STANDARD
TZOFFSETFROM:+0300
TZOFFSETTO:+0200
TZNAME:EET
DTSTART:20251026T010000
END:STANDARD
BEGIN:DAYLIGHT
TZOFFSETFROM:+0200
TZOFFSETTO:+0300
TZNAME:EEST
DTSTART:20260329T010000
END:DAYLIGHT
BEGIN:STANDARD
TZOFFSETFROM:+0300
TZOFFSETTO:+0200
TZNAME:EET
DTSTART:20261025T010000
END:STANDARD
END:VTIMEZONE
BEGIN:VEVENT
DTSTART;TZID=Europe/Helsinki:20250902T190000
DTEND;TZID=Europe/Helsinki:20250902T203000
DTSTAMP:20260420T131045
CREATED:20250823T175737Z
LAST-MODIFIED:20250825T184512Z
UID:10024535-1756839600-1756845000@www.kvakare.se
SUMMARY:Vilka är kväkarna? (Online)
DESCRIPTION:Vill du veta mer om kväkarna? Välkommen till introduktionskvällar via Zoom första tisdagen i månaden\, september till december. \n\n\n\nJulia Ryberg\, tidigare samfundspedagog\, välkomnar dig och tillsammans med en annan erfaren kväkare berättar vi om kväkarnas tro och praxis.  \n\n\n\nMaila för att få länk till mötet. Då kan du också med fördel skriva de frågor du hoppas få svar på. Det hjälper oss att förbereda innehållet.
URL:https://www.kvakare.se/event/vilka-ar-kvakarna-2/
ATTACH;FMTTYPE=image/jpeg:https://www.kvakare.se/wp-content/uploads/2025/08/IMG_20250824_181813-scaled.jpg
ORGANIZER;CN="Julia Ryberg":MAILTO:julia.ryberg@kvakare.se
END:VEVENT
BEGIN:VEVENT
DTSTART;TZID=Europe/Helsinki:20250901T190000
DTEND;TZID=Europe/Helsinki:20250901T210000
DTSTAMP:20260420T131045
CREATED:20250818T135248Z
LAST-MODIFIED:20250825T184448Z
UID:10024499-1756753200-1756760400@www.kvakare.se
SUMMARY:Temakväll med Kväkarhjälpen (Online)
DESCRIPTION:Misha (Mikheil Elizbarashvili) från Georgien berättar om arbetet med samvetsömma/vapenvägrare och krigsflyktingar från Ukraina och Ryssland. Hur de kan få berätta sina historier\, få stöd och hjälp samt slussas vidare efter behov. \n\n\n\nMaila nedanstående adress för möteslänk och mer information.
URL:https://www.kvakare.se/event/temakvall-med-kvakarhjalpen/
LOCATION:Kväkarhjälpen
ATTACH;FMTTYPE=image/png:https://www.kvakare.se/wp-content/uploads/2018/11/QSS.png
ORGANIZER;CN="Kv%C3%A4karhj%C3%A4lpen":MAILTO:kvakarhjalpen@kvakare.se
END:VEVENT
BEGIN:VEVENT
DTSTART;TZID=Europe/Helsinki:20250901T180000
DTEND;TZID=Europe/Helsinki:20250901T193000
DTSTAMP:20260420T131045
CREATED:20250617T090455Z
LAST-MODIFIED:20250902T042251Z
UID:10024594-1756749600-1756755000@www.kvakare.se
SUMMARY:Språkcafé (Stockholm)
DESCRIPTION:Kom och öva att prata svenska och samtidigt förbättra svenskan. Kerstin Backman leder språkcaféet där vi lyssnar på varandras ”Veckans höjdpunkt” och gör övningar med hjälp av kort. \n\n\n\nVar: Kväkargården\, Kristinehovs malmgård\, Kristinehovsgatan 6. Kommunikationer: buss 66 till Högalidskyrkan\, eller tunnelbana till Hornstull\, uppgång Hornsbruksgatan.
URL:https://www.kvakare.se/event/sprakcafe/2025-09-01/
ATTACH;FMTTYPE=image/jpeg:https://www.kvakare.se/wp-content/uploads/2025/06/20250901_182658.jpg
ORGANIZER;CN="Kv%C3%A4karna i Stockholm":MAILTO:stockholm@kvakare.se
END:VEVENT
BEGIN:VEVENT
DTSTART;TZID=Europe/Helsinki:20250831T110000
DTEND;TZID=Europe/Helsinki:20250831T120000
DTSTAMP:20260420T131045
CREATED:20250829T081940Z
LAST-MODIFIED:20250829T082352Z
UID:10024558-1756638000-1756641600@www.kvakare.se
SUMMARY:Andakt från inspirationshelgen i Rimforsa (Hybrid)
DESCRIPTION:Andakt som avslutning på inspirationshelgen i Rimforsa. Andaktsrummet på plats och online öppnar 30 minuter innan.
URL:https://www.kvakare.se/event/andakt-fran-inspirationshelgen-i-rimforsa-hybrid/
ATTACH;FMTTYPE=image/png:https://www.kvakare.se/wp-content/uploads/2024/02/image.png
END:VEVENT
BEGIN:VEVENT
DTSTART;TZID=Europe/Helsinki:20250831T110000
DTEND;TZID=Europe/Helsinki:20250831T120000
DTSTAMP:20260420T131045
CREATED:20250518T205923Z
LAST-MODIFIED:20250730T132244Z
UID:10022581-1756638000-1756641600@www.kvakare.se
SUMMARY:Andakt (Stockholm)
DESCRIPTION:Alla är välkomna. Du behöver inte anmäla dig. Efter andakten serveras fika till självkostnadspris.
URL:https://www.kvakare.se/event/andakt-i-stockholm/2025-08-31/
ATTACH;FMTTYPE=image/png:https://www.kvakare.se/wp-content/uploads/2024/02/image.png
ORGANIZER;CN="Kv%C3%A4karna i Stockholm":MAILTO:stockholm@kvakare.se
END:VEVENT
BEGIN:VEVENT
DTSTART;TZID=Europe/Helsinki:20250830T160000
DTEND;TZID=Europe/Helsinki:20250830T163000
DTSTAMP:20260420T131045
CREATED:20260110T171052Z
LAST-MODIFIED:20260308T094820Z
UID:10025695-1756569600-1756571400@www.kvakare.se
SUMMARY:Eftermiddagsandakt med George Fox (Online)
DESCRIPTION:Du är välkommen att i stillhet och gemenskap upptäcka mer om kväkarnas andliga arv. Mitt i helgens alla måsten stannar vi upp för att vara med i en halvtimmes andakt som varje lördag inleds med ett nytt citat av George Fox. \n\n\n\nAndakterna börjar klockan 16.00 och slutar klockan 16.30.Kom när du kan! Välkommen! \n\n\n\nFör att få citaten i förväg kontakta: goteborg@kvakare.se.
URL:https://www.kvakare.se/event/eftermiddagsandakt-med-george-fox-online/2025-08-30/
ATTACH;FMTTYPE=image/jpeg:https://www.kvakare.se/wp-content/uploads/2024/01/George-Fox.jpg
ORGANIZER;CN="Kv%C3%A4karna i G%C3%B6teborg":MAILTO:goteborg@kvakare.se
END:VEVENT
BEGIN:VEVENT
DTSTART;TZID=Europe/Helsinki:20250830T160000
DTEND;TZID=Europe/Helsinki:20250830T163000
DTSTAMP:20260420T131045
CREATED:20250815T171016Z
LAST-MODIFIED:20260110T171032Z
UID:10022565-1756569600-1756571400@www.kvakare.se
SUMMARY:Eftermiddagsandakt med George Fox (Online)
DESCRIPTION:Du är välkommen att i stillhet och gemenskap upptäcka mer om kväkarnas andliga arv. Mitt i helgens alla måsten stannar vi upp för att vara med i en halvtimmes andakt som varje lördag inleds med ett nytt citat av George Fox. \n\n\n\nAndakterna börjar klockan 16.00 och slutar klockan 16.30.Kom när du kan! Välkommen! \n\n\n\nFör att få citaten i förväg kontakta: goteborg@kvakare.se.
URL:https://www.kvakare.se/event/eftermiddagsandakt-med-george-fox/2025-08-30/
ATTACH;FMTTYPE=image/jpeg:https://www.kvakare.se/wp-content/uploads/2024/01/George-Fox.jpg
ORGANIZER;CN="Kv%C3%A4karna i G%C3%B6teborg":MAILTO:goteborg@kvakare.se
END:VEVENT
BEGIN:VEVENT
DTSTART;TZID=Europe/Helsinki:20250828T190000
DTEND;TZID=Europe/Helsinki:20250828T193000
DTSTAMP:20260420T131045
CREATED:20250518T210348Z
LAST-MODIFIED:20250730T132318Z
UID:10022841-1756407600-1756409400@www.kvakare.se
SUMMARY:Andakt (Stockholm)
DESCRIPTION:Alla är välkomna. Du behöver inte anmäla dig.
URL:https://www.kvakare.se/event/andakt-i-stockholm-3/2025-08-28/
ATTACH;FMTTYPE=image/png:https://www.kvakare.se/wp-content/uploads/2024/02/image.png
ORGANIZER;CN="Kv%C3%A4karna i Stockholm":MAILTO:stockholm@kvakare.se
END:VEVENT
BEGIN:VEVENT
DTSTART;TZID=Europe/Helsinki:20250825T180000
DTEND;TZID=Europe/Helsinki:20250825T193000
DTSTAMP:20260420T131045
CREATED:20250617T090455Z
LAST-MODIFIED:20250902T042251Z
UID:10023356-1756144800-1756150200@www.kvakare.se
SUMMARY:Språkcafé (Stockholm)
DESCRIPTION:Kom och öva att prata svenska och samtidigt förbättra svenskan. Kerstin Backman leder språkcaféet där vi lyssnar på varandras ”Veckans höjdpunkt” och gör övningar med hjälp av kort. \n\n\n\nVar: Kväkargården\, Kristinehovs malmgård\, Kristinehovsgatan 6. Kommunikationer: buss 66 till Högalidskyrkan\, eller tunnelbana till Hornstull\, uppgång Hornsbruksgatan.
URL:https://www.kvakare.se/event/sprakcafe/2025-08-25/
ATTACH;FMTTYPE=image/jpeg:https://www.kvakare.se/wp-content/uploads/2025/06/20250901_182658.jpg
ORGANIZER;CN="Kv%C3%A4karna i Stockholm":MAILTO:stockholm@kvakare.se
END:VEVENT
BEGIN:VEVENT
DTSTART;TZID=Europe/Helsinki:20250825T180000
DTEND;TZID=Europe/Helsinki:20250825T190000
DTSTAMP:20260420T131045
CREATED:20250610T090328Z
LAST-MODIFIED:20250610T090329Z
UID:10023304-1756144800-1756148400@www.kvakare.se
SUMMARY:Möte i Nomineringskommittén
DESCRIPTION:Nomineringskommittén har möte. Medlemmar är välkommen med föranmälda frågor rörande intresse för roller\, förslag på Vänner till uppdrag och behov eller förslag till förändringar.
URL:https://www.kvakare.se/event/mote-i-nomineringskommitten/
ORGANIZER;CN="Nomineringskommitt%C3%A9n":MAILTO:nomineringskommitten@kvakare.se
END:VEVENT
BEGIN:VEVENT
DTSTART;TZID=Europe/Helsinki:20250824T180000
DTEND;TZID=Europe/Helsinki:20250824T190000
DTSTAMP:20260420T131045
CREATED:20250727T153856Z
LAST-MODIFIED:20250730T132703Z
UID:10024292-1756058400-1756062000@www.kvakare.se
SUMMARY:Andakt (Svenstavik)
DESCRIPTION:Andaktsrummet i bagarstugan\, Kvissle 216. \n\n\n\n\n\n\n\n \n\n\n\njamtland@kvakare.se
URL:https://www.kvakare.se/event/andakt-i-svenstavik-9/
ATTACH;FMTTYPE=image/jpeg:https://www.kvakare.se/wp-content/uploads/2025/05/IMG_20250504_222453-scaled.jpg
END:VEVENT
BEGIN:VEVENT
DTSTART;TZID=Europe/Helsinki:20250824T180000
DTEND;TZID=Europe/Helsinki:20250824T190000
DTSTAMP:20260420T131045
CREATED:20250601T191718Z
LAST-MODIFIED:20250730T132629Z
UID:10023251-1756058400-1756062000@www.kvakare.se
SUMMARY:Andakt (Stigtomta)
DESCRIPTION:Mälardalens andaktsgrupp i samarbete med Svenska kyrkan Stigtomta-Vrena församling. \n\n\n\n\n\n\n\n \n\n\n\nEfteråt samtal med medtaget fika.
URL:https://www.kvakare.se/event/andakt-i-stigtomta-2/
ATTACH;FMTTYPE=image/png:https://www.kvakare.se/wp-content/uploads/2024/02/image.png
ORGANIZER;CN="Kv%C3%A4karna i M%C3%A4lardalen":MAILTO:malardalen@kvakare.se
END:VEVENT
BEGIN:VEVENT
DTSTART;TZID=Europe/Helsinki:20250824T130000
DTEND;TZID=Europe/Helsinki:20250824T130000
DTSTAMP:20260420T131045
CREATED:20250410T112220Z
LAST-MODIFIED:20250730T155453Z
UID:10003418-1756040400-1756040400@www.kvakare.se
SUMMARY:Växtgrupp (Stockholm)
DESCRIPTION:Vi lär känna växter genom en fenomenologisk metod. Vid varje tillfälle utgår vi från en växt från trädgården. Därefter karaktäriserar vi den tillsammans\, för att sedan teckna och måla av den. Botaniska\, historiska\, medicinska\, mytologiska och andliga perspektiv på växten välkomnas. Ta med eget konstnärsmaterial. \n\n\n\nVar: Kväkargården\, Kristinehovs malmgård.Ansvarig: Anna Sandwall\, 0722239052.
URL:https://www.kvakare.se/event/vaxtgrupp-5/
ATTACH;FMTTYPE=image/jpeg:https://www.kvakare.se/wp-content/uploads/2016/12/Bild-859.jpg
END:VEVENT
BEGIN:VEVENT
DTSTART;TZID=Europe/Helsinki:20250824T110000
DTEND;TZID=Europe/Helsinki:20250824T120000
DTSTAMP:20260420T131045
CREATED:20250707T144728Z
LAST-MODIFIED:20250730T155415Z
UID:10023594-1756033200-1756036800@www.kvakare.se
SUMMARY:Andakt (Online)
DESCRIPTION:Vi sitter tillsammans i tystnad och stillhet under cirka en timme för att rikta vår uppmärksamhet inåt. Den som känner sig manad från sitt inre att kort dela något under stillheten får gärna göra det. De som vill stannar kvar en liten stund efteråt för samtal och reflektioner kring tankar som kommit upp under andakten\, eller kring något ämne som någon känner är angeläget.
URL:https://www.kvakare.se/event/digital-andakt-15/2025-08-24/
ATTACH;FMTTYPE=image/png:https://www.kvakare.se/wp-content/uploads/2024/02/image.png
END:VEVENT
BEGIN:VEVENT
DTSTART;TZID=Europe/Helsinki:20250824T110000
DTEND;TZID=Europe/Helsinki:20250824T120000
DTSTAMP:20260420T131045
CREATED:20250518T205923Z
LAST-MODIFIED:20250730T132244Z
UID:10022580-1756033200-1756036800@www.kvakare.se
SUMMARY:Andakt (Stockholm)
DESCRIPTION:Alla är välkomna. Du behöver inte anmäla dig. Efter andakten serveras fika till självkostnadspris.
URL:https://www.kvakare.se/event/andakt-i-stockholm/2025-08-24/
ATTACH;FMTTYPE=image/png:https://www.kvakare.se/wp-content/uploads/2024/02/image.png
ORGANIZER;CN="Kv%C3%A4karna i Stockholm":MAILTO:stockholm@kvakare.se
END:VEVENT
BEGIN:VEVENT
DTSTART;TZID=Europe/Helsinki:20250823T160000
DTEND;TZID=Europe/Helsinki:20250823T163000
DTSTAMP:20260420T131045
CREATED:20260110T171052Z
LAST-MODIFIED:20260308T094820Z
UID:10025694-1755964800-1755966600@www.kvakare.se
SUMMARY:Eftermiddagsandakt med George Fox (Online)
DESCRIPTION:Du är välkommen att i stillhet och gemenskap upptäcka mer om kväkarnas andliga arv. Mitt i helgens alla måsten stannar vi upp för att vara med i en halvtimmes andakt som varje lördag inleds med ett nytt citat av George Fox. \n\n\n\nAndakterna börjar klockan 16.00 och slutar klockan 16.30.Kom när du kan! Välkommen! \n\n\n\nFör att få citaten i förväg kontakta: goteborg@kvakare.se.
URL:https://www.kvakare.se/event/eftermiddagsandakt-med-george-fox-online/2025-08-23/
ATTACH;FMTTYPE=image/jpeg:https://www.kvakare.se/wp-content/uploads/2024/01/George-Fox.jpg
ORGANIZER;CN="Kv%C3%A4karna i G%C3%B6teborg":MAILTO:goteborg@kvakare.se
END:VEVENT
BEGIN:VEVENT
DTSTART;TZID=Europe/Helsinki:20250823T160000
DTEND;TZID=Europe/Helsinki:20250823T163000
DTSTAMP:20260420T131045
CREATED:20250815T171016Z
LAST-MODIFIED:20260110T171032Z
UID:10022564-1755964800-1755966600@www.kvakare.se
SUMMARY:Eftermiddagsandakt med George Fox (Online)
DESCRIPTION:Du är välkommen att i stillhet och gemenskap upptäcka mer om kväkarnas andliga arv. Mitt i helgens alla måsten stannar vi upp för att vara med i en halvtimmes andakt som varje lördag inleds med ett nytt citat av George Fox. \n\n\n\nAndakterna börjar klockan 16.00 och slutar klockan 16.30.Kom när du kan! Välkommen! \n\n\n\nFör att få citaten i förväg kontakta: goteborg@kvakare.se.
URL:https://www.kvakare.se/event/eftermiddagsandakt-med-george-fox/2025-08-23/
ATTACH;FMTTYPE=image/jpeg:https://www.kvakare.se/wp-content/uploads/2024/01/George-Fox.jpg
ORGANIZER;CN="Kv%C3%A4karna i G%C3%B6teborg":MAILTO:goteborg@kvakare.se
END:VEVENT
BEGIN:VEVENT
DTSTART;TZID=Europe/Helsinki:20250821T190000
DTEND;TZID=Europe/Helsinki:20250821T193000
DTSTAMP:20260420T131045
CREATED:20250518T210348Z
LAST-MODIFIED:20250730T132318Z
UID:10022840-1755802800-1755804600@www.kvakare.se
SUMMARY:Andakt (Stockholm)
DESCRIPTION:Alla är välkomna. Du behöver inte anmäla dig.
URL:https://www.kvakare.se/event/andakt-i-stockholm-3/2025-08-21/
ATTACH;FMTTYPE=image/png:https://www.kvakare.se/wp-content/uploads/2024/02/image.png
ORGANIZER;CN="Kv%C3%A4karna i Stockholm":MAILTO:stockholm@kvakare.se
END:VEVENT
BEGIN:VEVENT
DTSTART;TZID=Europe/Helsinki:20250820T190000
DTEND;TZID=Europe/Helsinki:20250820T193000
DTSTAMP:20260420T131045
CREATED:20250707T161801Z
LAST-MODIFIED:20250730T155335Z
UID:10023841-1755716400-1755718200@www.kvakare.se
SUMMARY:Andakt (Online)
DESCRIPTION:Vi sitter tillsammans i tystnad och stillhet under cirka en halvtimme för att rikta vår uppmärksamhet inåt. Den som känner sig manad från sitt inre att kort dela något under stillheten får gärna göra det. De som vill stannar kvar en liten stund efteråt för samtal och reflektioner kring tankar som kommit upp under andakten\, eller kring något ämne som någon känner är angeläget.
URL:https://www.kvakare.se/event/digital-andakt-20/2025-08-20/
ATTACH;FMTTYPE=image/png:https://www.kvakare.se/wp-content/uploads/2024/02/image.png
END:VEVENT
BEGIN:VEVENT
DTSTART;TZID=Europe/Helsinki:20250818T180000
DTEND;TZID=Europe/Helsinki:20250818T193000
DTSTAMP:20260420T131045
CREATED:20250617T090455Z
LAST-MODIFIED:20250902T042251Z
UID:10023355-1755540000-1755545400@www.kvakare.se
SUMMARY:Språkcafé (Stockholm)
DESCRIPTION:Kom och öva att prata svenska och samtidigt förbättra svenskan. Kerstin Backman leder språkcaféet där vi lyssnar på varandras ”Veckans höjdpunkt” och gör övningar med hjälp av kort. \n\n\n\nVar: Kväkargården\, Kristinehovs malmgård\, Kristinehovsgatan 6. Kommunikationer: buss 66 till Högalidskyrkan\, eller tunnelbana till Hornstull\, uppgång Hornsbruksgatan.
URL:https://www.kvakare.se/event/sprakcafe/2025-08-18/
ATTACH;FMTTYPE=image/jpeg:https://www.kvakare.se/wp-content/uploads/2025/06/20250901_182658.jpg
ORGANIZER;CN="Kv%C3%A4karna i Stockholm":MAILTO:stockholm@kvakare.se
END:VEVENT
BEGIN:VEVENT
DTSTART;TZID=Europe/Helsinki:20250817T143000
DTEND;TZID=Europe/Helsinki:20250817T143000
DTSTAMP:20260420T131045
CREATED:20250624T064209Z
LAST-MODIFIED:20250730T132556Z
UID:10023414-1755441000-1755441000@www.kvakare.se
SUMMARY:Andakt (Värnamo)
DESCRIPTION:Maila nedan vid frågor\, info om adresser och annat.
URL:https://www.kvakare.se/event/andakt-i-varnamo-2/
ATTACH;FMTTYPE=image/png:https://www.kvakare.se/wp-content/uploads/2024/02/image.png
ORGANIZER;CN="Kv%C3%A4karna i Sm%C3%A5land":MAILTO:smaland@kvakare.se
END:VEVENT
BEGIN:VEVENT
DTSTART;TZID=Europe/Helsinki:20250817T110000
DTEND;TZID=Europe/Helsinki:20250817T120000
DTSTAMP:20260420T131045
CREATED:20250518T205923Z
LAST-MODIFIED:20250730T132244Z
UID:10022579-1755428400-1755432000@www.kvakare.se
SUMMARY:Andakt (Stockholm)
DESCRIPTION:Alla är välkomna. Du behöver inte anmäla dig. Efter andakten serveras fika till självkostnadspris.
URL:https://www.kvakare.se/event/andakt-i-stockholm/2025-08-17/
ATTACH;FMTTYPE=image/png:https://www.kvakare.se/wp-content/uploads/2024/02/image.png
ORGANIZER;CN="Kv%C3%A4karna i Stockholm":MAILTO:stockholm@kvakare.se
END:VEVENT
BEGIN:VEVENT
DTSTART;TZID=Europe/Helsinki:20250817T110000
DTEND;TZID=Europe/Helsinki:20250817T120000
DTSTAMP:20260420T131045
CREATED:20250410T193007Z
LAST-MODIFIED:20260305T111741Z
UID:10023534-1755428400-1755432000@www.kvakare.se
SUMMARY:Andakt (Online)
DESCRIPTION:Göteborgs Andaktsmöte inbjuder till en timmes andakt via Zoom. \n\n\n\nVi inleder andakten med ett kort citat. Vi sitter sedan tillsammans i tystnad och stillhet för att rikta vår uppmärksamhet inåt. Den som känner sig manad från sitt inre att kort dela något under stillheten får gärna göra det. De som vill stannar kvar en liten stund efteråt för samtal och reflektioner kring tankar som kommit upp under andakten\, eller kring något ämne som någon känner är angeläget. \n\n\n\nOm det är första gången du deltar kan du gärna förbereda dig genom att läsa foldern Ditt första andaktsmöte i Göteborg eller annan information här på hemsidan.
URL:https://www.kvakare.se/event/19421/2025-08-17/
ATTACH;FMTTYPE=image/png:https://www.kvakare.se/wp-content/uploads/2024/02/image.png
ORGANIZER;CN="Kv%C3%A4karna i G%C3%B6teborg":MAILTO:goteborg@kvakare.se
END:VEVENT
BEGIN:VEVENT
DTSTART;TZID=Europe/Helsinki:20250817T100000
DTEND;TZID=Europe/Helsinki:20250817T110000
DTSTAMP:20260420T131045
CREATED:20250727T153423Z
LAST-MODIFIED:20250730T132519Z
UID:10024291-1755424800-1755428400@www.kvakare.se
SUMMARY:Andakt (Svenstavik)
DESCRIPTION:Gamla skolan\, Kvissle 410. \n\n\n\n\n\n\n\n \n\n\n\njamtland@kvakare.se
URL:https://www.kvakare.se/event/andakt-i-svenstavik-8/
ATTACH;FMTTYPE=image/jpeg:https://www.kvakare.se/wp-content/uploads/2025/05/IMG_20250504_222453-scaled.jpg
END:VEVENT
BEGIN:VEVENT
DTSTART;TZID=Europe/Helsinki:20250816T160000
DTEND;TZID=Europe/Helsinki:20250816T163000
DTSTAMP:20260420T131045
CREATED:20260110T171052Z
LAST-MODIFIED:20260308T094820Z
UID:10025693-1755360000-1755361800@www.kvakare.se
SUMMARY:Eftermiddagsandakt med George Fox (Online)
DESCRIPTION:Du är välkommen att i stillhet och gemenskap upptäcka mer om kväkarnas andliga arv. Mitt i helgens alla måsten stannar vi upp för att vara med i en halvtimmes andakt som varje lördag inleds med ett nytt citat av George Fox. \n\n\n\nAndakterna börjar klockan 16.00 och slutar klockan 16.30.Kom när du kan! Välkommen! \n\n\n\nFör att få citaten i förväg kontakta: goteborg@kvakare.se.
URL:https://www.kvakare.se/event/eftermiddagsandakt-med-george-fox-online/2025-08-16/
ATTACH;FMTTYPE=image/jpeg:https://www.kvakare.se/wp-content/uploads/2024/01/George-Fox.jpg
ORGANIZER;CN="Kv%C3%A4karna i G%C3%B6teborg":MAILTO:goteborg@kvakare.se
END:VEVENT
BEGIN:VEVENT
DTSTART;TZID=Europe/Helsinki:20250816T160000
DTEND;TZID=Europe/Helsinki:20250816T163000
DTSTAMP:20260420T131045
CREATED:20250815T171016Z
LAST-MODIFIED:20260110T171032Z
UID:10024469-1755360000-1755361800@www.kvakare.se
SUMMARY:Eftermiddagsandakt med George Fox (Online)
DESCRIPTION:Du är välkommen att i stillhet och gemenskap upptäcka mer om kväkarnas andliga arv. Mitt i helgens alla måsten stannar vi upp för att vara med i en halvtimmes andakt som varje lördag inleds med ett nytt citat av George Fox. \n\n\n\nAndakterna börjar klockan 16.00 och slutar klockan 16.30.Kom när du kan! Välkommen! \n\n\n\nFör att få citaten i förväg kontakta: goteborg@kvakare.se.
URL:https://www.kvakare.se/event/eftermiddagsandakt-med-george-fox/2025-08-16/
ATTACH;FMTTYPE=image/jpeg:https://www.kvakare.se/wp-content/uploads/2024/01/George-Fox.jpg
ORGANIZER;CN="Kv%C3%A4karna i G%C3%B6teborg":MAILTO:goteborg@kvakare.se
END:VEVENT
BEGIN:VEVENT
DTSTART;TZID=Europe/Helsinki:20250814T190000
DTEND;TZID=Europe/Helsinki:20250814T193000
DTSTAMP:20260420T131045
CREATED:20250518T210348Z
LAST-MODIFIED:20250730T132318Z
UID:10022839-1755198000-1755199800@www.kvakare.se
SUMMARY:Andakt (Stockholm)
DESCRIPTION:Alla är välkomna. Du behöver inte anmäla dig.
URL:https://www.kvakare.se/event/andakt-i-stockholm-3/2025-08-14/
ATTACH;FMTTYPE=image/png:https://www.kvakare.se/wp-content/uploads/2024/02/image.png
ORGANIZER;CN="Kv%C3%A4karna i Stockholm":MAILTO:stockholm@kvakare.se
END:VEVENT
BEGIN:VEVENT
DTSTART;TZID=Europe/Helsinki:20250812T190000
DTEND;TZID=Europe/Helsinki:20250812T200000
DTSTAMP:20260420T131045
CREATED:20250707T145323Z
LAST-MODIFIED:20250730T155219Z
UID:10023653-1755025200-1755028800@www.kvakare.se
SUMMARY:Andakt (Online)
DESCRIPTION:Vi sitter tillsammans i tystnad och stillhet under cirka en timme för att rikta vår uppmärksamhet inåt. Den som känner sig manad från sitt inre att kort dela något under stillheten får gärna göra det. De som vill stannar kvar en liten stund efteråt för samtal och reflektioner kring tankar som kommit upp under andakten\, eller kring något ämne som någon känner är angeläget.
URL:https://www.kvakare.se/event/digital-andakt-16/2025-08-12/
ATTACH;FMTTYPE=image/png:https://www.kvakare.se/wp-content/uploads/2024/02/image.png
END:VEVENT
BEGIN:VEVENT
DTSTART;TZID=Europe/Helsinki:20250811T180000
DTEND;TZID=Europe/Helsinki:20250811T193000
DTSTAMP:20260420T131045
CREATED:20250617T090455Z
LAST-MODIFIED:20250902T042251Z
UID:10023354-1754935200-1754940600@www.kvakare.se
SUMMARY:Språkcafé (Stockholm)
DESCRIPTION:Kom och öva att prata svenska och samtidigt förbättra svenskan. Kerstin Backman leder språkcaféet där vi lyssnar på varandras ”Veckans höjdpunkt” och gör övningar med hjälp av kort. \n\n\n\nVar: Kväkargården\, Kristinehovs malmgård\, Kristinehovsgatan 6. Kommunikationer: buss 66 till Högalidskyrkan\, eller tunnelbana till Hornstull\, uppgång Hornsbruksgatan.
URL:https://www.kvakare.se/event/sprakcafe/2025-08-11/
ATTACH;FMTTYPE=image/jpeg:https://www.kvakare.se/wp-content/uploads/2025/06/20250901_182658.jpg
ORGANIZER;CN="Kv%C3%A4karna i Stockholm":MAILTO:stockholm@kvakare.se
END:VEVENT
BEGIN:VEVENT
DTSTART;TZID=Europe/Helsinki:20250810T180000
DTEND;TZID=Europe/Helsinki:20250810T190000
DTSTAMP:20260420T131045
CREATED:20250727T153128Z
LAST-MODIFIED:20250730T132447Z
UID:10024290-1754848800-1754852400@www.kvakare.se
SUMMARY:Andakt (Svenstavik)
DESCRIPTION:Andaktsrummet i bagarstugan\, Kvissle 216. \n\n\n\n\n\n\n\n \n\n\n\njamtland@kvakare.se
URL:https://www.kvakare.se/event/andakt-i-svenstavik-7/
ATTACH;FMTTYPE=image/jpeg:https://www.kvakare.se/wp-content/uploads/2025/05/IMG_20250504_222453-scaled.jpg
END:VEVENT
END:VCALENDAR