BEGIN:VCALENDAR
VERSION:2.0
PRODID:-//Vännernas samfund (kväkarna) - ECPv6.15.20//NONSGML v1.0//EN
CALSCALE:GREGORIAN
METHOD:PUBLISH
X-ORIGINAL-URL:https://www.kvakare.se
X-WR-CALDESC:Händelser för Vännernas samfund (kväkarna)
REFRESH-INTERVAL;VALUE=DURATION:PT1H
X-Robots-Tag:noindex
X-PUBLISHED-TTL:PT1H
BEGIN:VTIMEZONE
TZID:Europe/Helsinki
BEGIN:DAYLIGHT
TZOFFSETFROM:+0200
TZOFFSETTO:+0300
TZNAME:EEST
DTSTART:20240331T010000
END:DAYLIGHT
BEGIN:STANDARD
TZOFFSETFROM:+0300
TZOFFSETTO:+0200
TZNAME:EET
DTSTART:20241027T010000
END:STANDARD
BEGIN:DAYLIGHT
TZOFFSETFROM:+0200
TZOFFSETTO:+0300
TZNAME:EEST
DTSTART:20250330T010000
END:DAYLIGHT
BEGIN:STANDARD
TZOFFSETFROM:+0300
TZOFFSETTO:+0200
TZNAME:EET
DTSTART:20251026T010000
END:STANDARD
BEGIN:DAYLIGHT
TZOFFSETFROM:+0200
TZOFFSETTO:+0300
TZNAME:EEST
DTSTART:20260329T010000
END:DAYLIGHT
BEGIN:STANDARD
TZOFFSETFROM:+0300
TZOFFSETTO:+0200
TZNAME:EET
DTSTART:20261025T010000
END:STANDARD
END:VTIMEZONE
BEGIN:VEVENT
DTSTART;TZID=Europe/Helsinki:20250810T140000
DTEND;TZID=Europe/Helsinki:20250810T150000
DTSTAMP:20260420T172310
CREATED:20250422T060445Z
LAST-MODIFIED:20250730T132409Z
UID:10003545-1754834400-1754838000@www.kvakare.se
SUMMARY:Andakt (Östergötland)
DESCRIPTION:Östergötlands andaktsgrupp bjuder in till en timmes stilla andakt i Linköping. \n\n\n\nKontakta oss för mer information om detta tillfälle eller andra frågor.
URL:https://www.kvakare.se/event/andakt-i-ostergotland-7/
ATTACH;FMTTYPE=image/png:https://www.kvakare.se/wp-content/uploads/2024/02/image.png
END:VEVENT
BEGIN:VEVENT
DTSTART;TZID=Europe/Helsinki:20250810T110000
DTEND;TZID=Europe/Helsinki:20250810T120000
DTSTAMP:20260420T172310
CREATED:20250707T141322Z
LAST-MODIFIED:20250730T155144Z
UID:10023515-1754823600-1754827200@www.kvakare.se
SUMMARY:Andakt (Online)
DESCRIPTION:Vi sitter tillsammans i tystnad och stillhet under cirka en timme för att rikta vår uppmärksamhet inåt. Den som känner sig manad från sitt inre att kort dela något under stillheten får gärna göra det. De som vill stannar kvar en liten stund efteråt för samtal och reflektioner kring tankar som kommit upp under andakten\, eller kring något ämne som någon känner är angeläget.
URL:https://www.kvakare.se/event/digital-andakt-12/
ATTACH;FMTTYPE=image/png:https://www.kvakare.se/wp-content/uploads/2024/02/image.png
END:VEVENT
BEGIN:VEVENT
DTSTART;TZID=Europe/Helsinki:20250810T110000
DTEND;TZID=Europe/Helsinki:20250810T120000
DTSTAMP:20260420T172310
CREATED:20250518T205923Z
LAST-MODIFIED:20250730T132244Z
UID:10022578-1754823600-1754827200@www.kvakare.se
SUMMARY:Andakt (Stockholm)
DESCRIPTION:Alla är välkomna. Du behöver inte anmäla dig. Efter andakten serveras fika till självkostnadspris.
URL:https://www.kvakare.se/event/andakt-i-stockholm/2025-08-10/
ATTACH;FMTTYPE=image/png:https://www.kvakare.se/wp-content/uploads/2024/02/image.png
ORGANIZER;CN="Kv%C3%A4karna i Stockholm":MAILTO:stockholm@kvakare.se
END:VEVENT
BEGIN:VEVENT
DTSTART;TZID=Europe/Helsinki:20250809T160000
DTEND;TZID=Europe/Helsinki:20250809T163000
DTSTAMP:20260420T172310
CREATED:20260110T171052Z
LAST-MODIFIED:20260308T094820Z
UID:10025692-1754755200-1754757000@www.kvakare.se
SUMMARY:Eftermiddagsandakt med George Fox (Online)
DESCRIPTION:Du är välkommen att i stillhet och gemenskap upptäcka mer om kväkarnas andliga arv. Mitt i helgens alla måsten stannar vi upp för att vara med i en halvtimmes andakt som varje lördag inleds med ett nytt citat av George Fox. \n\n\n\nAndakterna börjar klockan 16.00 och slutar klockan 16.30.Kom när du kan! Välkommen! \n\n\n\nFör att få citaten i förväg kontakta: goteborg@kvakare.se.
URL:https://www.kvakare.se/event/eftermiddagsandakt-med-george-fox-online/2025-08-09/
ATTACH;FMTTYPE=image/jpeg:https://www.kvakare.se/wp-content/uploads/2024/01/George-Fox.jpg
ORGANIZER;CN="Kv%C3%A4karna i G%C3%B6teborg":MAILTO:goteborg@kvakare.se
END:VEVENT
BEGIN:VEVENT
DTSTART;TZID=Europe/Helsinki:20250809T160000
DTEND;TZID=Europe/Helsinki:20250809T163000
DTSTAMP:20260420T172310
CREATED:20250815T171016Z
LAST-MODIFIED:20260110T171032Z
UID:10024468-1754755200-1754757000@www.kvakare.se
SUMMARY:Eftermiddagsandakt med George Fox (Online)
DESCRIPTION:Du är välkommen att i stillhet och gemenskap upptäcka mer om kväkarnas andliga arv. Mitt i helgens alla måsten stannar vi upp för att vara med i en halvtimmes andakt som varje lördag inleds med ett nytt citat av George Fox. \n\n\n\nAndakterna börjar klockan 16.00 och slutar klockan 16.30.Kom när du kan! Välkommen! \n\n\n\nFör att få citaten i förväg kontakta: goteborg@kvakare.se.
URL:https://www.kvakare.se/event/eftermiddagsandakt-med-george-fox/2025-08-09/
ATTACH;FMTTYPE=image/jpeg:https://www.kvakare.se/wp-content/uploads/2024/01/George-Fox.jpg
ORGANIZER;CN="Kv%C3%A4karna i G%C3%B6teborg":MAILTO:goteborg@kvakare.se
END:VEVENT
BEGIN:VEVENT
DTSTART;TZID=Europe/Helsinki:20250809T160000
DTEND;TZID=Europe/Helsinki:20250809T163000
DTSTAMP:20260420T172310
CREATED:20250527T104338Z
LAST-MODIFIED:20250815T170924Z
UID:10022562-1754755200-1754757000@www.kvakare.se
SUMMARY:Eftermiddagsandakt med George Fox
DESCRIPTION:Du är välkommen att i stillhet och gemenskap upptäcka mer om kväkarnas andliga arv. Mitt i helgens alla måsten stannar vi upp för att vara med i en halvtimmes andakt som varje lördag inleds med ett nytt citat av George Fox. \n\n\n\nAndakterna börjar klockan 16.00 och slutar klockan 16.30\, från och med den 1 februari. Kom när du kan! Välkommen! \n\n\n\nFör att få citaten i förväg kontakta: goteborg@kvakare.se
URL:https://www.kvakare.se/event/eftermiddagsstund-med-george-fox-2/2025-08-09/
ATTACH;FMTTYPE=image/jpeg:https://www.kvakare.se/wp-content/uploads/2024/01/George-Fox.jpg
ORGANIZER;CN="Kv%C3%A4karna i G%C3%B6teborg":MAILTO:goteborg@kvakare.se
END:VEVENT
BEGIN:VEVENT
DTSTART;TZID=Europe/Helsinki:20250807T190000
DTEND;TZID=Europe/Helsinki:20250807T193000
DTSTAMP:20260420T172310
CREATED:20250518T210348Z
LAST-MODIFIED:20250730T132318Z
UID:10022838-1754593200-1754595000@www.kvakare.se
SUMMARY:Andakt (Stockholm)
DESCRIPTION:Alla är välkomna. Du behöver inte anmäla dig.
URL:https://www.kvakare.se/event/andakt-i-stockholm-3/2025-08-07/
ATTACH;FMTTYPE=image/png:https://www.kvakare.se/wp-content/uploads/2024/02/image.png
ORGANIZER;CN="Kv%C3%A4karna i Stockholm":MAILTO:stockholm@kvakare.se
END:VEVENT
BEGIN:VEVENT
DTSTART;TZID=Europe/Helsinki:20250804T180000
DTEND;TZID=Europe/Helsinki:20250804T193000
DTSTAMP:20260420T172310
CREATED:20250617T090455Z
LAST-MODIFIED:20250902T042251Z
UID:10023353-1754330400-1754335800@www.kvakare.se
SUMMARY:Språkcafé (Stockholm)
DESCRIPTION:Kom och öva att prata svenska och samtidigt förbättra svenskan. Kerstin Backman leder språkcaféet där vi lyssnar på varandras ”Veckans höjdpunkt” och gör övningar med hjälp av kort. \n\n\n\nVar: Kväkargården\, Kristinehovs malmgård\, Kristinehovsgatan 6. Kommunikationer: buss 66 till Högalidskyrkan\, eller tunnelbana till Hornstull\, uppgång Hornsbruksgatan.
URL:https://www.kvakare.se/event/sprakcafe/2025-08-04/
ATTACH;FMTTYPE=image/jpeg:https://www.kvakare.se/wp-content/uploads/2025/06/20250901_182658.jpg
ORGANIZER;CN="Kv%C3%A4karna i Stockholm":MAILTO:stockholm@kvakare.se
END:VEVENT
BEGIN:VEVENT
DTSTART;TZID=Europe/Helsinki:20250803T110000
DTEND;TZID=Europe/Helsinki:20250803T120000
DTSTAMP:20260420T172310
CREATED:20250707T141723Z
LAST-MODIFIED:20250730T155015Z
UID:10023521-1754218800-1754222400@www.kvakare.se
SUMMARY:Andakt (Online)
DESCRIPTION:Vi sitter tillsammans i tystnad och stillhet under cirka en timme för att rikta vår uppmärksamhet inåt. Den som känner sig manad från sitt inre att kort dela något under stillheten får gärna göra det. De som vill stannar kvar en liten stund efteråt för samtal och reflektioner kring tankar som kommit upp under andakten\, eller kring något ämne som någon känner är angeläget.
URL:https://www.kvakare.se/event/digital-andakt-13/2025-08-03/
ATTACH;FMTTYPE=image/png:https://www.kvakare.se/wp-content/uploads/2024/02/image.png
END:VEVENT
BEGIN:VEVENT
DTSTART;TZID=Europe/Helsinki:20250803T110000
DTEND;TZID=Europe/Helsinki:20250803T120000
DTSTAMP:20260420T172310
CREATED:20250518T205923Z
LAST-MODIFIED:20250730T132244Z
UID:10022577-1754218800-1754222400@www.kvakare.se
SUMMARY:Andakt (Stockholm)
DESCRIPTION:Alla är välkomna. Du behöver inte anmäla dig. Efter andakten serveras fika till självkostnadspris.
URL:https://www.kvakare.se/event/andakt-i-stockholm/2025-08-03/
ATTACH;FMTTYPE=image/png:https://www.kvakare.se/wp-content/uploads/2024/02/image.png
ORGANIZER;CN="Kv%C3%A4karna i Stockholm":MAILTO:stockholm@kvakare.se
END:VEVENT
BEGIN:VEVENT
DTSTART;TZID=Europe/Helsinki:20250803T100000
DTEND;TZID=Europe/Helsinki:20250803T110000
DTSTAMP:20260420T172310
CREATED:20250727T152739Z
LAST-MODIFIED:20250730T132213Z
UID:10024289-1754215200-1754218800@www.kvakare.se
SUMMARY:Andakt (Svenstavik)
DESCRIPTION:Gamla skolan\, Kvissle 410. \n\n\n\n\n\n\n\n \n\n\n\njamtland@kvakare.se
URL:https://www.kvakare.se/event/andakt-i-svenstavik-6/
ATTACH;FMTTYPE=image/jpeg:https://www.kvakare.se/wp-content/uploads/2025/05/IMG_20250504_222453-scaled.jpg
END:VEVENT
BEGIN:VEVENT
DTSTART;TZID=Europe/Helsinki:20250802T160000
DTEND;TZID=Europe/Helsinki:20250802T163000
DTSTAMP:20260420T172310
CREATED:20260110T171052Z
LAST-MODIFIED:20260308T094820Z
UID:10025691-1754150400-1754152200@www.kvakare.se
SUMMARY:Eftermiddagsandakt med George Fox (Online)
DESCRIPTION:Du är välkommen att i stillhet och gemenskap upptäcka mer om kväkarnas andliga arv. Mitt i helgens alla måsten stannar vi upp för att vara med i en halvtimmes andakt som varje lördag inleds med ett nytt citat av George Fox. \n\n\n\nAndakterna börjar klockan 16.00 och slutar klockan 16.30.Kom när du kan! Välkommen! \n\n\n\nFör att få citaten i förväg kontakta: goteborg@kvakare.se.
URL:https://www.kvakare.se/event/eftermiddagsandakt-med-george-fox-online/2025-08-02/
ATTACH;FMTTYPE=image/jpeg:https://www.kvakare.se/wp-content/uploads/2024/01/George-Fox.jpg
ORGANIZER;CN="Kv%C3%A4karna i G%C3%B6teborg":MAILTO:goteborg@kvakare.se
END:VEVENT
BEGIN:VEVENT
DTSTART;TZID=Europe/Helsinki:20250802T160000
DTEND;TZID=Europe/Helsinki:20250802T163000
DTSTAMP:20260420T172310
CREATED:20250815T171016Z
LAST-MODIFIED:20260110T171032Z
UID:10024467-1754150400-1754152200@www.kvakare.se
SUMMARY:Eftermiddagsandakt med George Fox (Online)
DESCRIPTION:Du är välkommen att i stillhet och gemenskap upptäcka mer om kväkarnas andliga arv. Mitt i helgens alla måsten stannar vi upp för att vara med i en halvtimmes andakt som varje lördag inleds med ett nytt citat av George Fox. \n\n\n\nAndakterna börjar klockan 16.00 och slutar klockan 16.30.Kom när du kan! Välkommen! \n\n\n\nFör att få citaten i förväg kontakta: goteborg@kvakare.se.
URL:https://www.kvakare.se/event/eftermiddagsandakt-med-george-fox/2025-08-02/
ATTACH;FMTTYPE=image/jpeg:https://www.kvakare.se/wp-content/uploads/2024/01/George-Fox.jpg
ORGANIZER;CN="Kv%C3%A4karna i G%C3%B6teborg":MAILTO:goteborg@kvakare.se
END:VEVENT
BEGIN:VEVENT
DTSTART;TZID=Europe/Helsinki:20250802T160000
DTEND;TZID=Europe/Helsinki:20250802T163000
DTSTAMP:20260420T172310
CREATED:20250527T104338Z
LAST-MODIFIED:20250815T170924Z
UID:10022561-1754150400-1754152200@www.kvakare.se
SUMMARY:Eftermiddagsandakt med George Fox
DESCRIPTION:Du är välkommen att i stillhet och gemenskap upptäcka mer om kväkarnas andliga arv. Mitt i helgens alla måsten stannar vi upp för att vara med i en halvtimmes andakt som varje lördag inleds med ett nytt citat av George Fox. \n\n\n\nAndakterna börjar klockan 16.00 och slutar klockan 16.30\, från och med den 1 februari. Kom när du kan! Välkommen! \n\n\n\nFör att få citaten i förväg kontakta: goteborg@kvakare.se
URL:https://www.kvakare.se/event/eftermiddagsstund-med-george-fox-2/2025-08-02/
ATTACH;FMTTYPE=image/jpeg:https://www.kvakare.se/wp-content/uploads/2024/01/George-Fox.jpg
ORGANIZER;CN="Kv%C3%A4karna i G%C3%B6teborg":MAILTO:goteborg@kvakare.se
END:VEVENT
BEGIN:VEVENT
DTSTART;TZID=Europe/Helsinki:20250731T190000
DTEND;TZID=Europe/Helsinki:20250731T193000
DTSTAMP:20260420T172310
CREATED:20250518T210348Z
LAST-MODIFIED:20250730T132318Z
UID:10023245-1753988400-1753990200@www.kvakare.se
SUMMARY:Andakt (Stockholm)
DESCRIPTION:Alla är välkomna. Du behöver inte anmäla dig.
URL:https://www.kvakare.se/event/andakt-i-stockholm-3/2025-07-31/
ATTACH;FMTTYPE=image/png:https://www.kvakare.se/wp-content/uploads/2024/02/image.png
ORGANIZER;CN="Kv%C3%A4karna i Stockholm":MAILTO:stockholm@kvakare.se
END:VEVENT
BEGIN:VEVENT
DTSTART;TZID=Europe/Helsinki:20250728T180000
DTEND;TZID=Europe/Helsinki:20250728T193000
DTSTAMP:20260420T172310
CREATED:20250617T090455Z
LAST-MODIFIED:20250902T042251Z
UID:10023352-1753725600-1753731000@www.kvakare.se
SUMMARY:Språkcafé (Stockholm)
DESCRIPTION:Kom och öva att prata svenska och samtidigt förbättra svenskan. Kerstin Backman leder språkcaféet där vi lyssnar på varandras ”Veckans höjdpunkt” och gör övningar med hjälp av kort. \n\n\n\nVar: Kväkargården\, Kristinehovs malmgård\, Kristinehovsgatan 6. Kommunikationer: buss 66 till Högalidskyrkan\, eller tunnelbana till Hornstull\, uppgång Hornsbruksgatan.
URL:https://www.kvakare.se/event/sprakcafe/2025-07-28/
ATTACH;FMTTYPE=image/jpeg:https://www.kvakare.se/wp-content/uploads/2025/06/20250901_182658.jpg
ORGANIZER;CN="Kv%C3%A4karna i Stockholm":MAILTO:stockholm@kvakare.se
END:VEVENT
BEGIN:VEVENT
DTSTART;TZID=Europe/Helsinki:20250727T110000
DTEND;TZID=Europe/Helsinki:20250727T120000
DTSTAMP:20260420T172310
CREATED:20250610T085945Z
LAST-MODIFIED:20250707T154706Z
UID:10023303-1753614000-1753617600@www.kvakare.se
SUMMARY:Andakt via Zoom
DESCRIPTION:Stockholms Andaktsmöte inbjuder till en timmes andakt via Zoom. \n\n\n\nVi sitter tillsammans i tystnad under en timme och den som känner sig manad att dela något under stillheten kan göra det.Efter andakten går det bra att stanna kvar en liten stund för samtal och reflektioner kring andakten. \n\n\n\nOm det är första gången du deltar kan gärna förbereda dig genom att läsa Ditt första andaktsmöte.
URL:https://www.kvakare.se/event/andakt-via-zoom-2/2025-07-27/
ATTACH;FMTTYPE=image/png:https://www.kvakare.se/wp-content/uploads/2024/02/image.png
ORGANIZER;CN="Kv%C3%A4karna i Stockholm":MAILTO:stockholm@kvakare.se
END:VEVENT
BEGIN:VEVENT
DTSTART;TZID=Europe/Helsinki:20250727T110000
DTEND;TZID=Europe/Helsinki:20250727T120000
DTSTAMP:20260420T172310
CREATED:20250518T205923Z
LAST-MODIFIED:20250730T132244Z
UID:10023225-1753614000-1753617600@www.kvakare.se
SUMMARY:Andakt (Stockholm)
DESCRIPTION:Alla är välkomna. Du behöver inte anmäla dig. Efter andakten serveras fika till självkostnadspris.
URL:https://www.kvakare.se/event/andakt-i-stockholm/2025-07-27/
ATTACH;FMTTYPE=image/png:https://www.kvakare.se/wp-content/uploads/2024/02/image.png
ORGANIZER;CN="Kv%C3%A4karna i Stockholm":MAILTO:stockholm@kvakare.se
END:VEVENT
BEGIN:VEVENT
DTSTART;TZID=Europe/Helsinki:20250726T160000
DTEND;TZID=Europe/Helsinki:20250726T163000
DTSTAMP:20260420T172311
CREATED:20260110T171052Z
LAST-MODIFIED:20260308T094820Z
UID:10025690-1753545600-1753547400@www.kvakare.se
SUMMARY:Eftermiddagsandakt med George Fox (Online)
DESCRIPTION:Du är välkommen att i stillhet och gemenskap upptäcka mer om kväkarnas andliga arv. Mitt i helgens alla måsten stannar vi upp för att vara med i en halvtimmes andakt som varje lördag inleds med ett nytt citat av George Fox. \n\n\n\nAndakterna börjar klockan 16.00 och slutar klockan 16.30.Kom när du kan! Välkommen! \n\n\n\nFör att få citaten i förväg kontakta: goteborg@kvakare.se.
URL:https://www.kvakare.se/event/eftermiddagsandakt-med-george-fox-online/2025-07-26/
ATTACH;FMTTYPE=image/jpeg:https://www.kvakare.se/wp-content/uploads/2024/01/George-Fox.jpg
ORGANIZER;CN="Kv%C3%A4karna i G%C3%B6teborg":MAILTO:goteborg@kvakare.se
END:VEVENT
BEGIN:VEVENT
DTSTART;TZID=Europe/Helsinki:20250726T160000
DTEND;TZID=Europe/Helsinki:20250726T163000
DTSTAMP:20260420T172311
CREATED:20250815T171016Z
LAST-MODIFIED:20260110T171032Z
UID:10024466-1753545600-1753547400@www.kvakare.se
SUMMARY:Eftermiddagsandakt med George Fox (Online)
DESCRIPTION:Du är välkommen att i stillhet och gemenskap upptäcka mer om kväkarnas andliga arv. Mitt i helgens alla måsten stannar vi upp för att vara med i en halvtimmes andakt som varje lördag inleds med ett nytt citat av George Fox. \n\n\n\nAndakterna börjar klockan 16.00 och slutar klockan 16.30.Kom när du kan! Välkommen! \n\n\n\nFör att få citaten i förväg kontakta: goteborg@kvakare.se.
URL:https://www.kvakare.se/event/eftermiddagsandakt-med-george-fox/2025-07-26/
ATTACH;FMTTYPE=image/jpeg:https://www.kvakare.se/wp-content/uploads/2024/01/George-Fox.jpg
ORGANIZER;CN="Kv%C3%A4karna i G%C3%B6teborg":MAILTO:goteborg@kvakare.se
END:VEVENT
BEGIN:VEVENT
DTSTART;TZID=Europe/Helsinki:20250726T160000
DTEND;TZID=Europe/Helsinki:20250726T163000
DTSTAMP:20260420T172311
CREATED:20250527T104338Z
LAST-MODIFIED:20250815T170924Z
UID:10022560-1753545600-1753547400@www.kvakare.se
SUMMARY:Eftermiddagsandakt med George Fox
DESCRIPTION:Du är välkommen att i stillhet och gemenskap upptäcka mer om kväkarnas andliga arv. Mitt i helgens alla måsten stannar vi upp för att vara med i en halvtimmes andakt som varje lördag inleds med ett nytt citat av George Fox. \n\n\n\nAndakterna börjar klockan 16.00 och slutar klockan 16.30\, från och med den 1 februari. Kom när du kan! Välkommen! \n\n\n\nFör att få citaten i förväg kontakta: goteborg@kvakare.se
URL:https://www.kvakare.se/event/eftermiddagsstund-med-george-fox-2/2025-07-26/
ATTACH;FMTTYPE=image/jpeg:https://www.kvakare.se/wp-content/uploads/2024/01/George-Fox.jpg
ORGANIZER;CN="Kv%C3%A4karna i G%C3%B6teborg":MAILTO:goteborg@kvakare.se
END:VEVENT
BEGIN:VEVENT
DTSTART;TZID=Europe/Helsinki:20250724T190000
DTEND;TZID=Europe/Helsinki:20250724T193000
DTSTAMP:20260420T172311
CREATED:20250518T210348Z
LAST-MODIFIED:20250730T132318Z
UID:10023244-1753383600-1753385400@www.kvakare.se
SUMMARY:Andakt (Stockholm)
DESCRIPTION:Alla är välkomna. Du behöver inte anmäla dig.
URL:https://www.kvakare.se/event/andakt-i-stockholm-3/2025-07-24/
ATTACH;FMTTYPE=image/png:https://www.kvakare.se/wp-content/uploads/2024/02/image.png
ORGANIZER;CN="Kv%C3%A4karna i Stockholm":MAILTO:stockholm@kvakare.se
END:VEVENT
BEGIN:VEVENT
DTSTART;TZID=Europe/Helsinki:20250721T180000
DTEND;TZID=Europe/Helsinki:20250721T193000
DTSTAMP:20260420T172311
CREATED:20250617T090455Z
LAST-MODIFIED:20250902T042251Z
UID:10023351-1753120800-1753126200@www.kvakare.se
SUMMARY:Språkcafé (Stockholm)
DESCRIPTION:Kom och öva att prata svenska och samtidigt förbättra svenskan. Kerstin Backman leder språkcaféet där vi lyssnar på varandras ”Veckans höjdpunkt” och gör övningar med hjälp av kort. \n\n\n\nVar: Kväkargården\, Kristinehovs malmgård\, Kristinehovsgatan 6. Kommunikationer: buss 66 till Högalidskyrkan\, eller tunnelbana till Hornstull\, uppgång Hornsbruksgatan.
URL:https://www.kvakare.se/event/sprakcafe/2025-07-21/
ATTACH;FMTTYPE=image/jpeg:https://www.kvakare.se/wp-content/uploads/2025/06/20250901_182658.jpg
ORGANIZER;CN="Kv%C3%A4karna i Stockholm":MAILTO:stockholm@kvakare.se
END:VEVENT
BEGIN:VEVENT
DTSTART;TZID=Europe/Helsinki:20250720T130000
DTEND;TZID=Europe/Helsinki:20250720T130000
DTSTAMP:20260420T172311
CREATED:20250410T111910Z
LAST-MODIFIED:20250410T111944Z
UID:10003417-1753016400-1753016400@www.kvakare.se
SUMMARY:Växtgrupp
DESCRIPTION:Vi lär känna växter genom en fenomenologisk metod. Vid varje tillfälle utgår vi från en växt från trädgården. Därefter karaktäriserar vi den tillsammans\, för att sedan teckna och måla av den. Botaniska\, historiska\, medicinska\, mytologiska och andliga perspektiv på växten välkomnas. Ta med eget konstnärsmaterial. \n\n\n\nVar: Kväkargården\, Kristinehovs malmgård\, Södermalm.Ansvarig: Anna Sandwall\, 0722239052.
URL:https://www.kvakare.se/event/vaxtgrupp-4/
ATTACH;FMTTYPE=image/jpeg:https://www.kvakare.se/wp-content/uploads/2016/12/Bild-859.jpg
END:VEVENT
BEGIN:VEVENT
DTSTART;TZID=Europe/Helsinki:20250720T110000
DTEND;TZID=Europe/Helsinki:20250720T120000
DTSTAMP:20260420T172311
CREATED:20250518T205923Z
LAST-MODIFIED:20250730T132244Z
UID:10023224-1753009200-1753012800@www.kvakare.se
SUMMARY:Andakt (Stockholm)
DESCRIPTION:Alla är välkomna. Du behöver inte anmäla dig. Efter andakten serveras fika till självkostnadspris.
URL:https://www.kvakare.se/event/andakt-i-stockholm/2025-07-20/
ATTACH;FMTTYPE=image/png:https://www.kvakare.se/wp-content/uploads/2024/02/image.png
ORGANIZER;CN="Kv%C3%A4karna i Stockholm":MAILTO:stockholm@kvakare.se
END:VEVENT
BEGIN:VEVENT
DTSTART;TZID=Europe/Helsinki:20250720T110000
DTEND;TZID=Europe/Helsinki:20250720T120000
DTSTAMP:20260420T172311
CREATED:20250410T193007Z
LAST-MODIFIED:20260305T111741Z
UID:10003523-1753009200-1753012800@www.kvakare.se
SUMMARY:Andakt (Online)
DESCRIPTION:Göteborgs Andaktsmöte inbjuder till en timmes andakt via Zoom. \n\n\n\nVi inleder andakten med ett kort citat. Vi sitter sedan tillsammans i tystnad och stillhet för att rikta vår uppmärksamhet inåt. Den som känner sig manad från sitt inre att kort dela något under stillheten får gärna göra det. De som vill stannar kvar en liten stund efteråt för samtal och reflektioner kring tankar som kommit upp under andakten\, eller kring något ämne som någon känner är angeläget. \n\n\n\nOm det är första gången du deltar kan du gärna förbereda dig genom att läsa foldern Ditt första andaktsmöte i Göteborg eller annan information här på hemsidan.
URL:https://www.kvakare.se/event/19421/2025-07-20/
ATTACH;FMTTYPE=image/png:https://www.kvakare.se/wp-content/uploads/2024/02/image.png
ORGANIZER;CN="Kv%C3%A4karna i G%C3%B6teborg":MAILTO:goteborg@kvakare.se
END:VEVENT
BEGIN:VEVENT
DTSTART;TZID=Europe/Helsinki:20250719T160000
DTEND;TZID=Europe/Helsinki:20250719T163000
DTSTAMP:20260420T172311
CREATED:20260110T171052Z
LAST-MODIFIED:20260308T094820Z
UID:10025689-1752940800-1752942600@www.kvakare.se
SUMMARY:Eftermiddagsandakt med George Fox (Online)
DESCRIPTION:Du är välkommen att i stillhet och gemenskap upptäcka mer om kväkarnas andliga arv. Mitt i helgens alla måsten stannar vi upp för att vara med i en halvtimmes andakt som varje lördag inleds med ett nytt citat av George Fox. \n\n\n\nAndakterna börjar klockan 16.00 och slutar klockan 16.30.Kom när du kan! Välkommen! \n\n\n\nFör att få citaten i förväg kontakta: goteborg@kvakare.se.
URL:https://www.kvakare.se/event/eftermiddagsandakt-med-george-fox-online/2025-07-19/
ATTACH;FMTTYPE=image/jpeg:https://www.kvakare.se/wp-content/uploads/2024/01/George-Fox.jpg
ORGANIZER;CN="Kv%C3%A4karna i G%C3%B6teborg":MAILTO:goteborg@kvakare.se
END:VEVENT
BEGIN:VEVENT
DTSTART;TZID=Europe/Helsinki:20250719T160000
DTEND;TZID=Europe/Helsinki:20250719T163000
DTSTAMP:20260420T172311
CREATED:20250815T171016Z
LAST-MODIFIED:20260110T171032Z
UID:10024465-1752940800-1752942600@www.kvakare.se
SUMMARY:Eftermiddagsandakt med George Fox (Online)
DESCRIPTION:Du är välkommen att i stillhet och gemenskap upptäcka mer om kväkarnas andliga arv. Mitt i helgens alla måsten stannar vi upp för att vara med i en halvtimmes andakt som varje lördag inleds med ett nytt citat av George Fox. \n\n\n\nAndakterna börjar klockan 16.00 och slutar klockan 16.30.Kom när du kan! Välkommen! \n\n\n\nFör att få citaten i förväg kontakta: goteborg@kvakare.se.
URL:https://www.kvakare.se/event/eftermiddagsandakt-med-george-fox/2025-07-19/
ATTACH;FMTTYPE=image/jpeg:https://www.kvakare.se/wp-content/uploads/2024/01/George-Fox.jpg
ORGANIZER;CN="Kv%C3%A4karna i G%C3%B6teborg":MAILTO:goteborg@kvakare.se
END:VEVENT
BEGIN:VEVENT
DTSTART;TZID=Europe/Helsinki:20250719T160000
DTEND;TZID=Europe/Helsinki:20250719T163000
DTSTAMP:20260420T172311
CREATED:20250527T104338Z
LAST-MODIFIED:20250815T170924Z
UID:10022559-1752940800-1752942600@www.kvakare.se
SUMMARY:Eftermiddagsandakt med George Fox
DESCRIPTION:Du är välkommen att i stillhet och gemenskap upptäcka mer om kväkarnas andliga arv. Mitt i helgens alla måsten stannar vi upp för att vara med i en halvtimmes andakt som varje lördag inleds med ett nytt citat av George Fox. \n\n\n\nAndakterna börjar klockan 16.00 och slutar klockan 16.30\, från och med den 1 februari. Kom när du kan! Välkommen! \n\n\n\nFör att få citaten i förväg kontakta: goteborg@kvakare.se
URL:https://www.kvakare.se/event/eftermiddagsstund-med-george-fox-2/2025-07-19/
ATTACH;FMTTYPE=image/jpeg:https://www.kvakare.se/wp-content/uploads/2024/01/George-Fox.jpg
ORGANIZER;CN="Kv%C3%A4karna i G%C3%B6teborg":MAILTO:goteborg@kvakare.se
END:VEVENT
BEGIN:VEVENT
DTSTART;TZID=Europe/Helsinki:20250717T190000
DTEND;TZID=Europe/Helsinki:20250717T193000
DTSTAMP:20260420T172311
CREATED:20250518T210348Z
LAST-MODIFIED:20250730T132318Z
UID:10023243-1752778800-1752780600@www.kvakare.se
SUMMARY:Andakt (Stockholm)
DESCRIPTION:Alla är välkomna. Du behöver inte anmäla dig.
URL:https://www.kvakare.se/event/andakt-i-stockholm-3/2025-07-17/
ATTACH;FMTTYPE=image/png:https://www.kvakare.se/wp-content/uploads/2024/02/image.png
ORGANIZER;CN="Kv%C3%A4karna i Stockholm":MAILTO:stockholm@kvakare.se
END:VEVENT
END:VCALENDAR