BEGIN:VCALENDAR
VERSION:2.0
PRODID:-//Vännernas samfund (kväkarna) - ECPv6.15.20//NONSGML v1.0//EN
CALSCALE:GREGORIAN
METHOD:PUBLISH
X-WR-CALNAME:Vännernas samfund (kväkarna)
X-ORIGINAL-URL:https://www.kvakare.se
X-WR-CALDESC:Händelser för Vännernas samfund (kväkarna)
REFRESH-INTERVAL;VALUE=DURATION:PT1H
X-Robots-Tag:noindex
X-PUBLISHED-TTL:PT1H
BEGIN:VTIMEZONE
TZID:Europe/Helsinki
BEGIN:DAYLIGHT
TZOFFSETFROM:+0200
TZOFFSETTO:+0300
TZNAME:EEST
DTSTART:20260329T010000
END:DAYLIGHT
BEGIN:STANDARD
TZOFFSETFROM:+0300
TZOFFSETTO:+0200
TZNAME:EET
DTSTART:20261025T010000
END:STANDARD
BEGIN:DAYLIGHT
TZOFFSETFROM:+0200
TZOFFSETTO:+0300
TZNAME:EEST
DTSTART:20270328T010000
END:DAYLIGHT
BEGIN:STANDARD
TZOFFSETFROM:+0300
TZOFFSETTO:+0200
TZNAME:EET
DTSTART:20271031T010000
END:STANDARD
BEGIN:DAYLIGHT
TZOFFSETFROM:+0200
TZOFFSETTO:+0300
TZNAME:EEST
DTSTART:20280326T010000
END:DAYLIGHT
BEGIN:STANDARD
TZOFFSETFROM:+0300
TZOFFSETTO:+0200
TZNAME:EET
DTSTART:20281029T010000
END:STANDARD
END:VTIMEZONE
BEGIN:VEVENT
DTSTART;TZID=Europe/Helsinki:20270124T110000
DTEND;TZID=Europe/Helsinki:20270124T120000
DTSTAMP:20260425T184740
CREATED:20250707T144728Z
LAST-MODIFIED:20250730T155415Z
UID:10023611-1800788400-1800792000@www.kvakare.se
SUMMARY:Andakt (Online)
DESCRIPTION:Vi sitter tillsammans i tystnad och stillhet under cirka en timme för att rikta vår uppmärksamhet inåt. Den som känner sig manad från sitt inre att kort dela något under stillheten får gärna göra det. De som vill stannar kvar en liten stund efteråt för samtal och reflektioner kring tankar som kommit upp under andakten\, eller kring något ämne som någon känner är angeläget.
URL:https://www.kvakare.se/event/digital-andakt-15/2027-01-24/
ATTACH;FMTTYPE=image/png:https://www.kvakare.se/wp-content/uploads/2024/02/image.png
END:VEVENT
BEGIN:VEVENT
DTSTART;TZID=Europe/Helsinki:20270128T190000
DTEND;TZID=Europe/Helsinki:20270128T193000
DTSTAMP:20260425T184740
CREATED:20220522T094836Z
LAST-MODIFIED:20220522T094836Z
UID:10005726-1801162800-1801164600@www.kvakare.se
SUMMARY:Andakt i Stockholm
DESCRIPTION:Stockholms andaktsmöte bjuder in till en halvtimmes andakt. Alla är välkomna. Du behöver inte anmäla dig.
URL:https://www.kvakare.se/event/andakt-i-stockholm-5-2022-12-08/
LOCATION:Kväkargården\, Kristinehovsgatan 6\, Stockholm\, 11729\, Sverige
CATEGORIES:Andakt
ORGANIZER;CN="Kv%C3%A4karna i Stockholm":MAILTO:stockholm@kvakare.se
GEO:59.3181548;18.0409199
X-APPLE-STRUCTURED-LOCATION;VALUE=URI;X-ADDRESS=Kväkargården Kristinehovsgatan 6 Stockholm 11729 Sverige;X-APPLE-RADIUS=500;X-TITLE=Kristinehovsgatan 6:geo:18.0409199,59.3181548
END:VEVENT
BEGIN:VEVENT
DTSTART;TZID=Europe/Helsinki:20270128T190000
DTEND;TZID=Europe/Helsinki:20270128T193000
DTSTAMP:20260425T184740
CREATED:20220522T094836Z
LAST-MODIFIED:20220522T094836Z
UID:10009551-1801162800-1801164600@www.kvakare.se
SUMMARY:Andakt i Stockholm
DESCRIPTION:Stockholms andaktsmöte bjuder in till en halvtimmes andakt. Alla är välkomna. Du behöver inte anmäla dig.
URL:https://www.kvakare.se/event/andakt-i-stockholm-5-2023-02-16/
LOCATION:Kväkargården\, Kristinehovsgatan 6\, Stockholm\, 11729\, Sverige
CATEGORIES:Andakt
ORGANIZER;CN="Kv%C3%A4karna i Stockholm":MAILTO:stockholm@kvakare.se
GEO:59.3181548;18.0409199
X-APPLE-STRUCTURED-LOCATION;VALUE=URI;X-ADDRESS=Kväkargården Kristinehovsgatan 6 Stockholm 11729 Sverige;X-APPLE-RADIUS=500;X-TITLE=Kristinehovsgatan 6:geo:18.0409199,59.3181548
END:VEVENT
BEGIN:VEVENT
DTSTART;TZID=Europe/Helsinki:20270128T190000
DTEND;TZID=Europe/Helsinki:20270128T193000
DTSTAMP:20260425T184740
CREATED:20220522T094836Z
LAST-MODIFIED:20220522T094836Z
UID:10006499-1801162800-1801164600@www.kvakare.se
SUMMARY:Andakt i Stockholm
DESCRIPTION:Stockholms andaktsmöte bjuder in till en halvtimmes andakt. Alla är välkomna. Du behöver inte anmäla dig.
URL:https://www.kvakare.se/event/andakt-i-stockholm-5-2022-12-22/
LOCATION:Kväkargården\, Kristinehovsgatan 6\, Stockholm\, 11729\, Sverige
CATEGORIES:Andakt
ORGANIZER;CN="Kv%C3%A4karna i Stockholm":MAILTO:stockholm@kvakare.se
GEO:59.3181548;18.0409199
X-APPLE-STRUCTURED-LOCATION;VALUE=URI;X-ADDRESS=Kväkargården Kristinehovsgatan 6 Stockholm 11729 Sverige;X-APPLE-RADIUS=500;X-TITLE=Kristinehovsgatan 6:geo:18.0409199,59.3181548
END:VEVENT
BEGIN:VEVENT
DTSTART;TZID=Europe/Helsinki:20270128T190000
DTEND;TZID=Europe/Helsinki:20270128T193000
DTSTAMP:20260425T184740
CREATED:20220522T094836Z
LAST-MODIFIED:20220522T094836Z
UID:10007268-1801162800-1801164600@www.kvakare.se
SUMMARY:Andakt i Stockholm
DESCRIPTION:Stockholms andaktsmöte bjuder in till en halvtimmes andakt. Alla är välkomna. Du behöver inte anmäla dig.
URL:https://www.kvakare.se/event/andakt-i-stockholm-5-2023-01-05/
LOCATION:Kväkargården\, Kristinehovsgatan 6\, Stockholm\, 11729\, Sverige
CATEGORIES:Andakt
ORGANIZER;CN="Kv%C3%A4karna i Stockholm":MAILTO:stockholm@kvakare.se
GEO:59.3181548;18.0409199
X-APPLE-STRUCTURED-LOCATION;VALUE=URI;X-ADDRESS=Kväkargården Kristinehovsgatan 6 Stockholm 11729 Sverige;X-APPLE-RADIUS=500;X-TITLE=Kristinehovsgatan 6:geo:18.0409199,59.3181548
END:VEVENT
BEGIN:VEVENT
DTSTART;TZID=Europe/Helsinki:20270128T190000
DTEND;TZID=Europe/Helsinki:20270128T193000
DTSTAMP:20260425T184740
CREATED:20220522T094836Z
LAST-MODIFIED:20220522T094836Z
UID:10020645-1801162800-1801164600@www.kvakare.se
SUMMARY:Andakt i Stockholm
DESCRIPTION:Stockholms andaktsmöte bjuder in till en halvtimmes andakt. Alla är välkomna. Du behöver inte anmäla dig.
URL:https://www.kvakare.se/event/andakt-i-stockholm-5-2022-11-17-3/
LOCATION:Kväkargården\, Kristinehovsgatan 6\, Stockholm\, 11729\, Sverige
CATEGORIES:Andakt
ORGANIZER;CN="Kv%C3%A4karna i Stockholm":MAILTO:stockholm@kvakare.se
GEO:59.3181548;18.0409199
X-APPLE-STRUCTURED-LOCATION;VALUE=URI;X-ADDRESS=Kväkargården Kristinehovsgatan 6 Stockholm 11729 Sverige;X-APPLE-RADIUS=500;X-TITLE=Kristinehovsgatan 6:geo:18.0409199,59.3181548
END:VEVENT
BEGIN:VEVENT
DTSTART;TZID=Europe/Helsinki:20270128T190000
DTEND;TZID=Europe/Helsinki:20270128T193000
DTSTAMP:20260425T184740
CREATED:20220522T094836Z
LAST-MODIFIED:20220522T094836Z
UID:10004168-1801162800-1801164600@www.kvakare.se
SUMMARY:Andakt i Stockholm
DESCRIPTION:Stockholms andaktsmöte bjuder in till en halvtimmes andakt. Alla är välkomna. Du behöver inte anmäla dig.
URL:https://www.kvakare.se/event/andakt-i-stockholm-5-2022-11-10/
LOCATION:Kväkargården\, Kristinehovsgatan 6\, Stockholm\, 11729\, Sverige
CATEGORIES:Andakt
ORGANIZER;CN="Kv%C3%A4karna i Stockholm":MAILTO:stockholm@kvakare.se
GEO:59.3181548;18.0409199
X-APPLE-STRUCTURED-LOCATION;VALUE=URI;X-ADDRESS=Kväkargården Kristinehovsgatan 6 Stockholm 11729 Sverige;X-APPLE-RADIUS=500;X-TITLE=Kristinehovsgatan 6:geo:18.0409199,59.3181548
END:VEVENT
BEGIN:VEVENT
DTSTART;TZID=Europe/Helsinki:20270128T190000
DTEND;TZID=Europe/Helsinki:20270128T193000
DTSTAMP:20260425T184740
CREATED:20220522T094836Z
LAST-MODIFIED:20220522T094836Z
UID:10017594-1801162800-1801164600@www.kvakare.se
SUMMARY:Andakt i Stockholm
DESCRIPTION:Stockholms andaktsmöte bjuder in till en halvtimmes andakt. Alla är välkomna. Du behöver inte anmäla dig.
URL:https://www.kvakare.se/event/andakt-i-stockholm-5-2023-02-16-2/
LOCATION:Kväkargården\, Kristinehovsgatan 6\, Stockholm\, 11729\, Sverige
CATEGORIES:Andakt
ORGANIZER;CN="Kv%C3%A4karna i Stockholm":MAILTO:stockholm@kvakare.se
GEO:59.3181548;18.0409199
X-APPLE-STRUCTURED-LOCATION;VALUE=URI;X-ADDRESS=Kväkargården Kristinehovsgatan 6 Stockholm 11729 Sverige;X-APPLE-RADIUS=500;X-TITLE=Kristinehovsgatan 6:geo:18.0409199,59.3181548
END:VEVENT
BEGIN:VEVENT
DTSTART;TZID=Europe/Helsinki:20270128T190000
DTEND;TZID=Europe/Helsinki:20270128T193000
DTSTAMP:20260425T184740
CREATED:20220522T094836Z
LAST-MODIFIED:20220522T094836Z
UID:10014542-1801162800-1801164600@www.kvakare.se
SUMMARY:Andakt i Stockholm
DESCRIPTION:Stockholms andaktsmöte bjuder in till en halvtimmes andakt. Alla är välkomna. Du behöver inte anmäla dig.
URL:https://www.kvakare.se/event/andakt-i-stockholm-5-2022-12-22-2/
LOCATION:Kväkargården\, Kristinehovsgatan 6\, Stockholm\, 11729\, Sverige
CATEGORIES:Andakt
ORGANIZER;CN="Kv%C3%A4karna i Stockholm":MAILTO:stockholm@kvakare.se
GEO:59.3181548;18.0409199
X-APPLE-STRUCTURED-LOCATION;VALUE=URI;X-ADDRESS=Kväkargården Kristinehovsgatan 6 Stockholm 11729 Sverige;X-APPLE-RADIUS=500;X-TITLE=Kristinehovsgatan 6:geo:18.0409199,59.3181548
END:VEVENT
BEGIN:VEVENT
DTSTART;TZID=Europe/Helsinki:20270128T190000
DTEND;TZID=Europe/Helsinki:20270128T193000
DTSTAMP:20260425T184740
CREATED:20220522T094836Z
LAST-MODIFIED:20220522T094836Z
UID:10008033-1801162800-1801164600@www.kvakare.se
SUMMARY:Andakt i Stockholm
DESCRIPTION:Stockholms andaktsmöte bjuder in till en halvtimmes andakt. Alla är välkomna. Du behöver inte anmäla dig.
URL:https://www.kvakare.se/event/andakt-i-stockholm-5-2023-01-19/
LOCATION:Kväkargården\, Kristinehovsgatan 6\, Stockholm\, 11729\, Sverige
CATEGORIES:Andakt
ORGANIZER;CN="Kv%C3%A4karna i Stockholm":MAILTO:stockholm@kvakare.se
GEO:59.3181548;18.0409199
X-APPLE-STRUCTURED-LOCATION;VALUE=URI;X-ADDRESS=Kväkargården Kristinehovsgatan 6 Stockholm 11729 Sverige;X-APPLE-RADIUS=500;X-TITLE=Kristinehovsgatan 6:geo:18.0409199,59.3181548
END:VEVENT
BEGIN:VEVENT
DTSTART;TZID=Europe/Helsinki:20270128T190000
DTEND;TZID=Europe/Helsinki:20270128T193000
DTSTAMP:20260425T184740
CREATED:20220522T094836Z
LAST-MODIFIED:20220522T094836Z
UID:10011426-1801162800-1801164600@www.kvakare.se
SUMMARY:Andakt i Stockholm
DESCRIPTION:Stockholms andaktsmöte bjuder in till en halvtimmes andakt. Alla är välkomna. Du behöver inte anmäla dig.
URL:https://www.kvakare.se/event/andakt-i-stockholm-5-2023-03-23/
LOCATION:Kväkargården\, Kristinehovsgatan 6\, Stockholm\, 11729\, Sverige
CATEGORIES:Andakt
ORGANIZER;CN="Kv%C3%A4karna i Stockholm":MAILTO:stockholm@kvakare.se
GEO:59.3181548;18.0409199
X-APPLE-STRUCTURED-LOCATION;VALUE=URI;X-ADDRESS=Kväkargården Kristinehovsgatan 6 Stockholm 11729 Sverige;X-APPLE-RADIUS=500;X-TITLE=Kristinehovsgatan 6:geo:18.0409199,59.3181548
END:VEVENT
BEGIN:VEVENT
DTSTART;TZID=Europe/Helsinki:20270128T190000
DTEND;TZID=Europe/Helsinki:20270128T193000
DTSTAMP:20260425T184740
CREATED:20220522T094836Z
LAST-MODIFIED:20220522T094836Z
UID:10004949-1801162800-1801164600@www.kvakare.se
SUMMARY:Andakt i Stockholm
DESCRIPTION:Stockholms andaktsmöte bjuder in till en halvtimmes andakt. Alla är välkomna. Du behöver inte anmäla dig.
URL:https://www.kvakare.se/event/andakt-i-stockholm-5-2022-11-24/
LOCATION:Kväkargården\, Kristinehovsgatan 6\, Stockholm\, 11729\, Sverige
CATEGORIES:Andakt
ORGANIZER;CN="Kv%C3%A4karna i Stockholm":MAILTO:stockholm@kvakare.se
GEO:59.3181548;18.0409199
X-APPLE-STRUCTURED-LOCATION;VALUE=URI;X-ADDRESS=Kväkargården Kristinehovsgatan 6 Stockholm 11729 Sverige;X-APPLE-RADIUS=500;X-TITLE=Kristinehovsgatan 6:geo:18.0409199,59.3181548
END:VEVENT
BEGIN:VEVENT
DTSTART;TZID=Europe/Helsinki:20270128T190000
DTEND;TZID=Europe/Helsinki:20270128T193000
DTSTAMP:20260425T184740
CREATED:20220522T094836Z
LAST-MODIFIED:20220522T094836Z
UID:10008794-1801162800-1801164600@www.kvakare.se
SUMMARY:Andakt i Stockholm
DESCRIPTION:Stockholms andaktsmöte bjuder in till en halvtimmes andakt. Alla är välkomna. Du behöver inte anmäla dig.
URL:https://www.kvakare.se/event/andakt-i-stockholm-5-2023-02-02/
LOCATION:Kväkargården\, Kristinehovsgatan 6\, Stockholm\, 11729\, Sverige
CATEGORIES:Andakt
ORGANIZER;CN="Kv%C3%A4karna i Stockholm":MAILTO:stockholm@kvakare.se
GEO:59.3181548;18.0409199
X-APPLE-STRUCTURED-LOCATION;VALUE=URI;X-ADDRESS=Kväkargården Kristinehovsgatan 6 Stockholm 11729 Sverige;X-APPLE-RADIUS=500;X-TITLE=Kristinehovsgatan 6:geo:18.0409199,59.3181548
END:VEVENT
BEGIN:VEVENT
DTSTART;TZID=Europe/Helsinki:20270128T190000
DTEND;TZID=Europe/Helsinki:20270128T193000
DTSTAMP:20260425T184740
CREATED:20220522T094836Z
LAST-MODIFIED:20220522T094836Z
UID:10019469-1801162800-1801164600@www.kvakare.se
SUMMARY:Andakt i Stockholm
DESCRIPTION:Stockholms andaktsmöte bjuder in till en halvtimmes andakt. Alla är välkomna. Du behöver inte anmäla dig.
URL:https://www.kvakare.se/event/andakt-i-stockholm-5-2023-03-23-2/
LOCATION:Kväkargården\, Kristinehovsgatan 6\, Stockholm\, 11729\, Sverige
CATEGORIES:Andakt
ORGANIZER;CN="Kv%C3%A4karna i Stockholm":MAILTO:stockholm@kvakare.se
GEO:59.3181548;18.0409199
X-APPLE-STRUCTURED-LOCATION;VALUE=URI;X-ADDRESS=Kväkargården Kristinehovsgatan 6 Stockholm 11729 Sverige;X-APPLE-RADIUS=500;X-TITLE=Kristinehovsgatan 6:geo:18.0409199,59.3181548
END:VEVENT
BEGIN:VEVENT
DTSTART;TZID=Europe/Helsinki:20270128T190000
DTEND;TZID=Europe/Helsinki:20270128T193000
DTSTAMP:20260425T184740
CREATED:20220522T094836Z
LAST-MODIFIED:20220522T094836Z
UID:10016457-1801162800-1801164600@www.kvakare.se
SUMMARY:Andakt i Stockholm
DESCRIPTION:Stockholms andaktsmöte bjuder in till en halvtimmes andakt. Alla är välkomna. Du behöver inte anmäla dig.
URL:https://www.kvakare.se/event/andakt-i-stockholm-5-2023-01-26-2/
LOCATION:Kväkargården\, Kristinehovsgatan 6\, Stockholm\, 11729\, Sverige
CATEGORIES:Andakt
ORGANIZER;CN="Kv%C3%A4karna i Stockholm":MAILTO:stockholm@kvakare.se
GEO:59.3181548;18.0409199
X-APPLE-STRUCTURED-LOCATION;VALUE=URI;X-ADDRESS=Kväkargården Kristinehovsgatan 6 Stockholm 11729 Sverige;X-APPLE-RADIUS=500;X-TITLE=Kristinehovsgatan 6:geo:18.0409199,59.3181548
END:VEVENT
BEGIN:VEVENT
DTSTART;TZID=Europe/Helsinki:20270128T190000
DTEND;TZID=Europe/Helsinki:20270128T193000
DTSTAMP:20260425T184740
CREATED:20220522T094836Z
LAST-MODIFIED:20220522T094836Z
UID:10013381-1801162800-1801164600@www.kvakare.se
SUMMARY:Andakt i Stockholm
DESCRIPTION:Stockholms andaktsmöte bjuder in till en halvtimmes andakt. Alla är välkomna. Du behöver inte anmäla dig.
URL:https://www.kvakare.se/event/andakt-i-stockholm-5-2022-12-01-2/
LOCATION:Kväkargården\, Kristinehovsgatan 6\, Stockholm\, 11729\, Sverige
CATEGORIES:Andakt
ORGANIZER;CN="Kv%C3%A4karna i Stockholm":MAILTO:stockholm@kvakare.se
GEO:59.3181548;18.0409199
X-APPLE-STRUCTURED-LOCATION;VALUE=URI;X-ADDRESS=Kväkargården Kristinehovsgatan 6 Stockholm 11729 Sverige;X-APPLE-RADIUS=500;X-TITLE=Kristinehovsgatan 6:geo:18.0409199,59.3181548
END:VEVENT
BEGIN:VEVENT
DTSTART;TZID=Europe/Helsinki:20270128T190000
DTEND;TZID=Europe/Helsinki:20270128T193000
DTSTAMP:20260425T184740
CREATED:20220522T094836Z
LAST-MODIFIED:20220522T094836Z
UID:10010304-1801162800-1801164600@www.kvakare.se
SUMMARY:Andakt i Stockholm
DESCRIPTION:Stockholms andaktsmöte bjuder in till en halvtimmes andakt. Alla är välkomna. Du behöver inte anmäla dig.
URL:https://www.kvakare.se/event/andakt-i-stockholm-5-2023-03-02/
LOCATION:Kväkargården\, Kristinehovsgatan 6\, Stockholm\, 11729\, Sverige
CATEGORIES:Andakt
ORGANIZER;CN="Kv%C3%A4karna i Stockholm":MAILTO:stockholm@kvakare.se
GEO:59.3181548;18.0409199
X-APPLE-STRUCTURED-LOCATION;VALUE=URI;X-ADDRESS=Kväkargården Kristinehovsgatan 6 Stockholm 11729 Sverige;X-APPLE-RADIUS=500;X-TITLE=Kristinehovsgatan 6:geo:18.0409199,59.3181548
END:VEVENT
BEGIN:VEVENT
DTSTART;TZID=Europe/Helsinki:20270128T190000
DTEND;TZID=Europe/Helsinki:20270128T193000
DTSTAMP:20260425T184740
CREATED:20220522T094836Z
LAST-MODIFIED:20220522T094836Z
UID:10012211-1801162800-1801164600@www.kvakare.se
SUMMARY:Andakt i Stockholm
DESCRIPTION:Stockholms andaktsmöte bjuder in till en halvtimmes andakt. Alla är välkomna. Du behöver inte anmäla dig.
URL:https://www.kvakare.se/event/andakt-i-stockholm-5-2022-11-10-2/
LOCATION:Kväkargården\, Kristinehovsgatan 6\, Stockholm\, 11729\, Sverige
CATEGORIES:Andakt
ORGANIZER;CN="Kv%C3%A4karna i Stockholm":MAILTO:stockholm@kvakare.se
GEO:59.3181548;18.0409199
X-APPLE-STRUCTURED-LOCATION;VALUE=URI;X-ADDRESS=Kväkargården Kristinehovsgatan 6 Stockholm 11729 Sverige;X-APPLE-RADIUS=500;X-TITLE=Kristinehovsgatan 6:geo:18.0409199,59.3181548
END:VEVENT
BEGIN:VEVENT
DTSTART;TZID=Europe/Helsinki:20270128T190000
DTEND;TZID=Europe/Helsinki:20270128T193000
DTSTAMP:20260425T184740
CREATED:20220522T094836Z
LAST-MODIFIED:20220522T094836Z
UID:10021424-1801162800-1801164600@www.kvakare.se
SUMMARY:Andakt i Stockholm
DESCRIPTION:Stockholms andaktsmöte bjuder in till en halvtimmes andakt. Alla är välkomna. Du behöver inte anmäla dig.
URL:https://www.kvakare.se/event/andakt-i-stockholm-5-2022-12-01-3/
LOCATION:Kväkargården\, Kristinehovsgatan 6\, Stockholm\, 11729\, Sverige
CATEGORIES:Andakt
ORGANIZER;CN="Kv%C3%A4karna i Stockholm":MAILTO:stockholm@kvakare.se
GEO:59.3181548;18.0409199
X-APPLE-STRUCTURED-LOCATION;VALUE=URI;X-ADDRESS=Kväkargården Kristinehovsgatan 6 Stockholm 11729 Sverige;X-APPLE-RADIUS=500;X-TITLE=Kristinehovsgatan 6:geo:18.0409199,59.3181548
END:VEVENT
BEGIN:VEVENT
DTSTART;TZID=Europe/Helsinki:20270128T190000
DTEND;TZID=Europe/Helsinki:20270128T193000
DTSTAMP:20260425T184740
CREATED:20220522T094836Z
LAST-MODIFIED:20220522T094836Z
UID:10018347-1801162800-1801164600@www.kvakare.se
SUMMARY:Andakt i Stockholm
DESCRIPTION:Stockholms andaktsmöte bjuder in till en halvtimmes andakt. Alla är välkomna. Du behöver inte anmäla dig.
URL:https://www.kvakare.se/event/andakt-i-stockholm-5-2023-03-02-2/
LOCATION:Kväkargården\, Kristinehovsgatan 6\, Stockholm\, 11729\, Sverige
CATEGORIES:Andakt
ORGANIZER;CN="Kv%C3%A4karna i Stockholm":MAILTO:stockholm@kvakare.se
GEO:59.3181548;18.0409199
X-APPLE-STRUCTURED-LOCATION;VALUE=URI;X-ADDRESS=Kväkargården Kristinehovsgatan 6 Stockholm 11729 Sverige;X-APPLE-RADIUS=500;X-TITLE=Kristinehovsgatan 6:geo:18.0409199,59.3181548
END:VEVENT
BEGIN:VEVENT
DTSTART;TZID=Europe/Helsinki:20270128T190000
DTEND;TZID=Europe/Helsinki:20270128T193000
DTSTAMP:20260425T184740
CREATED:20220522T094836Z
LAST-MODIFIED:20220522T094836Z
UID:10015311-1801162800-1801164600@www.kvakare.se
SUMMARY:Andakt i Stockholm
DESCRIPTION:Stockholms andaktsmöte bjuder in till en halvtimmes andakt. Alla är välkomna. Du behöver inte anmäla dig.
URL:https://www.kvakare.se/event/andakt-i-stockholm-5-2023-01-05-2/
LOCATION:Kväkargården\, Kristinehovsgatan 6\, Stockholm\, 11729\, Sverige
CATEGORIES:Andakt
ORGANIZER;CN="Kv%C3%A4karna i Stockholm":MAILTO:stockholm@kvakare.se
GEO:59.3181548;18.0409199
X-APPLE-STRUCTURED-LOCATION;VALUE=URI;X-ADDRESS=Kväkargården Kristinehovsgatan 6 Stockholm 11729 Sverige;X-APPLE-RADIUS=500;X-TITLE=Kristinehovsgatan 6:geo:18.0409199,59.3181548
END:VEVENT
BEGIN:VEVENT
DTSTART;TZID=Europe/Helsinki:20270128T190000
DTEND;TZID=Europe/Helsinki:20270128T193000
DTSTAMP:20260425T184740
CREATED:20220522T094836Z
LAST-MODIFIED:20220522T094836Z
UID:10020254-1801162800-1801164600@www.kvakare.se
SUMMARY:Andakt i Stockholm
DESCRIPTION:Stockholms andaktsmöte bjuder in till en halvtimmes andakt. Alla är välkomna. Du behöver inte anmäla dig.
URL:https://www.kvakare.se/event/andakt-i-stockholm-5-2022-11-10-3/
LOCATION:Kväkargården\, Kristinehovsgatan 6\, Stockholm\, 11729\, Sverige
CATEGORIES:Andakt
ORGANIZER;CN="Kv%C3%A4karna i Stockholm":MAILTO:stockholm@kvakare.se
GEO:59.3181548;18.0409199
X-APPLE-STRUCTURED-LOCATION;VALUE=URI;X-ADDRESS=Kväkargården Kristinehovsgatan 6 Stockholm 11729 Sverige;X-APPLE-RADIUS=500;X-TITLE=Kristinehovsgatan 6:geo:18.0409199,59.3181548
END:VEVENT
BEGIN:VEVENT
DTSTART;TZID=Europe/Helsinki:20270128T190000
DTEND;TZID=Europe/Helsinki:20270128T193000
DTSTAMP:20260425T184740
CREATED:20220522T094836Z
LAST-MODIFIED:20220522T094836Z
UID:10017216-1801162800-1801164600@www.kvakare.se
SUMMARY:Andakt i Stockholm
DESCRIPTION:Stockholms andaktsmöte bjuder in till en halvtimmes andakt. Alla är välkomna. Du behöver inte anmäla dig.
URL:https://www.kvakare.se/event/andakt-i-stockholm-5-2023-02-09-2/
LOCATION:Kväkargården\, Kristinehovsgatan 6\, Stockholm\, 11729\, Sverige
CATEGORIES:Andakt
ORGANIZER;CN="Kv%C3%A4karna i Stockholm":MAILTO:stockholm@kvakare.se
GEO:59.3181548;18.0409199
X-APPLE-STRUCTURED-LOCATION;VALUE=URI;X-ADDRESS=Kväkargården Kristinehovsgatan 6 Stockholm 11729 Sverige;X-APPLE-RADIUS=500;X-TITLE=Kristinehovsgatan 6:geo:18.0409199,59.3181548
END:VEVENT
BEGIN:VEVENT
DTSTART;TZID=Europe/Helsinki:20270128T190000
DTEND;TZID=Europe/Helsinki:20270128T193000
DTSTAMP:20260425T184740
CREATED:20220522T094836Z
LAST-MODIFIED:20220522T094836Z
UID:10014156-1801162800-1801164600@www.kvakare.se
SUMMARY:Andakt i Stockholm
DESCRIPTION:Stockholms andaktsmöte bjuder in till en halvtimmes andakt. Alla är välkomna. Du behöver inte anmäla dig.
URL:https://www.kvakare.se/event/andakt-i-stockholm-5-2022-12-15-2/
LOCATION:Kväkargården\, Kristinehovsgatan 6\, Stockholm\, 11729\, Sverige
CATEGORIES:Andakt
ORGANIZER;CN="Kv%C3%A4karna i Stockholm":MAILTO:stockholm@kvakare.se
GEO:59.3181548;18.0409199
X-APPLE-STRUCTURED-LOCATION;VALUE=URI;X-ADDRESS=Kväkargården Kristinehovsgatan 6 Stockholm 11729 Sverige;X-APPLE-RADIUS=500;X-TITLE=Kristinehovsgatan 6:geo:18.0409199,59.3181548
END:VEVENT
BEGIN:VEVENT
DTSTART;TZID=Europe/Helsinki:20270128T190000
DTEND;TZID=Europe/Helsinki:20270128T193000
DTSTAMP:20260425T184740
CREATED:20220522T094836Z
LAST-MODIFIED:20220522T094836Z
UID:10011053-1801162800-1801164600@www.kvakare.se
SUMMARY:Andakt i Stockholm
DESCRIPTION:Stockholms andaktsmöte bjuder in till en halvtimmes andakt. Alla är välkomna. Du behöver inte anmäla dig.
URL:https://www.kvakare.se/event/andakt-i-stockholm-5-2023-03-16/
LOCATION:Kväkargården\, Kristinehovsgatan 6\, Stockholm\, 11729\, Sverige
CATEGORIES:Andakt
ORGANIZER;CN="Kv%C3%A4karna i Stockholm":MAILTO:stockholm@kvakare.se
GEO:59.3181548;18.0409199
X-APPLE-STRUCTURED-LOCATION;VALUE=URI;X-ADDRESS=Kväkargården Kristinehovsgatan 6 Stockholm 11729 Sverige;X-APPLE-RADIUS=500;X-TITLE=Kristinehovsgatan 6:geo:18.0409199,59.3181548
END:VEVENT
BEGIN:VEVENT
DTSTART;TZID=Europe/Helsinki:20270128T190000
DTEND;TZID=Europe/Helsinki:20270128T193000
DTSTAMP:20260425T184740
CREATED:20220522T094836Z
LAST-MODIFIED:20220522T094836Z
UID:10009173-1801162800-1801164600@www.kvakare.se
SUMMARY:Andakt i Stockholm
DESCRIPTION:Stockholms andaktsmöte bjuder in till en halvtimmes andakt. Alla är välkomna. Du behöver inte anmäla dig.
URL:https://www.kvakare.se/event/andakt-i-stockholm-5-2023-02-09/
LOCATION:Kväkargården\, Kristinehovsgatan 6\, Stockholm\, 11729\, Sverige
CATEGORIES:Andakt
ORGANIZER;CN="Kv%C3%A4karna i Stockholm":MAILTO:stockholm@kvakare.se
GEO:59.3181548;18.0409199
X-APPLE-STRUCTURED-LOCATION;VALUE=URI;X-ADDRESS=Kväkargården Kristinehovsgatan 6 Stockholm 11729 Sverige;X-APPLE-RADIUS=500;X-TITLE=Kristinehovsgatan 6:geo:18.0409199,59.3181548
END:VEVENT
BEGIN:VEVENT
DTSTART;TZID=Europe/Helsinki:20270128T190000
DTEND;TZID=Europe/Helsinki:20270128T193000
DTSTAMP:20260425T184740
CREATED:20220522T094836Z
LAST-MODIFIED:20220522T094836Z
UID:10019096-1801162800-1801164600@www.kvakare.se
SUMMARY:Andakt i Stockholm
DESCRIPTION:Stockholms andaktsmöte bjuder in till en halvtimmes andakt. Alla är välkomna. Du behöver inte anmäla dig.
URL:https://www.kvakare.se/event/andakt-i-stockholm-5-2023-03-16-2/
LOCATION:Kväkargården\, Kristinehovsgatan 6\, Stockholm\, 11729\, Sverige
CATEGORIES:Andakt
ORGANIZER;CN="Kv%C3%A4karna i Stockholm":MAILTO:stockholm@kvakare.se
GEO:59.3181548;18.0409199
X-APPLE-STRUCTURED-LOCATION;VALUE=URI;X-ADDRESS=Kväkargården Kristinehovsgatan 6 Stockholm 11729 Sverige;X-APPLE-RADIUS=500;X-TITLE=Kristinehovsgatan 6:geo:18.0409199,59.3181548
END:VEVENT
BEGIN:VEVENT
DTSTART;TZID=Europe/Helsinki:20270128T190000
DTEND;TZID=Europe/Helsinki:20270128T193000
DTSTAMP:20260425T184740
CREATED:20220522T094836Z
LAST-MODIFIED:20220522T094836Z
UID:10006113-1801162800-1801164600@www.kvakare.se
SUMMARY:Andakt i Stockholm
DESCRIPTION:Stockholms andaktsmöte bjuder in till en halvtimmes andakt. Alla är välkomna. Du behöver inte anmäla dig.
URL:https://www.kvakare.se/event/andakt-i-stockholm-5-2022-12-15/
LOCATION:Kväkargården\, Kristinehovsgatan 6\, Stockholm\, 11729\, Sverige
CATEGORIES:Andakt
ORGANIZER;CN="Kv%C3%A4karna i Stockholm":MAILTO:stockholm@kvakare.se
GEO:59.3181548;18.0409199
X-APPLE-STRUCTURED-LOCATION;VALUE=URI;X-ADDRESS=Kväkargården Kristinehovsgatan 6 Stockholm 11729 Sverige;X-APPLE-RADIUS=500;X-TITLE=Kristinehovsgatan 6:geo:18.0409199,59.3181548
END:VEVENT
BEGIN:VEVENT
DTSTART;TZID=Europe/Helsinki:20270128T190000
DTEND;TZID=Europe/Helsinki:20270128T193000
DTSTAMP:20260425T184740
CREATED:20220522T094836Z
LAST-MODIFIED:20220522T094836Z
UID:10016076-1801162800-1801164600@www.kvakare.se
SUMMARY:Andakt i Stockholm
DESCRIPTION:Stockholms andaktsmöte bjuder in till en halvtimmes andakt. Alla är välkomna. Du behöver inte anmäla dig.
URL:https://www.kvakare.se/event/andakt-i-stockholm-5-2023-01-19-2/
LOCATION:Kväkargården\, Kristinehovsgatan 6\, Stockholm\, 11729\, Sverige
CATEGORIES:Andakt
ORGANIZER;CN="Kv%C3%A4karna i Stockholm":MAILTO:stockholm@kvakare.se
GEO:59.3181548;18.0409199
X-APPLE-STRUCTURED-LOCATION;VALUE=URI;X-ADDRESS=Kväkargården Kristinehovsgatan 6 Stockholm 11729 Sverige;X-APPLE-RADIUS=500;X-TITLE=Kristinehovsgatan 6:geo:18.0409199,59.3181548
END:VEVENT
BEGIN:VEVENT
DTSTART;TZID=Europe/Helsinki:20270128T190000
DTEND;TZID=Europe/Helsinki:20270128T193000
DTSTAMP:20260425T184740
CREATED:20220522T094836Z
LAST-MODIFIED:20220522T094836Z
UID:10012992-1801162800-1801164600@www.kvakare.se
SUMMARY:Andakt i Stockholm
DESCRIPTION:Stockholms andaktsmöte bjuder in till en halvtimmes andakt. Alla är välkomna. Du behöver inte anmäla dig.
URL:https://www.kvakare.se/event/andakt-i-stockholm-5-2022-11-24-2/
LOCATION:Kväkargården\, Kristinehovsgatan 6\, Stockholm\, 11729\, Sverige
CATEGORIES:Andakt
ORGANIZER;CN="Kv%C3%A4karna i Stockholm":MAILTO:stockholm@kvakare.se
GEO:59.3181548;18.0409199
X-APPLE-STRUCTURED-LOCATION;VALUE=URI;X-ADDRESS=Kväkargården Kristinehovsgatan 6 Stockholm 11729 Sverige;X-APPLE-RADIUS=500;X-TITLE=Kristinehovsgatan 6:geo:18.0409199,59.3181548
END:VEVENT
END:VCALENDAR