BEGIN:VCALENDAR
VERSION:2.0
PRODID:-//Vännernas samfund (kväkarna) - ECPv6.15.20//NONSGML v1.0//EN
CALSCALE:GREGORIAN
METHOD:PUBLISH
X-ORIGINAL-URL:https://www.kvakare.se
X-WR-CALDESC:Händelser för Vännernas samfund (kväkarna)
REFRESH-INTERVAL;VALUE=DURATION:PT1H
X-Robots-Tag:noindex
X-PUBLISHED-TTL:PT1H
BEGIN:VTIMEZONE
TZID:Europe/Helsinki
BEGIN:DAYLIGHT
TZOFFSETFROM:+0200
TZOFFSETTO:+0300
TZNAME:EEST
DTSTART:20250330T010000
END:DAYLIGHT
BEGIN:STANDARD
TZOFFSETFROM:+0300
TZOFFSETTO:+0200
TZNAME:EET
DTSTART:20251026T010000
END:STANDARD
BEGIN:DAYLIGHT
TZOFFSETFROM:+0200
TZOFFSETTO:+0300
TZNAME:EEST
DTSTART:20260329T010000
END:DAYLIGHT
BEGIN:STANDARD
TZOFFSETFROM:+0300
TZOFFSETTO:+0200
TZNAME:EET
DTSTART:20261025T010000
END:STANDARD
BEGIN:DAYLIGHT
TZOFFSETFROM:+0200
TZOFFSETTO:+0300
TZNAME:EEST
DTSTART:20270328T010000
END:DAYLIGHT
BEGIN:STANDARD
TZOFFSETFROM:+0300
TZOFFSETTO:+0200
TZNAME:EET
DTSTART:20271031T010000
END:STANDARD
END:VTIMEZONE
BEGIN:VEVENT
DTSTART;TZID=Europe/Helsinki:20260518T180000
DTEND;TZID=Europe/Helsinki:20260518T193000
DTSTAMP:20260420T033732
CREATED:20251215T073612Z
LAST-MODIFIED:20251215T073616Z
UID:10025440-1779127200-1779132600@www.kvakare.se
SUMMARY:Språkcafé (Stockholm)
DESCRIPTION:Kom och öva att prata svenska och samtidigt förbättra svenskan. Kerstin Backman leder språkcaféet där vi lyssnar på varandras ”Veckans höjdpunkt” och gör övningar med hjälp av kort. \n\n\n\nVar: Kväkargården\, Kristinehovs malmgård\, Kristinehovsgatan 6. Kommunikationer: buss 66 till Högalidskyrkan\, eller tunnelbana till Hornstull\, uppgång Hornsbruksgatan.
URL:https://www.kvakare.se/event/sprakcafe-stockholm-7/2026-05-18/
ATTACH;FMTTYPE=image/jpeg:https://www.kvakare.se/wp-content/uploads/2025/06/20250901_182658.jpg
ORGANIZER;CN="Kv%C3%A4karna i Stockholm":MAILTO:stockholm@kvakare.se
END:VEVENT
BEGIN:VEVENT
DTSTART;TZID=Europe/Helsinki:20260520T190000
DTEND;TZID=Europe/Helsinki:20260520T193000
DTSTAMP:20260420T033732
CREATED:20251229T190122Z
LAST-MODIFIED:20251229T190123Z
UID:10025554-1779303600-1779305400@www.kvakare.se
SUMMARY:Andakt (Online)
DESCRIPTION:Vi sitter tillsammans i tystnad och stillhet under cirka en timme för att rikta vår uppmärksamhet inåt. Den som känner sig manad från sitt inre att kort dela något under stillheten får gärna göra det. De som vill stannar kvar en liten stund efteråt för samtal och reflektioner kring tankar som kommit upp under andakten\, eller kring något ämne som någon känner är angeläget.
URL:https://www.kvakare.se/event/andakt-online-16/
ATTACH;FMTTYPE=image/png:https://www.kvakare.se/wp-content/uploads/2024/02/image.png
ORGANIZER;CN="Digitala gruppen":MAILTO:andakt@kvakare.se
END:VEVENT
BEGIN:VEVENT
DTSTART;TZID=Europe/Helsinki:20260521T190000
DTEND;TZID=Europe/Helsinki:20260521T193000
DTSTAMP:20260420T033732
CREATED:20250518T210348Z
LAST-MODIFIED:20250730T132318Z
UID:10022879-1779390000-1779391800@www.kvakare.se
SUMMARY:Andakt (Stockholm)
DESCRIPTION:Alla är välkomna. Du behöver inte anmäla dig.
URL:https://www.kvakare.se/event/andakt-i-stockholm-3/2026-05-21/
ATTACH;FMTTYPE=image/png:https://www.kvakare.se/wp-content/uploads/2024/02/image.png
ORGANIZER;CN="Kv%C3%A4karna i Stockholm":MAILTO:stockholm@kvakare.se
END:VEVENT
BEGIN:VEVENT
DTSTART;TZID=Europe/Helsinki:20260523T093000
DTEND;TZID=Europe/Helsinki:20260523T153000
DTSTAMP:20260420T033732
CREATED:20260216T181321Z
LAST-MODIFIED:20260216T181323Z
UID:10025990-1779528600-1779550200@www.kvakare.se
SUMMARY:Fördjupningsdag (Malmö)
DESCRIPTION:Malmö andaktsmöte inbjuder till fördjupningsdag under temat: The Work That Reconnects – En workshop om omställning\, mening och gemensamt handlande. Hur kan vi som människor och samhälle möta klimatkris\, social oro och existentiell osäkerhet på sätt som fördjupar både handlingskraft och livsnärvaro? \n\n\n\nGenom att ge utrymme för känslor som sorg\, ilska\, hopp och kärlek och koppla dem till gemensam reflektion och handling bidrar workshopen att påverka i viktiga samhällsfrågor\, särskilt kring klimat\, hållbarhet\, demokrati och människans plats i det levande systemet. Med rötter i systemtänkande\, ekologi\, och folkbildning erbjuder Work That Reconnects verktyg för att arbeta med omställning som en levd\, relationell och kulturell praktik. Under workshopen arbetar vi genom Joanna Macys spiral för omställning.  \n\n\n\nDeltagaravgift: donation 100-250 kr Plats: Bilda\, Jörgen Ankersgatan 12 \n\n\n\nLäs mer om dagen och anmäl dig senast 15 maj här.
URL:https://www.kvakare.se/event/fordjupningsdag-malmo/
ATTACH;FMTTYPE=image/png:https://www.kvakare.se/wp-content/uploads/2024/02/image.png
ORGANIZER;CN="Kv%C3%A4karna i Malm%C3%B6":MAILTO:malmo@kvakare.se
END:VEVENT
BEGIN:VEVENT
DTSTART;TZID=Europe/Helsinki:20260523T150000
DTEND;TZID=Europe/Helsinki:20260523T160000
DTSTAMP:20260420T033732
CREATED:20251210T124827Z
LAST-MODIFIED:20251210T124829Z
UID:10025367-1779548400-1779552000@www.kvakare.se
SUMMARY:Andakt (Uppsala)
DESCRIPTION:Linnégatan 1.
URL:https://www.kvakare.se/event/andakt-uppsala-9/
ATTACH;FMTTYPE=image/png:https://www.kvakare.se/wp-content/uploads/2024/02/image.png
ORGANIZER;CN="Kv%C3%A4karna i Uppsala":MAILTO:uppsala@kvakare.se
END:VEVENT
BEGIN:VEVENT
DTSTART;TZID=Europe/Helsinki:20260523T160000
DTEND;TZID=Europe/Helsinki:20260523T163000
DTSTAMP:20260420T033732
CREATED:20260110T171052Z
LAST-MODIFIED:20260308T094820Z
UID:10023938-1779552000-1779553800@www.kvakare.se
SUMMARY:Eftermiddagsandakt med George Fox (Online)
DESCRIPTION:Du är välkommen att i stillhet och gemenskap upptäcka mer om kväkarnas andliga arv. Mitt i helgens alla måsten stannar vi upp för att vara med i en halvtimmes andakt som varje lördag inleds med ett nytt citat av George Fox. \n\n\n\nAndakterna börjar klockan 16.00 och slutar klockan 16.30.Kom när du kan! Välkommen! \n\n\n\nFör att få citaten i förväg kontakta: goteborg@kvakare.se.
URL:https://www.kvakare.se/event/eftermiddagsandakt-med-george-fox-online/2026-05-23/
ATTACH;FMTTYPE=image/jpeg:https://www.kvakare.se/wp-content/uploads/2024/01/George-Fox.jpg
ORGANIZER;CN="Kv%C3%A4karna i G%C3%B6teborg":MAILTO:goteborg@kvakare.se
END:VEVENT
BEGIN:VEVENT
DTSTART;TZID=Europe/Helsinki:20260524T110000
DTEND;TZID=Europe/Helsinki:20260524T120000
DTSTAMP:20260420T033732
CREATED:20250518T205923Z
LAST-MODIFIED:20250730T132244Z
UID:10022619-1779620400-1779624000@www.kvakare.se
SUMMARY:Andakt (Stockholm)
DESCRIPTION:Alla är välkomna. Du behöver inte anmäla dig. Efter andakten serveras fika till självkostnadspris.
URL:https://www.kvakare.se/event/andakt-i-stockholm/2026-05-24/
ATTACH;FMTTYPE=image/png:https://www.kvakare.se/wp-content/uploads/2024/02/image.png
ORGANIZER;CN="Kv%C3%A4karna i Stockholm":MAILTO:stockholm@kvakare.se
END:VEVENT
BEGIN:VEVENT
DTSTART;TZID=Europe/Helsinki:20260524T110000
DTEND;TZID=Europe/Helsinki:20260524T120000
DTSTAMP:20260420T033732
CREATED:20250707T144728Z
LAST-MODIFIED:20250730T155415Z
UID:10023603-1779620400-1779624000@www.kvakare.se
SUMMARY:Andakt (Online)
DESCRIPTION:Vi sitter tillsammans i tystnad och stillhet under cirka en timme för att rikta vår uppmärksamhet inåt. Den som känner sig manad från sitt inre att kort dela något under stillheten får gärna göra det. De som vill stannar kvar en liten stund efteråt för samtal och reflektioner kring tankar som kommit upp under andakten\, eller kring något ämne som någon känner är angeläget.
URL:https://www.kvakare.se/event/digital-andakt-15/2026-05-24/
ATTACH;FMTTYPE=image/png:https://www.kvakare.se/wp-content/uploads/2024/02/image.png
END:VEVENT
BEGIN:VEVENT
DTSTART;TZID=Europe/Helsinki:20260524T140000
DTEND;TZID=Europe/Helsinki:20260524T150000
DTSTAMP:20260420T033732
CREATED:20251116T143217Z
LAST-MODIFIED:20251116T143406Z
UID:10025181-1779631200-1779634800@www.kvakare.se
SUMMARY:Andakt (Lund)
DESCRIPTION:
URL:https://www.kvakare.se/event/andakt-lund-4/2026-05-24/
ATTACH;FMTTYPE=image/png:https://www.kvakare.se/wp-content/uploads/2024/02/image.png
ORGANIZER;CN="Kv%C3%A4karna i Lund":MAILTO:lund@kvakare.se
END:VEVENT
END:VCALENDAR